BEGIN:VCALENDAR
VERSION:2.0
PRODID:-//Federal Bar Association - ECPv6.15.15//NONSGML v1.0//EN
CALSCALE:GREGORIAN
METHOD:PUBLISH
X-ORIGINAL-URL:https://www.fedbar.org
X-WR-CALDESC:Events for Federal Bar Association
REFRESH-INTERVAL;VALUE=DURATION:PT1H
X-Robots-Tag:noindex
X-PUBLISHED-TTL:PT1H
BEGIN:VTIMEZONE
TZID:UTC
BEGIN:STANDARD
TZOFFSETFROM:+0000
TZOFFSETTO:+0000
TZNAME:UTC
DTSTART:20230101T000000
END:STANDARD
END:VTIMEZONE
BEGIN:VEVENT
DTSTART;TZID=UTC:20241108T123000
DTEND;TZID=UTC:20241108T133000
DTSTAMP:20260420T231625
CREATED:20241021T212336Z
LAST-MODIFIED:20241021T212336Z
UID:603797-1731069000-1731072600@www.fedbar.org
SUMMARY:Chapter Monthly Board Meeting
DESCRIPTION:Chapter Monthly Board Meeting (12:30 p.m. Zoom)
URL:https://www.fedbar.org/event/chapter-monthly-board-meeting-3/
CATEGORIES:Eastern District of New York Chapter
END:VEVENT
END:VCALENDAR