BEGIN:VCALENDAR
VERSION:2.0
PRODID:-//Federal Bar Association - ECPv6.15.15//NONSGML v1.0//EN
CALSCALE:GREGORIAN
METHOD:PUBLISH
X-ORIGINAL-URL:https://www.fedbar.org
X-WR-CALDESC:Events for Federal Bar Association
REFRESH-INTERVAL;VALUE=DURATION:PT1H
X-Robots-Tag:noindex
X-PUBLISHED-TTL:PT1H
BEGIN:VTIMEZONE
TZID:UTC
BEGIN:STANDARD
TZOFFSETFROM:+0000
TZOFFSETTO:+0000
TZNAME:UTC
DTSTART:20230101T000000
END:STANDARD
END:VTIMEZONE
BEGIN:VEVENT
DTSTART;TZID=UTC:20241008T150000
DTEND;TZID=UTC:20241008T160000
DTSTAMP:20260420T231622
CREATED:20241021T211900Z
LAST-MODIFIED:20241021T211900Z
UID:603809-1728399600-1728403200@www.fedbar.org
SUMMARY:Chapter Annual Board Meeting
DESCRIPTION:Chapter Annual Board Meeting (3:00 p.m. in-person (Uniondale))
URL:https://www.fedbar.org/event/chapter-annual-board-meeting/
CATEGORIES:Eastern District of New York Chapter
END:VEVENT
BEGIN:VEVENT
DTSTART;TZID=UTC:20241008T160000
DTEND;TZID=UTC:20241008T163000
DTSTAMP:20260420T231622
CREATED:20241021T212041Z
LAST-MODIFIED:20241021T212041Z
UID:603808-1728403200-1728405000@www.fedbar.org
SUMMARY:Civil Practice Update CLE
DESCRIPTION:Civil Practice Update CLE (4:00 Reception; 4:30 p.m. in-person (Uniondale))
URL:https://www.fedbar.org/event/civil-practice-update-cle/
CATEGORIES:Eastern District of New York Chapter
END:VEVENT
END:VCALENDAR