BEGIN:VCALENDAR
VERSION:2.0
PRODID:-//Federal Bar Association - ECPv6.15.15//NONSGML v1.0//EN
CALSCALE:GREGORIAN
METHOD:PUBLISH
X-ORIGINAL-URL:https://www.fedbar.org
X-WR-CALDESC:Events for Federal Bar Association
REFRESH-INTERVAL;VALUE=DURATION:PT1H
X-Robots-Tag:noindex
X-PUBLISHED-TTL:PT1H
BEGIN:VTIMEZONE
TZID:America/New_York
BEGIN:DAYLIGHT
TZOFFSETFROM:-0500
TZOFFSETTO:-0400
TZNAME:EDT
DTSTART:20230312T070000
END:DAYLIGHT
BEGIN:STANDARD
TZOFFSETFROM:-0400
TZOFFSETTO:-0500
TZNAME:EST
DTSTART:20231105T060000
END:STANDARD
BEGIN:DAYLIGHT
TZOFFSETFROM:-0500
TZOFFSETTO:-0400
TZNAME:EDT
DTSTART:20240310T070000
END:DAYLIGHT
BEGIN:STANDARD
TZOFFSETFROM:-0400
TZOFFSETTO:-0500
TZNAME:EST
DTSTART:20241103T060000
END:STANDARD
BEGIN:DAYLIGHT
TZOFFSETFROM:-0500
TZOFFSETTO:-0400
TZNAME:EDT
DTSTART:20250309T070000
END:DAYLIGHT
BEGIN:STANDARD
TZOFFSETFROM:-0400
TZOFFSETTO:-0500
TZNAME:EST
DTSTART:20251102T060000
END:STANDARD
END:VTIMEZONE
BEGIN:VEVENT
DTSTART;TZID=America/New_York:20240724T140000
DTEND;TZID=America/New_York:20240724T150000
DTSTAMP:20260421T071939
CREATED:20240712T165321Z
LAST-MODIFIED:20240722T172955Z
UID:524803-1721829600-1721833200@www.fedbar.org
SUMMARY:Beyond the Headlines: Key SCOTUS Civil Rights Decisions from the 2023-24 Term
DESCRIPTION:If you’ve been paying attention to the news this year\, you already know that the U.S. Supreme Court’s October 2023 term has been hugely consequential\, with some opinions that could be best described as seismic\, impacting the civil rights of millions of Americans. In this CLE program\, we’ll go beyond the headlines to identify and discuss not only Supreme Court decisions in the areas of voting rights and gender and reproductive rights\, but also the Court’s docket of civil rights cases affecting the First Amendment\, the Second Amendment\, immigration\, and more. The panelists will discuss important holdings and share their insights on the practical ramifications of this term’s rulings and perspectives on future civil rights decisions at the Court. This session is perfect for civil rights practitioners\, court watchers\, and the civil-rights-curious\, who’d like a more comprehensive look at civil rights cases and trends at the Supreme Court. Featuring Sam Brandao\, Director of Tulane’s Civil Rights and Federal Practice Clinic\, and Benjamin de Seingalt\, an in-house privacy and compliance attorney\, this CLE program is sponsored by the FBA’s Civil Rights Law Section. \nREGISTER NOW!\n\nAbout the Presenters\nModerator: Ben de Seingalt\nBenjamin de Seingalt is the Corporate Counsel and Director of Compliance and Privacy for MarketVision Research\, one of the largest primary market research and consulting firms in the United States. His work focuses on global privacy compliance\, corporate social responsibility\, artificial intelligence\, and post-market drug surveillance. Ben is also a Senior Fellow at the Lawyers’ Committee for Cultural Heritage Preservation and serves on the board of the Federal Bar Association’s Section on Civil Rights\, the BHBIA’s Ethics and Compliance Committee\, ESOMAR’s AI Task Force\, Intellus’ Data Integrity and Artificial Intelligence Task Force\, and the Insights Association’s Standards Committee. He is a graduate of Tulane University Law School\, the A.B. Freeman School of Business\, and Washington College. \nSamuel T. Brandao\nSam Brandao is a Clinical Assistant Professor of Law with experience enforcing civil rights including fair housing\, rights protected by the Fourth Amendment\, and disability rights. He is the Director of Tulane University Law School’s Civil Rights and Federal Practice Clinic\, where he supervises student-attorneys in a range of client representation\, including federal cases involving the civil rights of incarcerated citizens\, police misconduct\, employment discrimination\, housing discrimination\, and other constitutional claims. He joined the law faculty in 2016 after completing a two-year Skadden Fellowship\, during which he served as a staff attorney at Southeast Louisiana Legal Services in New Orleans. At SLLS\, he litigated housing discrimination cases and advocated for policy changes on behalf of people with disabilities. Brandao clerked for United States District Judge Eldon E. Fallon of the Eastern District of Louisiana and for Circuit Judge Jacques L. Wiener\, Jr. of the United States Court of Appeals for the Fifth Circuit. \n\nRegistration\nRegister Here!\n\nLive Broadcast | FBA Member: $0\nLive Broadcast | Nonmember: $95\nOn-Demand Broadcast | FBA Member: $50\nOn-Demand Broadcast | Nonmember: $95\n\n\n\n\n\n\n\n\n\nCLE\nPlease note: CLE for this webinar has not been pre-approved.\nMyLaw and the FBA will seek 1.0 General CLE credit hours in 60-minute states\, and 1.2 General CLE credit hours in 50-minute states. \nPosted credit hours are estimated and subject to respective state approval and rounding rules. CLE qualifications vary by state/jurisdiction. \nFor questions regarding this program\, please contact MyLaw CLE by email: registration@mylawcle.com or phone: 877-406-8636.\n\n\n\n\n\n\n\n\nEmail Communication Policy\nBy registering for this event\, you agree to receive email communication from the Federal Bar Association and affiliated sponsors of the program concerning event details\, Continuing Legal Education certification\, programming changes\, upcoming events\, surveys\, and post-event communications. \nRecording Disclaimer\nBy registering for an online FBA program\, you agree to the recording of audio and visual content presented during the live event and consent to subsequent use of the recording by the FBA. You agree that the recording is the sole property of the FBA and that the recording may be used by the FBA in any manner in its sole and absolute discretion. This recording may include questions and poll responses provided by you during the live event. If you do not consent to the recording and the FBA’s use of the same\, do not register for the event.
URL:https://www.fedbar.org/event/webinar-scotus-civil-rights-update-2024/
CATEGORIES:Civil Rights Law Section
END:VEVENT
END:VCALENDAR