BEGIN:VCALENDAR
VERSION:2.0
PRODID:-//Federal Bar Association - ECPv6.15.15//NONSGML v1.0//EN
CALSCALE:GREGORIAN
METHOD:PUBLISH
X-ORIGINAL-URL:https://www.fedbar.org
X-WR-CALDESC:Events for Federal Bar Association
REFRESH-INTERVAL;VALUE=DURATION:PT1H
X-Robots-Tag:noindex
X-PUBLISHED-TTL:PT1H
BEGIN:VTIMEZONE
TZID:America/New_York
BEGIN:DAYLIGHT
TZOFFSETFROM:-0500
TZOFFSETTO:-0400
TZNAME:EDT
DTSTART:20200308T070000
END:DAYLIGHT
BEGIN:STANDARD
TZOFFSETFROM:-0400
TZOFFSETTO:-0500
TZNAME:EST
DTSTART:20201101T060000
END:STANDARD
BEGIN:DAYLIGHT
TZOFFSETFROM:-0500
TZOFFSETTO:-0400
TZNAME:EDT
DTSTART:20210314T070000
END:DAYLIGHT
BEGIN:STANDARD
TZOFFSETFROM:-0400
TZOFFSETTO:-0500
TZNAME:EST
DTSTART:20211107T060000
END:STANDARD
BEGIN:DAYLIGHT
TZOFFSETFROM:-0500
TZOFFSETTO:-0400
TZNAME:EDT
DTSTART:20220313T070000
END:DAYLIGHT
BEGIN:STANDARD
TZOFFSETFROM:-0400
TZOFFSETTO:-0500
TZNAME:EST
DTSTART:20221106T060000
END:STANDARD
BEGIN:DAYLIGHT
TZOFFSETFROM:-0500
TZOFFSETTO:-0400
TZNAME:EDT
DTSTART:20230312T070000
END:DAYLIGHT
BEGIN:STANDARD
TZOFFSETFROM:-0400
TZOFFSETTO:-0500
TZNAME:EST
DTSTART:20231105T060000
END:STANDARD
BEGIN:DAYLIGHT
TZOFFSETFROM:-0500
TZOFFSETTO:-0400
TZNAME:EDT
DTSTART:20240310T070000
END:DAYLIGHT
BEGIN:STANDARD
TZOFFSETFROM:-0400
TZOFFSETTO:-0500
TZNAME:EST
DTSTART:20241103T060000
END:STANDARD
BEGIN:DAYLIGHT
TZOFFSETFROM:-0500
TZOFFSETTO:-0400
TZNAME:EDT
DTSTART:20250309T070000
END:DAYLIGHT
BEGIN:STANDARD
TZOFFSETFROM:-0400
TZOFFSETTO:-0500
TZNAME:EST
DTSTART:20251102T060000
END:STANDARD
BEGIN:DAYLIGHT
TZOFFSETFROM:-0500
TZOFFSETTO:-0400
TZNAME:EDT
DTSTART:20260308T070000
END:DAYLIGHT
BEGIN:STANDARD
TZOFFSETFROM:-0400
TZOFFSETTO:-0500
TZNAME:EST
DTSTART:20261101T060000
END:STANDARD
BEGIN:DAYLIGHT
TZOFFSETFROM:-0500
TZOFFSETTO:-0400
TZNAME:EDT
DTSTART:20270314T070000
END:DAYLIGHT
BEGIN:STANDARD
TZOFFSETFROM:-0400
TZOFFSETTO:-0500
TZNAME:EST
DTSTART:20271107T060000
END:STANDARD
END:VTIMEZONE
BEGIN:VEVENT
DTSTART;TZID=America/New_York:20260212T090000
DTEND;TZID=America/New_York:20260212T140000
DTSTAMP:20260423T012722
CREATED:20260122T143018Z
LAST-MODIFIED:20260122T143823Z
UID:971849-1770886800-1770904800@www.fedbar.org
SUMMARY:Civil Rights Section and Atlanta Chapter: Civil Rights Etouffee on the Road: Atlanta
DESCRIPTION:Our Biannual Civil Rights Etouffee is such a hit\, we’re taking it on the road!\nJoin us in Atlanta at the Carter Center on February 12 to discuss education law\, disability rights\, and other civil rights law\, with keynote speaker Hon. Amy Totenberg. \nThe morning event includes 3 CLE credits\, legal updates and analysis\, lunch\, and camaraderie with fellow attorneys. This event is relevant to a variety of attorneys\, from experienced practitioners seeking new developments in disability rights and education law to those just starting their practice and interested in exploring civil rights. It’s also a great opportunity for attorneys looking to take on pro bono matters or simply interested in gaining CLE credits with interesting speakers in a unique venue. \nThe program features panels led by experienced civil rights practitioners who will address timely and practical civil rights topics. The program will also include a keynote address by the Honorable Amy Totenberg of the U.S. District Court for the Northern District of Georgia. \nLunch will be provided\, and attendees will have meaningful opportunities to network with fellow practitioners and speakers. Admission is free for federal judges and law clerks. \nLearn More & Register!\n 
URL:https://www.fedbar.org/event/civil-rights-section-and-atlanta-chapter-civil-rights-etouffee-on-the-road-atlanta/
CATEGORIES:Atlanta Chapter,Civil Rights Law Section
END:VEVENT
BEGIN:VEVENT
DTSTART;TZID=America/New_York:20211006T140000
DTEND;TZID=America/New_York:20211006T150000
DTSTAMP:20260423T012722
CREATED:20210908T214231Z
LAST-MODIFIED:20211005T195719Z
UID:164586-1633528800-1633532400@www.fedbar.org
SUMMARY:Webinar: A Call to Action: Stepping Up to Lead and Effectuate Change in a Time of Crisis
DESCRIPTION:This CLE presents a unique training opportunity led by Dr. Artika Tyner\, author of the award-winning book\, The Lawyer as Leader: How to Plant People and Grow Justice\, for newer and younger attorneys to support their efforts and participation in the FBA Younger Lawyer Division’s Annual StepUp Pro Bono Challenge. In FY2020\, then-YLD Chair Adine S. Momoh led a Call to Action following George Floyd’s tragic death and the civil unrest across Minnesota\, the country and world. The YLD issued a statement and provided resources to help younger attorneys respond. The YLD then initiated a national pro bono challenge\, the StepUp Pro Bono Challenge\, and encouraged younger attorneys to step up and perform pro bono specifically addressing issues of systemic racism\, socio-economic injustice\, and access to justice. The YLD Board has since adopted it as an annual program.  In the training\, Dr. Tyner will explore her book and discuss tangible ways lawyers can use their legal skills to advocate for change in marginalized communities. Participants will learn how they can use their skills\, position\, and authority to create equal access to justice. Participants will leave motivated and with concrete action items for how they can assist in bringing about change in our communities. \nPresented by the Younger Lawyers Division\nWebinar Sponsored by: \n\nDiversity\, Equity and Inclusion Committee\nMinnesota Chapter\nAtlanta Chapter\nUtah Chapter\n\nRegistration for this event is now closed. \n\nAbout the Presenters\nDr. Artika R. Tyner\, Director of Center on Race\, Leadership and Social Justice\, University of St. Thomas School of Law\, Minneapolis\, MN  \nDr. Artika R. Tyner is a passionate educator\, author\, sought after speaker\, and advocate for justice. At the University of St. Thomas School of Law\, Dr. Tyner serves as the founding director of the Center on Race\, Leadership and Social Justice. She is committed to training students to serve as social engineers who create new inroads to justice and freedom. \nTyner received her B.A. from Hamline University (Major: English; Certificate: Conflict Studies). Due to her passion for advocating for social justice and educational policy reform\, she decided to pursue graduate studies at the University of St. Thomas. She began her journey with law school since she recognized that the law is a language of power and therefore she sought to become well versed in the law. \nSubsequently\, Tyner earned a Master of Public Policy and Leadership in order to gain tools for effecting social change through policy reform efforts. Later\, inspired by the legacy of W.E.B. Dubois\, she obtained a Doctorate in Leadership. Her doctoral studies provided her with key tools for serving in her community and promoting social justice. \nDr. Tyner is committed to empowering others to lead within their respective spheres of influence. She provides leadership development and career coaching for young professionals. She has also developed leadership educational materials for K-12 students\, college/graduate students\, faith communities and nonprofits. Additionally\, Dr. Tyner teaches leadership coursework on ethics\, critical reflection\, and organizational development. Her research focuses on diversity/inclusion\, community development\, and civil rights. She has presented her research and conducted leadership training programs both nationally and internationally. \nDr. Tyner leads by example by organizing policy campaigns\, fostering restorative justice practices\, developing social entrepreneurship initiatives\, and promoting assets-based community development. She serves as a global citizen by supporting education\, entrepreneurship\, and women’s leadership initiatives in Africa. \n \n\nRegistration\nRegistration for this event is now closed. \nRegistration Fees \n\nFBA Member: $0\nNonmember: $75\n\nLive Captioning: Closed captioning is available for all virtual webcasts. \nCancellation Policy: No refunds will be made for cancellations received after the close of business on September 29\, 2021. No-shows will be billed. Substitutions may be made at any time upon notification. Please contact Ariel White at awhite@fedbar.org with cancellation and/or substitution requests. \nInternet Requirements: Virtual programs require suitable internet strength to stream online panels. A minimum internet connection of 800 Kbps is recommended for an optimal attendee experience. Test your connection here.  \n\nCLE\nCLE: 1 CLE Credit (60min state) / 1.2 CLE Credit (50min state) \nCLE Credit will be processed/reported approximately 4-6 weeks after the event date and available for credit in states that allow credit for live webinar presentations. You must attend the live broadcast\, answer engagement polls\, and accurately enter your bar number in our database to receive credit. Certificates and required documentation for self-reporting states will be issued via email\, upon state bar approval. Thank you in advance for your patience\, as state bars are experiencing significant delays with virtual program processing. \nClick Here for more information on CLE Attendance and Reporting. \n\nEmail Communication Policy: By registering for this event\, you agree to receive email communications from the Federal Bar Association and affiliated sponsors of the program concerning event details\, Continuing Legal Education certification\, programming changes\, upcoming events\, surveys\, and post-event communications. \nRecording Disclaimer: By registering for an FBA webinar\, you agree to the recording of audio and visual content presented during the live event and consent to subsequent use of the recording by the FBA. You agree that the recording is the sole property of the FBA and that the recording may be used by the FBA in any manner in its sole and absolute discretion. This recording may include questions and poll responses provided by you during the live event. If you do not consent to the recording and the FBA’s use of the same\, do not register for the event. \nIf you have any questions regarding this program\, please contact Ariel White\, Program Coordinator\, at awhite@fedbar.org
URL:https://www.fedbar.org/event/a-call-to-action-stepping-up-to-lead-and-effectuate-change-in-a-time-of-crisis/
LOCATION:Online\, US
CATEGORIES:Atlanta Chapter,Diversity & Inclusion,Minnesota Chapter,Younger Lawyers Division
GEO:37.09024;-95.712891
END:VEVENT
END:VCALENDAR