BEGIN:VCALENDAR
VERSION:2.0
PRODID:-//Federal Bar Association - ECPv6.15.15//NONSGML v1.0//EN
CALSCALE:GREGORIAN
METHOD:PUBLISH
X-ORIGINAL-URL:https://www.fedbar.org
X-WR-CALDESC:Events for Federal Bar Association
REFRESH-INTERVAL;VALUE=DURATION:PT1H
X-Robots-Tag:noindex
X-PUBLISHED-TTL:PT1H
BEGIN:VTIMEZONE
TZID:America/New_York
BEGIN:DAYLIGHT
TZOFFSETFROM:-0500
TZOFFSETTO:-0400
TZNAME:EDT
DTSTART:20230312T070000
END:DAYLIGHT
BEGIN:STANDARD
TZOFFSETFROM:-0400
TZOFFSETTO:-0500
TZNAME:EST
DTSTART:20231105T060000
END:STANDARD
BEGIN:DAYLIGHT
TZOFFSETFROM:-0500
TZOFFSETTO:-0400
TZNAME:EDT
DTSTART:20240310T070000
END:DAYLIGHT
BEGIN:STANDARD
TZOFFSETFROM:-0400
TZOFFSETTO:-0500
TZNAME:EST
DTSTART:20241103T060000
END:STANDARD
BEGIN:DAYLIGHT
TZOFFSETFROM:-0500
TZOFFSETTO:-0400
TZNAME:EDT
DTSTART:20250309T070000
END:DAYLIGHT
BEGIN:STANDARD
TZOFFSETFROM:-0400
TZOFFSETTO:-0500
TZNAME:EST
DTSTART:20251102T060000
END:STANDARD
END:VTIMEZONE
BEGIN:VEVENT
DTSTART;TZID=America/New_York:20241106T120000
DTEND;TZID=America/New_York:20241106T130000
DTSTAMP:20260421T095608
CREATED:20241004T142708Z
LAST-MODIFIED:20241105T194410Z
UID:559112-1730894400-1730898000@www.fedbar.org
SUMMARY:Immigration Law Section: Chevron Sleeps with the Fishes: Immigration Litigation After Loper Bright
DESCRIPTION:**Program hosted in (ET) Time Zone** \nJoin the Immigration Law Section’s Newer Lawyers Division on Wednesday\, November 6 at 12:00 pm (ET). Panelists\, Kevin A. Gregg\, partner of Kurzban Kurzban Tetzeli and Pratt P.A.\, and host of the weekly immigration case law podcast Immigration Review\, and Brad Banias\, federal court immigration litigator and former DOJ trial attorney\, will discuss the impact of the Supreme Court’s recent decision in Loper Bright Enterprises v. Raimondo on immigration litigation. \nRegistration for this event is now closed.\n  \nPresented by the Immigration Law Section \n  \n\nPresenters\n  \nKevin A. Gregg\, Partner\, Kurzban Kurzban Tetzeli and Pratt P.A.  \nKevin A. Gregg is the San Diego partner of Kurzban Kurzban Tetzeli and Pratt P.A. He is also the host of the weekly immigration case law podcast Immigration Review. Prior to joining KKTP\, Kevin clerked for a U.S. District Judge in the Southern District of Florida and served as an Attorney Advisor in the San Diego Immigration Court.\n \n  \n  \n  \n  \n  \n Brad Banias\, Banias Law LLC \nBrad Banias is a solo practitioner in Charleston\, South Carolina. He is also a founder of Pro Se Pro\, LLC\, a legal service company that assists pro se litigants in federal court. After law school\, Brad clerked for a federal district court judge and then a federal circuit court judge\, got an LLM\, and worked as a trial attorney at the United States Department of Justice. \n  \n  \n  \n  \n  \n  \n\nRegistration\nRegistration for this event is now closed.  \n\nRegistration Fees \n\nComplimentary for FBA Members & Non-Members\n\nLive Captioning: Closed captioning is available for all virtual webcasts. \nInternet Requirements: Virtual programs require suitable internet strength to stream online panels. A minimum internet connection of 800 Kbps is recommended for an optimal attendee experience. Test your connection here. \n  \n\nEvent Contact\nMaya Lugasy\nmlugasy@brown-immigration.com \n\nCLE\nPlease note CLE will not be offered for this event.  \n\nFrequently Asked Questions \nQ: How do I access the virtual webinar?\nA: Each webinar will have a unique link to watch the live broadcast. Registered attendees will receive login instructions via a calendar invitations 24 hours prior to the webinar. \nQ: Will recordings of the sessions be available after the event?\nA: Approved sessions will be available for registrants to view live and on-demand following the webinar. \nQ: Who do I contact for more information?\nA: Please contact Tami Tice Jacobs (Tami@amarylaw.com) or sections@fedbar.org for any other questions. \n  \n\nEmail Communication Policy\nBy registering for this event\, you agree to receive email communication from the Federal Bar Association and affiliated sponsors of the program concerning event details\, Continuing Legal Education certification\, programming changes\, upcoming events\, surveys\, and post-event communications. \nRecording Disclaimer\nBy registering for an online FBA program\, you agree to the recording of audio and visual content presented during the live event and consent to subsequent use of the recording by the FBA. You agree that the recording is the sole property of the FBA and that the recording may be used by the FBA in any manner in its sole and absolute discretion. This recording may include questions and poll responses provided by you during the live event. If you do not consent to the recording and the FBA’s use of the same\, do not register for the event. \n 
URL:https://www.fedbar.org/event/chevron-sleeps-with-the-fishes-immigration-litigation-after-loper-bright/
CATEGORIES:Immigration Law Section
END:VEVENT
BEGIN:VEVENT
DTSTART;TZID=America/New_York:20241106T140000
DTEND;TZID=America/New_York:20241106T150000
DTSTAMP:20260421T095608
CREATED:20241011T152702Z
LAST-MODIFIED:20241113T093808Z
UID:590212-1730901600-1730905200@www.fedbar.org
SUMMARY:Webinar: Non-Competes: The Rocky Landscape and a Path Forward
DESCRIPTION:**Program hosted in (ET) Time Zone** \nThis panel will discuss the recent\, rapid\, and major developments in the field of non-competes. The FTC was expected to enforce its final rule on non-competes in September of 2024\, but litigation prevented its roll out – for now. Both corporate defense attorneys and plaintiff’s attorneys should be keenly interested in hearing the ins and outs of these new developments and what the state of the current litigation means for their clients. \nPresented by the Labor and Employment Law Section \n  \n Register Here\n  \n\nAbout the Presenters\nModerator\, Nico Stillwell\, Attorney\, ELM Law \nAfter receiving their law degree from Washington University School of Law\, Nico clerked on the Missouri Court of Appeals\, Western District for the Honorable Alok Ahuja. Since then\, Nico has assisted clients in navigating litigation and arbitration matters across the country\, including in the Fourth\, Fifth\, and Eighth Circuits. Currently\, Nico manages the appellate division for ELM Law\, a plaintiff’s firm specializing in civil rights and discrimination-based litigation. \n  \n  \n  \n  \n  \n  \nStacey R. Gilman\, Partner\, Berkowitz Oliver\, LLP \nStacey Gilman is an experienced civil litigator whose practice focuses on business litigation\, intellectual property\, professional liability\, consumer\, and other complex commercial matters. For more than twenty-five years\, she has successfully represented clients in complex and high-profile disputes\, including trademark\, copyright\, patent\, trade secret\, restrictive covenant\, cybersquatting\, advertising\, unfair competition and class action matters\, just to name a few. Recognized as a “Super Lawyer” by her peers and selected as a Fellow of the American Bar Foundation for her extraordinary leadership in the legal profession\, Stacey has extensive trial and arbitration experience in state\, federal and international tribunals. Stacey also serves as an arbitrator\, and is a member of the American Arbitration Association® National Roster of Arbitrators. Whether Stacey’s client is a Fortune 500 company\, a small business\, or an individual\, Stacey personifies Berkowitz Oliver’s people-first philosophy by staying accessible and prioritizing her clients’ goals at every juncture. Her longstanding relationships with clients who routinely turn to her not only as trial counsel but also for day-to-day and pre-suit legal advice\, are a testament to the care and consideration she gives every case entrusted to her. A former newspaper editor\, Stacey continues to publish work on intellectual property\, the Freedom of Information Act\, and notable developments in the law. She also dedicates her time to several non-profit organizations benefitting children’s causes\, the homeless\, and the community at large; and serves as a frequent lecturer at the University of Kansas School of Business. \n  \n  \nTony Durone\, Co-Managing Partner\, Berkowitz Oliver\, LLP \nTony Durone has extensive experience in business litigation and\, in particular\, representing companies and professionals in the financial services and lending industries\, including securities broker/dealers\, accounting firms\, tax preparation firms\, banks\, consumer loan lenders and other financial service providers. He has served as lead and trial counsel in hundreds of cases involving professional negligence claims\, business torts\, unfair competition\, restrictive covenant\, trademark and data privacy issues.  He has litigated cases in more than thirty-five states and tried cases in more than a dozen\, in state and federal court\, in FINRA and other arbitration forums and before the SEC\, CFTC and state securities commissions. Tony graduated cum laude from the University of Missouri-Columbia School of Law in 1995\, and served as Note and Comment Editor for and was published in the Missouri Law Review. In addition\, he has been recognized as a top litigator by his peers\, including in the annual publication of Benchmark Litigation\, and by Martindale-Hubbell with a rating of AV Preeminent. He is also involved in several local community organizations and he served from 2007 to 2010 as the Co-Chair for the annual Kansas City Spirit Awards Gala\, benefiting Gillis House for Families and Children.  Tony also serves as President of the Board of Trustees for the Lyric Opera of Kansas City. \n  \n  \n  Russell Beck\, Partner\, Beck Reed Riden LLP\n \nRussell is a business litigator\, nationally recognized for his trade secrets\, restrictive covenant\, and employee mobility experience. He was invited to the Obama White House to develop guidelines for the proper use of noncompetes\, has been cited as an expert on trade secrets and noncompetes by The New York Times\, The Wall Street Journal\, U.S. Department of the Treasury\, National Public Radio\, BBC World News Service\, PBS Newshour\, Le Monde\, and many others\, drafted much of the language in the 2018 overhaul of Massachusetts noncompete and trade secrets law\, and prepared his firm’s widely used 50 State Noncompete Survey (the first of its kind and updated regularly since 2010) and the firm’s 50 State Trade Secrets Comparison Chart (also the first of its kind). He writes and administers the award-winning Fair Competition Law blog\, is the author of the books\, Negotiating\, Drafting\, and Enforcing Noncompetition Agreements and Related Restrictive Covenants (6th ed.\, MCLE\, Inc. 2021) and Trade Secrets Law for the Massachusetts Practitioner (1st ed.\, MCLE 2019)\, and teaches Trade Secrets and Restrictive Covenants at Boston University School of Law. Russell also served as President of the Boston Bar Foundation. \n  \n\n\n\n\n\n\n\n Registration\nRegister here \n\nLive Broadcast | FBA Member: $0\nLive Broadcast | Nonmember: $95\nOn-Demand Broadcast | FBA Member: $50\nOn-Demand Broadcast | Nonmember: $95\n\n\n\nCLE\nPlease note: CLE for this webinar has not been pre-approved.\nMyLaw and the FBA will seek 1.0 General CLE credit hours in 60-minute states\, and 1.2 General CLE credit hours in 50-minute states. \nPosted credit hours are estimated and subject to respective state approval and rounding rules. CLE qualifications vary by state/jurisdiction. \nFor questions regarding this program\, please contact MyLaw CLE by email: registration@mylawcle.com or phone: 877-406-8636.\n\n\n\n\n\n\n\n\nEmail Communication Policy\nBy registering for this event\, you agree to receive email communication from the Federal Bar Association and affiliated sponsors of the program concerning event details\, Continuing Legal Education certification\, programming changes\, upcoming events\, surveys\, and post-event communications. \nRecording Disclaimer\nBy registering for an online FBA program\, you agree to the recording of audio and visual content presented during the live event and consent to subsequent use of the recording by the FBA. You agree that the recording is the sole property of the FBA and that the recording may be used by the FBA in any manner in its sole and absolute discretion. This recording may include questions and poll responses provided by you during the live event. If you do not consent to the recording and the FBA’s use of the same\, do not register for the event. \n 
URL:https://www.fedbar.org/event/labor-and-employment-section-webinar-non-competes-the-rocky-landscape-and-a-path-forward/
CATEGORIES:Labor Employment Law Section
END:VEVENT
END:VCALENDAR