BEGIN:VCALENDAR
VERSION:2.0
PRODID:-//Federal Bar Association - ECPv6.15.15//NONSGML v1.0//EN
CALSCALE:GREGORIAN
METHOD:PUBLISH
X-ORIGINAL-URL:https://www.fedbar.org
X-WR-CALDESC:Events for Federal Bar Association
REFRESH-INTERVAL;VALUE=DURATION:PT1H
X-Robots-Tag:noindex
X-PUBLISHED-TTL:PT1H
BEGIN:VTIMEZONE
TZID:America/New_York
BEGIN:DAYLIGHT
TZOFFSETFROM:-0500
TZOFFSETTO:-0400
TZNAME:EDT
DTSTART:20230312T070000
END:DAYLIGHT
BEGIN:STANDARD
TZOFFSETFROM:-0400
TZOFFSETTO:-0500
TZNAME:EST
DTSTART:20231105T060000
END:STANDARD
BEGIN:DAYLIGHT
TZOFFSETFROM:-0500
TZOFFSETTO:-0400
TZNAME:EDT
DTSTART:20240310T070000
END:DAYLIGHT
BEGIN:STANDARD
TZOFFSETFROM:-0400
TZOFFSETTO:-0500
TZNAME:EST
DTSTART:20241103T060000
END:STANDARD
BEGIN:DAYLIGHT
TZOFFSETFROM:-0500
TZOFFSETTO:-0400
TZNAME:EDT
DTSTART:20250309T070000
END:DAYLIGHT
BEGIN:STANDARD
TZOFFSETFROM:-0400
TZOFFSETTO:-0500
TZNAME:EST
DTSTART:20251102T060000
END:STANDARD
END:VTIMEZONE
BEGIN:VEVENT
DTSTART;TZID=America/New_York:20241030T120000
DTEND;TZID=America/New_York:20241030T133000
DTSTAMP:20260421T180813
CREATED:20240815T152949Z
LAST-MODIFIED:20241113T093743Z
UID:539206-1730289600-1730295000@www.fedbar.org
SUMMARY:Qui Tam Section: [VIRTUAL] Scienter in the Aftermath of SuperValu
DESCRIPTION:**Program hosted in (ET) time zone**\n\nMore than a year ago\, the Supreme Court in SuperValu substantively addressed the False Claims Act’s scienter element\, holding that scienter refers to a particular defendant’s knowledge and subjective beliefs\, not to what an objectively reasonable person may have known or believed. This panel will examine how lower courts have interpreted and applied SuperValu\, trends in those decisions that may impact how False Claims Act cases are pursued and defended\, practice pointers\, and open issues to be decided. \n***This Event does not offer CLE credit*** \n                                               [Register Today]\n\n  \nPresented by the FBA Qui Tam Section \n  \nSPEAKERS\nMichael D. Granston\, United States Department of Justice\n \n\n\n\n\n  \n  \n  \n  \n  \n  \n  \nLon Leavitt\, U.S. Attorney’s Office\, District of Arizona (Moderator)\n \n  \n  \nJessica M. Andrade\, Polsinelli \n \n  \n  \nErika B. Hitchings\, Whistleblower Law Collaborative \n \n  \n  \nRegistration\n[Register Online] \n\nFBA Members: $0\nNon-Members: $0\n\n  \n\nCLE\nPlease note that CLE credit is not offered for this webinar. \n  \n\nEmail Communication Policy \nBy registering for this event\, you agree to receive email communications from the Federal Bar Association and affiliated sponsors of the program concerning event details\, Continuing Legal Education certification\, programming changes\, upcoming events\, surveys\, and post-event communications. \nRecording Disclaimer \nBy registering for an FBA webinar\, you agree to the recording of audio and visual content presented during the live event and consent to subsequent use of the recording by the FBA. You agree that the recording is the sole property of the FBA and that the recording may be used by the FBA in any manner in its sole and absolute discretion. This recording may include questions and poll responses provided by you during the live event. If you do not consent to the recording and the FBA’s use of the same\, do not register for the event. \nIf you have any questions regarding this program\, please contact sections@fedbar.org. \n  \n  \n 
URL:https://www.fedbar.org/event/qui-tam-scienter/
CATEGORIES:Qui Tam Section
END:VEVENT
END:VCALENDAR