BEGIN:VCALENDAR
VERSION:2.0
PRODID:-//Federal Bar Association - ECPv6.15.15//NONSGML v1.0//EN
CALSCALE:GREGORIAN
METHOD:PUBLISH
X-ORIGINAL-URL:https://www.fedbar.org
X-WR-CALDESC:Events for Federal Bar Association
REFRESH-INTERVAL;VALUE=DURATION:PT1H
X-Robots-Tag:noindex
X-PUBLISHED-TTL:PT1H
BEGIN:VTIMEZONE
TZID:America/New_York
BEGIN:DAYLIGHT
TZOFFSETFROM:-0500
TZOFFSETTO:-0400
TZNAME:EDT
DTSTART:20230312T070000
END:DAYLIGHT
BEGIN:STANDARD
TZOFFSETFROM:-0400
TZOFFSETTO:-0500
TZNAME:EST
DTSTART:20231105T060000
END:STANDARD
BEGIN:DAYLIGHT
TZOFFSETFROM:-0500
TZOFFSETTO:-0400
TZNAME:EDT
DTSTART:20240310T070000
END:DAYLIGHT
BEGIN:STANDARD
TZOFFSETFROM:-0400
TZOFFSETTO:-0500
TZNAME:EST
DTSTART:20241103T060000
END:STANDARD
BEGIN:DAYLIGHT
TZOFFSETFROM:-0500
TZOFFSETTO:-0400
TZNAME:EDT
DTSTART:20250309T070000
END:DAYLIGHT
BEGIN:STANDARD
TZOFFSETFROM:-0400
TZOFFSETTO:-0500
TZNAME:EST
DTSTART:20251102T060000
END:STANDARD
END:VTIMEZONE
BEGIN:VEVENT
DTSTART;TZID=America/New_York:20241024T140000
DTEND;TZID=America/New_York:20241024T150000
DTSTAMP:20260422T052644
CREATED:20240910T142354Z
LAST-MODIFIED:20241004T182148Z
UID:549871-1729778400-1729782000@www.fedbar.org
SUMMARY:Webinar: AI and Antitrust - A Cross-Border Comparison
DESCRIPTION:**This program will be hosted in (ET) Time Zone** \nThis program examines how antitrust agencies in the U.S. and EU are addressing competitive effects in AI and Generative AI markets.  Among topics to be covered are investigations\, new and pending statutes and regulations\, and international cooperation efforts.  The audience will come away with an understanding of recent developments and practical advice for clients. \nPresented by the Antitrust and Trade Regulation Section \nRegister Now!\n\n Speakers\n \n(Moderator) Jennifer Driscoll\, Counsel at Robinson & Cole \nJennifer M. Driscoll is Counsel at Robinson & Cole and Co-Chair of the firm’s Antitrust and Trade Regulation Team.  Her practice focuses on antitrust and government investigations. She has been recognized by the Legal 500 for her expertise in cartel investigations and merger work.  Jen also works on cybersecurity and data privacy matters.  She is a Certified Privacy Professional in the U.S. and EU. \n  \n  \n  \n  \n  \nCecilia (Yixi) Cheng\, Attorney at U.S. Department of Justice\, Antitrust Division \nCecilia Cheng serves as Counsel to the Assistant Attorney General in the United States Department of Justice\, Antitrust Division.  She was an inaugural Rill Fellow at DOJ Antitrust and has been involved in the DOJ’s criminal\, civil\, and appellate efforts.  Cecilia represents the DOJ in the DOJ’s and FTC’s statements of interest regarding alleged algorithmic price fixing. \n  \n  \n  \n  \n  \n  \n \nJustin P. Murphy\, Partner\, Baker Hostetler \nJustin Murphy is a partner in Baker Hostetler’s Washington\, D.C. office and is the leader of the firm’s Cartel and Government Antitrust Investigations Task Force. Justin focuses his practice on government enforcement of complex antitrust\, fraud and white-collar criminal matters. A former federal prosecutor with the Department of Justice for 6 years\, he advises corporate and individual clients involved in antitrust and other white collar investigations\, including bid-rigging\, price fixing\, procurement fraud\, and labor market practices in a broad range of industries. He served as trial counsel in the first ever criminal no poach market allocation case\, where his client was acquitted on all counts. \n  \n  \n  \n  \n \nHendrik Viaene\, Partner\, McDermott Will & Emery Belgium LLP\n \nHendrik Viene – Hendrik Viaene focuses his practice on competition law\, regulated markets and regulatory law. He advises clients across a wide range of competition issues (state aid\, cartels\, licensing agreements\, merger filings\, M&A negotiations\, abuse of dominance cases\, distribution agreements)\, and on the Foreign Subsidies Regulation. \nHendrik assists governments as well as privately and publicly owned companies. He has a wealth of experience in a range of sectors such as energy\, chemicals\, paints\, automotive\, financial data\, recycling and waste management\, telecom\, construction\, renewables\, media\, private equity and the financial industry. Hendrik represents companies before national competition authorities and before the European Commission. He also assists governments and companies on defense strategies as well as compliance programs to avoid fines or having to refund or recover state aid. \nHendrik has successfully guided clients through first and second phase investigations in merger clearance proceedings before competition authorities across the globe. He also counsels clients on compliance audits\, immunity and leniency initiatives\, and general risk avoidance in relation to competition law. Hendrik has additional experience in intellectual property rights licensing initiatives specifically with regard to restrictions imposed by competition law. \nDuring his career he has represented clients in proceedings before the European Commission\, the European Court of Justice\, the Belgian Competition Authority\, the Brussels Court of Appeals\, the New Caledonian Competition Authority\, the Paris Court of Appeals\, and the Luxembourg Competition Authority. He acted as co-counsel for other clients for most major competition authorities worldwide\, and he also audited a number of competition authorities’ operations and output as a subject matter expert. \nHendrik is managing partner of the Firm’s Brussels office. \nEducation: King’s College London\, LLM European Law\, 1999; University of Gent\, MA Law\, 1998 \n  \n\nRegistration\nRegister Here!\n\nLive Broadcast | FBA Member: $0\nLive Broadcast | Nonmember: $95\nOn-Demand Broadcast | FBA Member: $50\nOn-Demand Broadcast | Nonmember: $95\n\n\n\n\n\n\n\n\n\nCLE\nPlease note: CLE for this webinar has not been pre-approved.\nMyLaw and the FBA will seek 1.0 General CLE credit hours in 60-minute states\, and 1.2 General CLE credit hours in 50-minute states. \nPosted credit hours are estimated and subject to respective state approval and rounding rules. CLE qualifications vary by state/jurisdiction. \nFor questions regarding this program\, please contact MyLaw CLE by email: registration@mylawcle.com or phone: 877-406-8636.\n\n\n\n\n\n\n\n\nEmail Communication Policy\nBy registering for this event\, you agree to receive email communication from the Federal Bar Association and affiliated sponsors of the program concerning event details\, Continuing Legal Education certification\, programming changes\, upcoming events\, surveys\, and post-event communications. \nRecording Disclaimer\nBy registering for an online FBA program\, you agree to the recording of audio and visual content presented during the live event and consent to subsequent use of the recording by the FBA. You agree that the recording is the sole property of the FBA and that the recording may be used by the FBA in any manner in its sole and absolute discretion. This recording may include questions and poll responses provided by you during the live event. If you do not consent to the recording and the FBA’s use of the same\, do not register for the event.
URL:https://www.fedbar.org/event/webinar-ai-and-antitrust-a-cross-border-comparison/
CATEGORIES:Antitrust Trade Regulation Section
END:VEVENT
END:VCALENDAR