BEGIN:VCALENDAR
VERSION:2.0
PRODID:-//Federal Bar Association - ECPv6.15.15//NONSGML v1.0//EN
CALSCALE:GREGORIAN
METHOD:PUBLISH
X-ORIGINAL-URL:https://www.fedbar.org
X-WR-CALDESC:Events for Federal Bar Association
REFRESH-INTERVAL;VALUE=DURATION:PT1H
X-Robots-Tag:noindex
X-PUBLISHED-TTL:PT1H
BEGIN:VTIMEZONE
TZID:America/New_York
BEGIN:DAYLIGHT
TZOFFSETFROM:-0500
TZOFFSETTO:-0400
TZNAME:EDT
DTSTART:20230312T070000
END:DAYLIGHT
BEGIN:STANDARD
TZOFFSETFROM:-0400
TZOFFSETTO:-0500
TZNAME:EST
DTSTART:20231105T060000
END:STANDARD
BEGIN:DAYLIGHT
TZOFFSETFROM:-0500
TZOFFSETTO:-0400
TZNAME:EDT
DTSTART:20240310T070000
END:DAYLIGHT
BEGIN:STANDARD
TZOFFSETFROM:-0400
TZOFFSETTO:-0500
TZNAME:EST
DTSTART:20241103T060000
END:STANDARD
BEGIN:DAYLIGHT
TZOFFSETFROM:-0500
TZOFFSETTO:-0400
TZNAME:EDT
DTSTART:20250309T070000
END:DAYLIGHT
BEGIN:STANDARD
TZOFFSETFROM:-0400
TZOFFSETTO:-0500
TZNAME:EST
DTSTART:20251102T060000
END:STANDARD
END:VTIMEZONE
BEGIN:VEVENT
DTSTART;TZID=America/New_York:20241023T120000
DTEND;TZID=America/New_York:20241023T130000
DTSTAMP:20260422T184811
CREATED:20240626T200042Z
LAST-MODIFIED:20241024T174545Z
UID:518183-1729684800-1729688400@www.fedbar.org
SUMMARY:Qui Tam Section: [VIRTUAL] The DOJ's Civil Cyber-Fraud Initiative: Three Years Later
DESCRIPTION:**Program hosted in (ET) time zone** \nThe Department of Justice launched its Civil Cyber-Fraud Initiative in October 2021. What has happened the last three years? The panel will discuss lessons learned during the infancy of the initiative\, including the type of cases that have led to FCA recoveries\, paths to establishing fraud\, the theories to quantify damages\, and some of the relevant regulatory regimes. The panel will also discuss self-reporting considerations and what to look for in the future. \n*** This event does not offer CLE credit *** \n [Registration is closed]\n  \nMODERATOR \n\nDylan M. Aste\nU.S. Attorney’s Office\, Southern District of California \n  \n  \n  \n  \nSPEAKERS\n \nSara McLean\nCivil Fraud Section\, U.S. Department of Justice \n  \n  \n  \n \n  \nBruce Judge\nWhistleblower Law Collaborative LLC \n  \n  \n \n  \nTammy A. Tsoumas\nKirkland & Ellis \n\n\n\nRegistration\n[Registration is closed] \n\nFBA Members: $0\nNon-Members: $0\n\n\nCLE\nPlease note that CLE credit is not offered for this webinar. \n\nEmail Communication Policy \nBy registering for this event\, you agree to receive email communications from the Federal Bar Association and affiliated sponsors of the program concerning event details\, Continuing Legal Education certification\, programming changes\, upcoming events\, surveys\, and post-event communications. \nRecording Disclaimer \nBy registering for an FBA webinar\, you agree to the recording of audio and visual content presented during the live event and consent to subsequent use of the recording by the FBA. You agree that the recording is the sole property of the FBA and that the recording may be used by the FBA in any manner in its sole and absolute discretion. This recording may include questions and poll responses provided by you during the live event. If you do not consent to the recording and the FBA’s use of the same\, do not register for the event. \nIf you have any questions regarding this program\, please contact sections@fedbar.org.
URL:https://www.fedbar.org/event/cyber-fraud/
CATEGORIES:Qui Tam Section
END:VEVENT
END:VCALENDAR