BEGIN:VCALENDAR
VERSION:2.0
PRODID:-//Federal Bar Association - ECPv6.15.15//NONSGML v1.0//EN
CALSCALE:GREGORIAN
METHOD:PUBLISH
X-WR-CALNAME:Federal Bar Association
X-ORIGINAL-URL:https://www.fedbar.org
X-WR-CALDESC:Events for Federal Bar Association
REFRESH-INTERVAL;VALUE=DURATION:PT1H
X-Robots-Tag:noindex
X-PUBLISHED-TTL:PT1H
BEGIN:VTIMEZONE
TZID:America/New_York
BEGIN:DAYLIGHT
TZOFFSETFROM:-0500
TZOFFSETTO:-0400
TZNAME:EDT
DTSTART:20230312T070000
END:DAYLIGHT
BEGIN:STANDARD
TZOFFSETFROM:-0400
TZOFFSETTO:-0500
TZNAME:EST
DTSTART:20231105T060000
END:STANDARD
BEGIN:DAYLIGHT
TZOFFSETFROM:-0500
TZOFFSETTO:-0400
TZNAME:EDT
DTSTART:20240310T070000
END:DAYLIGHT
BEGIN:STANDARD
TZOFFSETFROM:-0400
TZOFFSETTO:-0500
TZNAME:EST
DTSTART:20241103T060000
END:STANDARD
BEGIN:DAYLIGHT
TZOFFSETFROM:-0500
TZOFFSETTO:-0400
TZNAME:EDT
DTSTART:20250309T070000
END:DAYLIGHT
BEGIN:STANDARD
TZOFFSETFROM:-0400
TZOFFSETTO:-0500
TZNAME:EST
DTSTART:20251102T060000
END:STANDARD
END:VTIMEZONE
BEGIN:VEVENT
DTSTART;TZID=America/New_York:20241009T120000
DTEND;TZID=America/New_York:20241009T133000
DTSTAMP:20260422T212117
CREATED:20240802T185134Z
LAST-MODIFIED:20240829T132958Z
UID:533815-1728475200-1728480600@www.fedbar.org
SUMMARY:Qui Tam Section: [VIRTUAL] Preparing Your Qui Tam Case For Trial
DESCRIPTION:**Program hosted in (ET) time zone** \nSo\, settlement discussions aren’t going anywhere\, and you need to prepare your case for trial … Now what? This diverse panel of current (and former) federal prosecutors\, relator’s counsel\, and defense attorneys will discuss some of the key strategic decisions\, challenges and opportunities involved in getting your False Claims Act case ready for trial. Discussion topics will include the unique privilege and discovery issues raised by Supervalu; developing a game plan to effectively try a civil case involving the government as plaintiff; and deciding what role – if any – the relator should play at trial. \nThis event does not offer CLE credit. Registrants will receive Zoom login details on the day before the event. \n  \n[Register Today]\nPresented by the FBA Qui Tam Section \n  \nSPEAKERS\n\nPaul S. Chan\, Bird Marella\, Moderator\n \n  \n  \n  \n  \n  \n  \n  \n  \n  \nEric Havian\, Whistleblowers Partners\n \n  \n  \n  \n  \n  \n  \n  \n  \nRoss M. Cuff\, United States Attorney’s Office\, Central District of California\n \n  \n  \n  \n  \n  \n  \n  \n  \n  \n  \n  \n  \nBlanca Fromm Young\, Munger Tolles & Olson LLP \n\n  \n  \nRegistration\n[Register Online]\n\nFBA Members: $0\nNon-Members: $0\n\n  \n\nCLE\nPlease note that CLE credit is not offered for this webinar. \n  \n\nEmail Communication Policy \nBy registering for this event\, you agree to receive email communications from the Federal Bar Association and affiliated sponsors of the program concerning event details\, Continuing Legal Education certification\, programming changes\, upcoming events\, surveys\, and post-event communications. \nRecording Disclaimer \nBy registering for an FBA webinar\, you agree to the recording of audio and visual content presented during the live event and consent to subsequent use of the recording by the FBA. You agree that the recording is the sole property of the FBA and that the recording may be used by the FBA in any manner in its sole and absolute discretion. This recording may include questions and poll responses provided by you during the live event. If you do not consent to the recording and the FBA’s use of the same\, do not register for the event. \nIf you have any questions regarding this program\, please contact sections@fedbar.org.
URL:https://www.fedbar.org/event/qui-tam-trial/
CATEGORIES:Qui Tam Section
END:VEVENT
END:VCALENDAR