BEGIN:VCALENDAR
VERSION:2.0
PRODID:-//Federal Bar Association - ECPv6.15.15//NONSGML v1.0//EN
CALSCALE:GREGORIAN
METHOD:PUBLISH
X-WR-CALNAME:Federal Bar Association
X-ORIGINAL-URL:https://www.fedbar.org
X-WR-CALDESC:Events for Federal Bar Association
REFRESH-INTERVAL;VALUE=DURATION:PT1H
X-Robots-Tag:noindex
X-PUBLISHED-TTL:PT1H
BEGIN:VTIMEZONE
TZID:America/New_York
BEGIN:DAYLIGHT
TZOFFSETFROM:-0500
TZOFFSETTO:-0400
TZNAME:EDT
DTSTART:20230312T070000
END:DAYLIGHT
BEGIN:STANDARD
TZOFFSETFROM:-0400
TZOFFSETTO:-0500
TZNAME:EST
DTSTART:20231105T060000
END:STANDARD
BEGIN:DAYLIGHT
TZOFFSETFROM:-0500
TZOFFSETTO:-0400
TZNAME:EDT
DTSTART:20240310T070000
END:DAYLIGHT
BEGIN:STANDARD
TZOFFSETFROM:-0400
TZOFFSETTO:-0500
TZNAME:EST
DTSTART:20241103T060000
END:STANDARD
BEGIN:DAYLIGHT
TZOFFSETFROM:-0500
TZOFFSETTO:-0400
TZNAME:EDT
DTSTART:20250309T070000
END:DAYLIGHT
BEGIN:STANDARD
TZOFFSETFROM:-0400
TZOFFSETTO:-0500
TZNAME:EST
DTSTART:20251102T060000
END:STANDARD
END:VTIMEZONE
BEGIN:VEVENT
DTSTART;VALUE=DATE:20240530
DTEND;VALUE=DATE:20240601
DTSTAMP:20260422T045635
CREATED:20230727T144935Z
LAST-MODIFIED:20241220T202157Z
UID:381488-1717027200-1717199999@www.fedbar.org
SUMMARY:2024 Insurance Tax Seminar
DESCRIPTION:Event Recap\nThe Section on Taxation hosted its 39th Annual Insurance Tax Seminar at the JW Marriott in Washington\, DC on May 30-31\, 2024. Seminar education featured topical tax discussions between industry tax professionals\, tax advisors\, consultants\, and government tax professionals as well as a few “fundamentals” sessions and an ethics credit-eligible session. Attendees received latest tax news on IRS guidance and legislative changes relevant to the insurance industry including the latest on Pillar Two and other international tax developments\, and hear real-time commentary and perspectives from numerous industry tax specialists. Seminar panels were crafted to cover a range of viewpoints on the latest insurance company\, insurance product\, international\, and other insurance tax topics. This year’s program was a sell-out event\, attracting over 500 attendees! \nCo-hosted by the Section on Taxation \nSave the Date for May 29-30\, 2025 \n		\n			\n									\n						\n					\n									\n						\n					\n									\n						\n					\n									\n						\n					\n									\n						\n					\n									\n						\n					\n									\n						\n					\n									\n						\n					\n									\n						\n					\n									\n						\n					\n									\n						\n					\n									\n						\n					\n									\n						\n					\n									\n						\n					\n									\n						\n					\n									\n						\n					\n									\n						\n					\n									\n						\n					\n									\n						\n					\n									\n						\n					\n									\n						\n					\n							 \n			\n									\n						\n					\n									\n						\n					\n									\n						\n					\n									\n						\n					\n									\n						\n					\n									\n						\n					\n									\n						\n					\n									\n						\n					\n									\n						\n					\n									\n						\n					\n									\n						\n					\n									\n						\n					\n									\n						\n					\n									\n						\n					\n									\n						\n					\n									\n						\n					\n									\n						\n					\n									\n						\n					\n									\n						\n					\n									\n						\n					\n									\n						\n					\n							\n		 \n\n\n\n2024 Event Sponsors\nPremier Partner \n \nEvent Partner \n \nThursday Reception \n \nCLE App Provider \n \nSession Sponsor\nStonehenge Capital \nBreakfast/Break Sponsor\nTriTech Services \nExhibitors\nCrowe LLP\nLexisNexis\nStonehenge Capital\nTriTech Services \n\nAgenda\n[CLICK HERE] to view the detailed seminar agenda. \nWednesday\, May 29 \n6:00 – 8:00 PM | Opening Reception Hosted by Crowe LLP\nPenn Avenue Terrace (JW Marriott Lobby) \nThursday\, May 30  \n8:00 – 9:00 AM | Registration + Breakfast  \n9:00 – 10:00 AM | 1) Tax Legislative Outlook \n10:10 – 11:10 AM | Concurrent Tracks  \n\n2A) International Tax Issues of Importance to the Insurance Industry- Inbound\n2B) Life Insurance Company Tax Items of Interest \n2C) How Did We Get Here?: The History of Insurance Taxation in 60 Minutes or Less \n\n11:10 – 11:30 AM | Morning Break \n11:30 AM – 12:30 PM | Concurrent Tracks  \n\n3A) International Tax Issues of Importance to the Insurance Industry- Outbound\n3B) Corporate Alternative Minimum Tax (CAMT): Industry Issues\n3C) InsurTech – Developing Industry Trends and Tax Topics \n\n12:30 – 2:00 PM | Luncheon and Panel Discussion “Getting to Know Your Treasury Tax Experts”\nNot Available for CLE/CPE Credit \n2:00 – 3:00 PM | Concurrent Tracks  \n\n4A) P&C Company Tax Discussion \n4B) Investment Taxation: Trends\n\n3:10 – 4:10 PM | Concurrent Tracks  \n\n5A) OECD Developments Relevant to Multinational Insurance Groups\n5B) Health Insurance Tax \n5C) Product Tax Update – SECURE Act and Other Recent Developments  \n\n4:10 – 4:30 PM | Afternoon Break \n4:30 – 5:30 PM | Concurrent Tracks  \n\n6A) Information Reporting and Withholding on Insurance Products\n6B) Trending Tax Considerations in the M&A Marketplace  \n6C) Key Developments in Tax Controversy \n\n5:30 – 7:00 PM | Reception Sponsored by LexisNexis \nFriday\, May 31  \n8:00 – 9:00 AM | Registration + Breakfast  \n8:30 – 9:10 AM | Chief Counsel:FIP:Insurance Branch Update\nNot Available for CLE/CPE Credit  \n9:20 – 10:20 AM | Concurrent Tracks  \n\n7A) Multistate Tax Topics of Interest \n7B) Select Consolidated Return Topics Relevant to Insurance Groups Including Life/Nonlife and CAMT\n7C) IRS Practice and Procedure Primer  \n\n10:20 – 10:40 AM | Morning Break \n10:40 – 11:40 AM | Concurrent Tracks  \n\n8A) Emerging Accounting Topics \n8B) IRA “Green” Credits and Incentives >Session Sponsored by Stonehenge Capital \n8C) Ethics of Using Artificial Intelligence in Tax Practice\n\n11:50 AM – 12:30 PM | 9) “Ask the Experts” \nNot Available for CLE/CPE Credit  \n\nCLE & CPE\nThe FBA will seek 8 total CLE credit hours (including 1 ethics) for 60-minute states\, and 9.6 total CLE credit hours (including 1.2 ethics) for 50-minute states. The FBA will seek 9.6 CPE credit hours (Taxes). \nPosted credit hours are estimates and subject to respective state approval and reporting rules. CLE qualifications vary by state/jurisdiction and the FBA takes every measure to collaborate with presenters to ensure approval. Accrediting agencies typically decide whether a program qualifies for credit in their jurisdiction 4-8 weeks after the program application is submitted. For many live events\, credit approval is not received prior to the program. Documentation for self-reporting states will be issued via email\, upon state bar approval. \nThe Federal Bar Association is registered with the National Association of State Boards of Accountancy (NASBA) as a sponsor of continuing professional education on the National Registry of CPE Sponsors. State boards of accountancy have final authority on the acceptance of individual courses for CPE credit. Complaints regarding registered sponsors may be submitted to the National Registry of CPE Sponsors through its web site: www.nasbaregistry.org.\nInstructional Delivery Method: Group Live; CPE Credit Hours: 9.6; Field of Study: Taxes; Prerequisite: None; Program Knowledge Level: Beginner; Advance Preparation: None. \nThe FBA partners with ConferenceAdit LLC to track and report CLE/CPE credit for national conferences. Attendees are responsible for uploading their state bar information and tracking attendance through a dedicated webpage\, issued in advance of the conference. Attendees will be instructed to check in and out of each panel to timestamp attendance. Approximately two weeks following the conference\, personalized certificates will be issued via email. \nLearn more about Continuing Legal Education (CLE) operations and reporting. \n\nEmail Communication Policy: By registering for this event\, you agree to receive email communication from the Federal Bar Association and affiliated sponsors of the program concerning event details\, Continuing Legal Education certification\, programming changes\, upcoming events\, surveys\, and post-event communications. \nRecording Disclaimer: By registering for an online FBA program\, you agree to the recording of audio and visual content presented during the live event and consent to subsequent use of the recording by the FBA. You agree that the recording is the sole property of the FBA and that the recording may be used by the FBA in any manner in its sole and absolute discretion. This recording may include questions and poll responses provided by you during the live event. If you do not consent to the recording and the FBA’s use of the same\, do not register for the event. \nFinancial Assistance: Program registrants (both FBA members and nonmembers) who are unable to afford the registration fee may receive a 50% discount on the member rate. Qualifying attorneys include those who are unemployed or actively seeking employment. A formal letter requesting the discount must be emailed to meetings@fedbar.org. That letter needs to state the reason for the attorney’s interest in the course or activity\, as well as proof of income or an explanation of the financial hardship\, and it must be signed by the requesting lawyer. \nIf you have any questions regarding this program\, please contact events@fedbar.org.
URL:https://www.fedbar.org/event/instax24/
LOCATION:JW Marriott\, 1331 Pennsylvania Ave NW\, Washington\, DC\, 20004
CATEGORIES:Section on Taxation
ATTACH;FMTTYPE=image/png:https://www.fedbar.org/wp-content/uploads/2023/07/InsTax24-graphics_Web-Ad-2.png
GEO:38.8963588;-77.0308386
X-APPLE-STRUCTURED-LOCATION;VALUE=URI;X-ADDRESS=JW Marriott 1331 Pennsylvania Ave NW Washington DC 20004;X-APPLE-RADIUS=500;X-TITLE=1331 Pennsylvania Ave NW:geo:-77.0308386,38.8963588
END:VEVENT
END:VCALENDAR