BEGIN:VCALENDAR
VERSION:2.0
PRODID:-//Federal Bar Association - ECPv6.15.15//NONSGML v1.0//EN
CALSCALE:GREGORIAN
METHOD:PUBLISH
X-WR-CALNAME:Federal Bar Association
X-ORIGINAL-URL:https://www.fedbar.org
X-WR-CALDESC:Events for Federal Bar Association
REFRESH-INTERVAL;VALUE=DURATION:PT1H
X-Robots-Tag:noindex
X-PUBLISHED-TTL:PT1H
BEGIN:VTIMEZONE
TZID:America/New_York
BEGIN:DAYLIGHT
TZOFFSETFROM:-0500
TZOFFSETTO:-0400
TZNAME:EDT
DTSTART:20230312T070000
END:DAYLIGHT
BEGIN:STANDARD
TZOFFSETFROM:-0400
TZOFFSETTO:-0500
TZNAME:EST
DTSTART:20231105T060000
END:STANDARD
BEGIN:DAYLIGHT
TZOFFSETFROM:-0500
TZOFFSETTO:-0400
TZNAME:EDT
DTSTART:20240310T070000
END:DAYLIGHT
BEGIN:STANDARD
TZOFFSETFROM:-0400
TZOFFSETTO:-0500
TZNAME:EST
DTSTART:20241103T060000
END:STANDARD
BEGIN:DAYLIGHT
TZOFFSETFROM:-0500
TZOFFSETTO:-0400
TZNAME:EDT
DTSTART:20250309T070000
END:DAYLIGHT
BEGIN:STANDARD
TZOFFSETFROM:-0400
TZOFFSETTO:-0500
TZNAME:EST
DTSTART:20251102T060000
END:STANDARD
END:VTIMEZONE
BEGIN:VEVENT
DTSTART;TZID=America/New_York:20240521T120000
DTEND;TZID=America/New_York:20240521T130000
DTSTAMP:20260422T181257
CREATED:20240502T191557Z
LAST-MODIFIED:20240813T184431Z
UID:493090-1716292800-1716296400@www.fedbar.org
SUMMARY:Immigration Law Section: Introduction to Labor Based Deferred Action
DESCRIPTION:Noncitizens in the United States disproportionately suffer labor-based abuses at their employers. Thankfully\, in a fairly newly announced joint program between the Department of Labor and Department of Homeland Security\, individuals who have been victims of labor-based abuses\, even if they are entirely undocumented\, have a pathway to deferred action and lawful work authorization as they come forward and report these abuses. Please join the Immigration Law Section’s Newer Lawyers Division in a discussion on what this program is\, how your clients can take advantage of it\, and tips on filing these life-changing applications.\nPresented by the Immigration Law Section \n\n\nPresenters\nAnn Garcia\, Staff Attorney\, National Immigration Project\n \nAnn Garcia is a Staff Attorney at the National Immigration Project (NIPNLG). Her work at NIPNLG is focused on holding DHS accountable through advocacy\, litigation\, and training. Before joining NIPNLG\, she ran projects at the Catholic Legal Immigration Network (CLINIC) to assist separated families and free immigrants from detention. Ann’s work appears regularly in national media. She previously started a detained removal defense program at the RAICES office in Fort Worth\, Texas as an Equal Justice Works Fellow. Ann is a graduate of the American University Washington College of Law\, where she was on the editorial board of the ABA’s Administrative Law Review. She has a bachelor’s degree from Middlebury College. Prior to law school\, Ann worked on immigration policy at the Center for American Progress. \n\n\n \n\n\nMary Yanik\, Clinical Associate Professor of Law and Director of the Immigrant Rights Clinic\, Tulane University \nMary Yanik directs the Immigrant Rights Clinic\, supervising students in representing immigrants in deportation defense\, affirmative applications for lawful status\, constitutional litigation\, and strategic advocacy. She specializes in assisting immigrant workers\, including victims of labor trafficking\, and in defending constitutional rights of immigrants. \nYanik previously worked at the New Orleans Workers’ Center for Racial Justice\, leading a law & organizing practice in support of community-directed campaigns for labor\, migrant\, and racial justice. She served as local and trial counsel in federal litigation challenging the constitutionality of Louisiana’s marriage license law and\, separately\, prolonged immigration detention in Louisiana. She represented dozens of immigrant workers in reporting labor abuse to the Department of Labor\, Occupational Safety and Health Administration\, and National Labor Relations Board\, including the immigrant whistleblower who complained of unsafe conditions at the now-collapsed Hard Rock Hotel site in New Orleans. She further represented immigrant workers and immigrant victims of crime in U and T visa applications based on their assistance to government officials\, in part through supervising law students in the Tulane Immigrant Rights’ Practicum. After law school\, she clerked for Judge David F. Hamilton of the U.S. Court of Appeals for the Seventh Circuit. \nIn the Clinic\, Professor Yanik teaches core lawyering skills alongside reflection on the role of lawyers\, clients\, and communities in addressing social injustice and power dynamics in legal relationships and legal systems. The Clinic represents individual detained immigrants in seeking release and relief from deportation and also engages in strategic advocacy in defense of migrant rights. Professor Yanik continues to monitor and enforce the federal consent judgment in Cacho v. Gusman\, the landmark case that prohibits the Orleans Parish Prison from transferring most immigrants to federal immigration authorities. \nYanik received her J.D. from Yale Law School in 2014 and a bachelor of science and bachelor of arts\, magna cum laude\, from University of Maryland in 2011. \n\nRegistration\nRegistration has closed. \nRegistration Fees \n\nComplimentary for FBA Members & Non-Members\n\nLive Captioning: Closed captioning is available for all virtual webcasts. \nInternet Requirements: Virtual programs require suitable internet strength to stream online panels. A minimum internet connection of 800 Kbps is recommended for an optimal attendee experience. Test your connection here.  \n\nEvent Contact\nZachary New (zachary@immigrationissues.com) \n\nCLE\nPlease note CLE will not be offered for this event.  \n\nFrequently Asked Questions \nQ: How do I access the virtual webinar?\nA: Each webinar will have a unique link to watch the live broadcast. Registered attendees will receive login instructions via a calendar invitations 24 hours prior to the webinar. \nQ: Will recordings of the sessions be available after the event?\nA: Approved sessions will be available for registrants to view live and on-demand following the webinar. \nQ: Who do I contact for more information?\nA: Please contact Zachary New (zachary@immigrationissues.com) or sections@fedbar.org for any other questions. \n\nEmail Communication Policy\nBy registering for this event\, you agree to receive email communication from the Federal Bar Association and affiliated sponsors of the program concerning event details\, Continuing Legal Education certification\, programming changes\, upcoming events\, surveys\, and post-event communications. \nRecording Disclaimer\nBy registering for an online FBA program\, you agree to the recording of audio and visual content presented during the live event and consent to subsequent use of the recording by the FBA. You agree that the recording is the sole property of the FBA and that the recording may be used by the FBA in any manner in its sole and absolute discretion. This recording may include questions and poll responses provided by you during the live event. If you do not consent to the recording and the FBA’s use of the same\, do not register for the event.
URL:https://www.fedbar.org/event/immigration-law-section-introduction-to-labor-based-deferred-action/
CATEGORIES:Immigration Law Section
END:VEVENT
BEGIN:VEVENT
DTSTART;TZID=America/New_York:20240521T140000
DTEND;TZID=America/New_York:20240521T150000
DTSTAMP:20260422T181257
CREATED:20240308T204915Z
LAST-MODIFIED:20240424T202914Z
UID:468023-1716300000-1716303600@www.fedbar.org
SUMMARY:Webinar: Ethical Challenges of Joint Representation
DESCRIPTION:Three federal practitioners join us to discuss the ethical challenges litigators face when handling joint representation matters. Specifically\, these expert panelists will address issues facing attorneys who jointly represent more than one party\, as well as issues facing their opponents concerning multiple representation of parties (and even those parties’ witnesses). Attendees can expect to learn about conflicts of interest\, confidentiality and privilege between clients\, negotiations\, and limited representation of witnesses. \nPresented by the Professional Development Committee \n[Click Here to Register!]\nFor questions regarding this program\, please contact MyLaw CLE by email: registration@mylawcle.com or phone: 877-406-8636. \n\nAbout the Presenters\nDaniel J. Cragg\, Partner\, Eckland & Blando LLP \nDaniel J. Cragg handles complex litigation matters in a variety of practice areas including personal injury\, commercial litigation\, labor and employment law\, factoring\, asset-based lending\, as well as admiralty and maritime law. Daniel is a volunteer in Minnesota’s legal ethics system as a Panel Chair for the Minesota Lawyer’s Professional Responsibility Board and as Chair of its Rules and Opinions Committee.  Daniel is a Partner with Eckland & Blando LLP in Minneapolis but handles high stakes cases throughout the country (in association with local counsel).  He has been rated by Thomson Reuters as a “Stand Out Lawyer” and “Lead Counsel” for civil litigation\, as well as a Super Lawyer.  He is AV Rated by Martindale Hubbell. \nMichael Downey\, Legal Ethics Lawyer and Founder\, Downey Law Group LLC\n \nMichael Downey is a legal ethics lawyer and founder of Downey Law Group LLC\, a St. Louis law firm devoted to legal ethics\, lawyer discipline defense\, and the law of lawyering. Michael has litigated dozens of lawyer discipline cases\, argued before five appellate courts\, and testified as an expert in more than twenty proceedings. He has also taught legal ethics as an adjunct professor at Washington University and St. Louis University and has been recognized as a Super Lawyers “Top 50 Lawyer in St. Louis\,” a Best Lawyer in America for Ethics & Professional Responsibility Law\, and a Missouri Lawyers Weekly “Most Influential Lawyer” as the “go-to legal ethics lawyer in Missouri.” \n  \n  \n\n\nJayne R. Reardon\, J.D.\, Partner and Deputy General Counsel\, FisherBroyles LLC \nJayne provides ethics and regulatory advice to lawyers and legal service providers and serves as Deputy General Counsel to FisherBroyles LLC\, a distributed global law firm. An experienced commercial trial lawyer\, Jayne also serves as a neutral in mediation and arbitration proceedings. \nJayne is a nationally renowned expert on legal ethics and professionalism. Prior to joining FisherBroyles\, she served as Executive Director of the Illinois Supreme Court Commission on Professionalism and as disciplinary counsel for the Illinois Attorney Registration and Disciplinary Commission. Jayne draws on her extensive experience as trial lawyer\, legal ethics expert\, and professionalism advocate as she advises\, writes\, and speaks on lawyer ethics issues\, professional responsibility\, and effectiveness and efficiency in the legal system. \nJayne is active in many bar associations\, including the Association for Professional Responsibility Lawyers and the American Bar Association. She has been recognized nationally for her work in professional responsibility\, including by appointments to Chair the ABA’s Standing Committee on Professionalism for three consecutive years and by receiving the Center for Professional Responsibility’s highest lifetime honor: The Michael Franck Professional Responsibility Award. \nAbout the Moderator\n \nFerne P. Wolf\, Partner\, SilversteinWolf \nFerne P. Wolf is an employment attorney who represents employees in federal and state litigation. She serves on one of the Missouri Bar Association Regional Disciplinary Committees. The committees are part of the attorney disciplinary process in Missouri. Ferne is a Fellow of the College of Labor and Employment Lawyers. Years ago\, Ferne worked for the Equal Employment Opportunity Commission both at the headquarters and the St. Louis District Office\, litigating employment cases on behalf of the EEOC in federal courts throughout the country. Since going into private practice\, Ferne has represented employees mainly in Illinois and Missouri\, leading Ferne to chair—at different times—the Illinois State Bar Association Labor and Employment Section Council and the Missouri Bar Association Labor and Employment Law Committee. She has written and spoken on topics relating to discovery and ethics\, including appearing on a recent podcast in which she spoke about the intersection of discovery abuse and the Rules of Professional Conduct. \n  \n\nRegistration\nRegister Now\n\nLive Broadcast | FBA Member: $0\nLive Broadcast | Nonmember: $95\nOn-Demand Broadcast | FBA Member: $50\nOn-Demand Broadcast | Nonmember: $95\n\nFor questions regarding this program\, please contact MyLaw CLE by email: registration@mylawcle.com or phone: 877-406-8636.\n\n\n\n\n\n\n\n\n\n\n\n\n\n\n\n\n\n\n\n\n\n\n\n\nCLE\nPlease note: CLE for this webinar has not been pre-approved.\nMyLaw and the FBA will seek 1.0 General CLE credit hours in 60-minute states\, and 1.2 General CLE credit hours in 50-minute states. \nPosted credit hours are estimated and subject to respective state approval and rounding rules. CLE qualifications vary by state/jurisdiction. \nFor questions regarding this program\, please contact MyLaw CLE by email: registration@mylawcle.com or phone: 877-406-8636.\n\n\n\n\n\n\n\n\nEmail Communication Policy\nBy registering for this event\, you agree to receive email communication from the Federal Bar Association and affiliated sponsors of the program concerning event details\, Continuing Legal Education certification\, programming changes\, upcoming events\, surveys\, and post-event communications. \nRecording Disclaimer\nBy registering for an online FBA program\, you agree to the recording of audio and visual content presented during the live event and consent to subsequent use of the recording by the FBA. You agree that the recording is the sole property of the FBA and that the recording may be used by the FBA in any manner in its sole and absolute discretion. This recording may include questions and poll responses provided by you during the live event. If you do not consent to the recording and the FBA’s use of the same\, do not register for the event. \nIf you have any questions regarding this program\, please contact Shaniece\, Program Coordinator\, at sections@fedbar.org
URL:https://www.fedbar.org/event/webinar-ethical-challenges-of-joint-representation/
END:VEVENT
BEGIN:VEVENT
DTSTART;TZID=America/New_York:20240521T140000
DTEND;TZID=America/New_York:20240521T160000
DTSTAMP:20260422T181257
CREATED:20240502T132546Z
LAST-MODIFIED:20240502T133148Z
UID:492978-1716300000-1716307200@www.fedbar.org
SUMMARY:Oklahoma City Chapter: The Osage Reign of Terror: A Legal Perspective CLE
DESCRIPTION:Join the Oklahoma City Chapter of the Federal Bar Association at the U.S. Bankruptcy Court for the Western District of Oklahoma on Tuesday\, May 21st\, from 2 p.m to 4 p.m. for a comprehensive legal exploration of pivotal historical events\, as Assistant U.S. Attorney Arvo Mikkanen and Former Osage Nation Congresswoman and Osage Nation Supreme Court Judge Shannon Edwards shed light on the captivating narrative of the “Osage Reign of Terror\,” with a special emphasis on the legal intricacies depicted in the acclaimed book and major motion picture “Killers of the Flower Moon.” \nOur discussion will commence with an in-depth examination of the forced displacement of the Osage tribe from their ancestral lands to the Indian Territory. As we transition to Oklahoma’s statehood\, our focus will center on the legal complexities arising from the discovery of oil and gas resources within the Osage Nation\, including the intricate regulatory landscape governing allotment and reserved oil and gas headrights. \nPrepare to delve into the nuanced jurisdictional challenges that have emerged between state and federal authorities. We will meticulously analyze the legal dimensions surrounding the tragic murders of esteemed Osage tribal members\, such as Henry Roan and Anna Brown\, perpetrated by William K. Hale and John Ramsey in their exploitation of tribal assets under the headright system. \nOur discussion will also feature a comprehensive review of the subsequent federal investigation led by the Bureau of Investigation\, the precursor to the FBI\, as well as the intricate legal proceedings encompassing the trials and appeals of William K. Hale and John Ramsey within the Western District of Oklahoma federal court. \nFurthermore\, we will address pressing legal considerations regarding the re-establishment of the Osage tribal government\, the intricacies of Osage headrights ownership\, and ongoing jurisdictional disputes involving state\, federal\, and tribal entities within the historic Osage Reservation. Gain invaluable legal insights into the complexities surrounding litigation pertaining to the boundaries of the Osage Reservation post-McGirt. Don’t miss this unparalleled opportunity for comprehensive legal analysis and discourse! \nCLE credit pending
URL:https://www.fedbar.org/event/oklahoma-city-chapter-the-osage-reign-of-terror-a-legal-perspective/
LOCATION:U.S. Bankruptcy Court for the Western District of Oklahoma\, 215 Dean A McGee Ave\, Oklahoma City\, OK\, 73102\, United States
CATEGORIES:CLE Chapter Presented,In Person Chapter CLE,Oklahoma City Chapter
ATTACH;FMTTYPE=image/png:https://www.fedbar.org/wp-content/uploads/2024/05/Copy-of-Copy-of-Turquoise-Red-Native-American-Day-Instagram-Post.png
END:VEVENT
END:VCALENDAR