BEGIN:VCALENDAR
VERSION:2.0
PRODID:-//Federal Bar Association - ECPv6.15.15//NONSGML v1.0//EN
CALSCALE:GREGORIAN
METHOD:PUBLISH
X-ORIGINAL-URL:https://www.fedbar.org
X-WR-CALDESC:Events for Federal Bar Association
REFRESH-INTERVAL;VALUE=DURATION:PT1H
X-Robots-Tag:noindex
X-PUBLISHED-TTL:PT1H
BEGIN:VTIMEZONE
TZID:America/New_York
BEGIN:DAYLIGHT
TZOFFSETFROM:-0500
TZOFFSETTO:-0400
TZNAME:EDT
DTSTART:20230312T070000
END:DAYLIGHT
BEGIN:STANDARD
TZOFFSETFROM:-0400
TZOFFSETTO:-0500
TZNAME:EST
DTSTART:20231105T060000
END:STANDARD
BEGIN:DAYLIGHT
TZOFFSETFROM:-0500
TZOFFSETTO:-0400
TZNAME:EDT
DTSTART:20240310T070000
END:DAYLIGHT
BEGIN:STANDARD
TZOFFSETFROM:-0400
TZOFFSETTO:-0500
TZNAME:EST
DTSTART:20241103T060000
END:STANDARD
BEGIN:DAYLIGHT
TZOFFSETFROM:-0500
TZOFFSETTO:-0400
TZNAME:EDT
DTSTART:20250309T070000
END:DAYLIGHT
BEGIN:STANDARD
TZOFFSETFROM:-0400
TZOFFSETTO:-0500
TZNAME:EST
DTSTART:20251102T060000
END:STANDARD
END:VTIMEZONE
BEGIN:VEVENT
DTSTART;TZID=America/New_York:20240517T140000
DTEND;TZID=America/New_York:20240517T150000
DTSTAMP:20260423T041232
CREATED:20240401T193121Z
LAST-MODIFIED:20250127T150735Z
UID:479367-1715954400-1715958000@www.fedbar.org
SUMMARY:Reflections from Judge Royce C. Lamberth
DESCRIPTION:Judge Royce C. Lamberth will reflect on his distinguished career as a federal judge\, chief judge\, FISA court judge\, and now senior judge. He will share lessons learned and other observations from some of his many cases. Ashley Akers\, Younger Lawyers Division Chair\, will moderate. \nHosted by the Federal Career Service Division\, the Younger Lawyers Division\, the Judiciary Division\, the Senior Lawyers Division\, and the District of Columbia Chapter. \nRegistration has closed.\nAbout the Speaker\nSenior Judge Royce C. Lamberth \nRoyce C. Lamberth was appointed United States District Judge for the District of Columbia on November 16\, 1987.  He served as Chief Judge from May 1\, 2008 to July 15\, 2013\, at which time he became a Senior Judge. \nJudge Lamberth\, a native of San Antonio\, Texas\, graduated from the University of Texas\, receiving a B.A. degree in 1966 and from the University of Texas School of Law\, receiving an LL.B degree in 1967.  He served as a Captain in the Judge Advocate General’s Corps of the United States Army from 1968 to 1974.  After service at Fort Bragg\, North Carolina\, and in Vietnam\, Judge Lamberth served in the Litigation Division of the Office of the Judge Advocate General of the Army at the Pentagon from 1971 to 1974. \nJudge Lamberth served as an Assistant United States Attorney for the District of Columbia from 1974 to 1987.  He was Chief of the Civil Division of the United States Attorney’s Office\, 1978 – 1987. \nJudge Lamberth is married to the former Janis K. Jost of San Antonio.  He is a former Chairman of the Federal Litigation Section of the Federal Bar Association\, and a member of the American Bar Association and the Bar Association of the District of Columbia\, and the District of Columbia Bar. \nJudge Lamberth is also a former Chairman of the Professional Ethics Committee of the Federal Bar Association.  The Federal Bar Association’s Model Rules of Professional Conduct for Federal Lawyers\, finally approved in October 1990\, were drafted by Judge Lamberth’s Committee. \nJudge Lamberth was appointed by Chief Justice Rehnquist to be Presiding Judge of the United States Foreign Intelligence Surveillance Court on May 19\, 1995.  That appointment ended May 19\, 2002. \nJudge Lamberth served as a member of the Judicial Conference of the United States from May 2008 to July 2013.  He also served as a member of the Judicial Conference’s Committee on Automation and Technology from 1990 to 1996\, and from 2003 to 2008\, served as Chairman of the Judicial Conference’s Committee on Inter-Circuit Assignments.  Chief Justice Roberts appointed him to again Chair the Inter-Circuit Assignment Committee\, effective October 1\, 2013. \nAbout the Moderator\nAshley Akers\, Younger Lawyers Division Chair \nAshley Akers is a Trial Attorney at the Department of Justice in the Civil Division\, Commercial Litigation section in Washington\, D.C. She handles an array of matters filed in the Court of International Trade\, Federal Circuit\, D.C. District Court\, and Court of Federal Claims. Akers has argued nearly 20 federal appellate cases and has tried 15 jury and bench trials. As part of her trade practice\, she runs the Department’s Trade Fraud Task Force. For the last two years\, Akers has also worked with the D.C United States Attorney’s Office prosecuting criminal cases. She graduated law school in 2016 and clerked on the Ninth Circuit Court of Appeals. Akers previously served as the Chair of the Law Students Division and as Chair of Membership. \nRegistration has closed. \nRegistration Fees \n\nFBA Member: $0\nNonmember: $75\n\n\n\n\n\n\n\n\n\nLive Captioning: Closed captioning is available for all virtual webcasts. \n\n\nInternet Requirements: Virtual programs require suitable internet strength to stream online panels. A minimum internet connection of 800 Kbps is recommended for an optimal attendee experience. Test your connection here.  \n\n\n\n\n\n\n\n\n\n\n\n\n\n\n\n\n\n\n\n\n\n\n\n\n\n\n\n\n\n\n\n\n\nCLE\nPlease note CLE will not be offered for this event.  \n\n\n\n\n\n\n\n\nFrequently Asked Questions\nQ: How do I access the virtual webinar?\nA: Each webinar will have a unique link to watch the live broadcast. Registered attendees will receive login instructions via a calendar invitations 24 hours prior to the webinar. \nQ: Will recordings of the sessions be available after the event?\nA: Approved sessions will be available for registrants to view live and on-demand following the webinar. \nQ: Who do I contact for more information?\nA: Please contact sections@fedbar.org for any other questions. \n\nEmail Communication Policy\nBy registering for this event\, you agree to receive email communication from the Federal Bar Association and affiliated sponsors of the program concerning event details\, Continuing Legal Education certification\, programming changes\, upcoming events\, surveys\, and post-event communications. \nRecording Disclaimer\nBy registering for an online FBA program\, you agree to the recording of audio and visual content presented during the live event and consent to subsequent use of the recording by the FBA. You agree that the recording is the sole property of the FBA and that the recording may be used by the FBA in any manner in its sole and absolute discretion. This recording may include questions and poll responses provided by you during the live event. If you do not consent to the recording and the FBA’s use of the same\, do not register for the event. \nIf you have any questions regarding this program\, please contact sections@fedbar.org
URL:https://www.fedbar.org/event/reflections-from-judge-royce-c-lamberth/
CATEGORIES:Federal Career Service Division,Judiciary Division,Senior Lawyers Division,Younger Lawyers Division
END:VEVENT
END:VCALENDAR