BEGIN:VCALENDAR
VERSION:2.0
PRODID:-//Federal Bar Association - ECPv6.15.15//NONSGML v1.0//EN
CALSCALE:GREGORIAN
METHOD:PUBLISH
X-ORIGINAL-URL:https://www.fedbar.org
X-WR-CALDESC:Events for Federal Bar Association
REFRESH-INTERVAL;VALUE=DURATION:PT1H
X-Robots-Tag:noindex
X-PUBLISHED-TTL:PT1H
BEGIN:VTIMEZONE
TZID:America/New_York
BEGIN:DAYLIGHT
TZOFFSETFROM:-0500
TZOFFSETTO:-0400
TZNAME:EDT
DTSTART:20230312T070000
END:DAYLIGHT
BEGIN:STANDARD
TZOFFSETFROM:-0400
TZOFFSETTO:-0500
TZNAME:EST
DTSTART:20231105T060000
END:STANDARD
BEGIN:DAYLIGHT
TZOFFSETFROM:-0500
TZOFFSETTO:-0400
TZNAME:EDT
DTSTART:20240310T070000
END:DAYLIGHT
BEGIN:STANDARD
TZOFFSETFROM:-0400
TZOFFSETTO:-0500
TZNAME:EST
DTSTART:20241103T060000
END:STANDARD
BEGIN:DAYLIGHT
TZOFFSETFROM:-0500
TZOFFSETTO:-0400
TZNAME:EDT
DTSTART:20250309T070000
END:DAYLIGHT
BEGIN:STANDARD
TZOFFSETFROM:-0400
TZOFFSETTO:-0500
TZNAME:EST
DTSTART:20251102T060000
END:STANDARD
END:VTIMEZONE
BEGIN:VEVENT
DTSTART;TZID=America/New_York:20240306T120000
DTEND;TZID=America/New_York:20240306T133000
DTSTAMP:20260421T095617
CREATED:20240223T193427Z
LAST-MODIFIED:20240228T141534Z
UID:462675-1709726400-1709731800@www.fedbar.org
SUMMARY:Qui Tam Section: [VIRTUAL] The Practicalities of a Parallel Proceeding
DESCRIPTION:**Program hosted in (ET) time zone** \nThis roundtable will examine parallel proceedings under the False Claims Act and related criminal statutes. In 90 minutes\, we will follow a case from inception\, to investigation\, to litigation/prosecution\, and global resolution. What makes a case remain civil or go criminal? What causes parallel proceedings to succeed or fail? When\, if ever\, can one investigation be used to aid the other? What are the roadblocks that arise\, and how do prosecutors overcome them? What are tips from the defense bar for handling thorny parallel investigations? All of this and more will be discussed by an outstanding panel consisting of an Assistant Chief in the Criminal Fraud Section\, a Trial Attorney from the Civil Fraud Section\, a former AUSA and former Trial Attorney now with the defense bar\, and an experienced relator’s side counsel. \n*** This event does not offer CLE credit *** \n[Register Online]\n\nPresenters\n \nLeslie Garthwaite\, Criminal Fraud Section\, U.S. Department of Justice \n  \n  \n  \n  \n  \n  \n \nKristen Murphy\, Civil Fraud Section\, U.S. Department of Justice \n  \n  \n  \n  \nVincent McKnight\, Sanford Heisler Sharp \n  \n  \n  \n  \nEllen London\, London & Stout \n  \n  \n  \n  \n  \n  \nModerator\n Derek Adams\, Potomac Law Group \n  \n  \n  \n\nRegistration\n[Register Online] \n\nFBA Members: $0\nNon-Members: $0\n\n\nCLE\nPlease note that CLE credit is not offered for this webinar. \n\nEmail Communication Policy \nBy registering for this event\, you agree to receive email communications from the Federal Bar Association and affiliated sponsors of the program concerning event details\, Continuing Legal Education certification\, programming changes\, upcoming events\, surveys\, and post-event communications. \nRecording Disclaimer \nBy registering for an FBA webinar\, you agree to the recording of audio and visual content presented during the live event and consent to subsequent use of the recording by the FBA. You agree that the recording is the sole property of the FBA and that the recording may be used by the FBA in any manner in its sole and absolute discretion. This recording may include questions and poll responses provided by you during the live event. If you do not consent to the recording and the FBA’s use of the same\, do not register for the event. \nIf you have any questions regarding this program\, please contact sections@fedbar.org.
URL:https://www.fedbar.org/event/fca-parallel/
CATEGORIES:Qui Tam Section
END:VEVENT
BEGIN:VEVENT
DTSTART;TZID=America/New_York:20240306T140000
DTEND;TZID=America/New_York:20240306T150000
DTSTAMP:20260421T095617
CREATED:20240126T215021Z
LAST-MODIFIED:20240214T174358Z
UID:446683-1709733600-1709737200@www.fedbar.org
SUMMARY:Webinar: Betting On Yourself: Attorneys Under 40 Making Big Moves
DESCRIPTION:This joint CLE webinar from the Federal Litigation Section and Younger Lawyers Division features attorneys who made big swings in their respective federal practices before the age of 40. Panelists Davida Brook\, a partner at Susman Godfrey L.L.P.’s Los Angeles office\, and Miangel Cody\, founder and lead counsel at The Decarceration Collective in Chicago\, will speak about their career paths–including high profile cases. Discussions topics will include how these distinguished attorneys navigated high-impact litigation in very different fields and what pushed them to bet on themselves to get where they are now. \n Presented by the Federal Litigation Section and the Younger Lawyers Division. \nRegister Now \nFor questions regarding this program\, please contact MyLaw CLE by email: registration@mylawcle.com or phone: 877-406-8636. \n\nAbout the Presenters\nDavida Brook\, Partner\, Susman Godfrey L.L.P.\nDavida Brook is a high-demand trial lawyer who is frequently brought in to help companies and individuals tackle their thorniest legal disputes. In 2023\, acting as co-lead counsel\, Ms. Brook and her team secured a historic $787.5 million settlement to resolve Dominion Voting System’s massive defamation lawsuit against Fox New Network over allegations that Fox made false statements that Dominion rigged the 2020 presidential election. Ms. Brook currently serves as co-lead counsel to the New York Timesin a groundbreaking copyright infringement action against Microsoft and OpenAI alleging that the companies illegally used millions of its articles to train ChatGBT. Ms. Brook also serves as co-lead counsel in a class action against PornHub parent company\, MindGeek\, over allegations that MindGeek violated federal sex trafficking and child pornography laws. Ms. Brook and her team recently certified an international class of tens of thousands of victims whose images were uploaded to MindGeek’s websites. Among other industry recognitions\, Ms. Brook has repeatedly been named one of the Top 100 Lawyers in California and Top Women Lawyers in California (Daily Journal) and one of the nation’s 500 Leading Litigators (Lawdragon). \nMiAngel Cody\, Founder\, Decarceration Collective\nMiAngel Cody is nationally recognized for her dedicated defense of men and women sentenced to life in federal prison. She is the founder of the Decarceration Collective\, a woman-powered law firm fighting to free people sentenced to life in prison for drugs and to end the laws that put the there. MiAngel has defended hundreds of people in federal court and won freedom for over 40 life-sentenced prisoners. Her victories include 6 successful commutations from the President of the United States. During her historic #90DaysOfFreedom Campaign\, in three short months\, MiAngel and her team won freedom for 17 federal prisoners unfairly sentenced to life without parole for drugs. MiAngel began her legal career as a law clerk to Federal Judge Myron H. Thompson of the United States District Court for the Middle District of Alabama. She then clerked for Federal Appeals Judge Ann Williams (Ret.) of the United States Court of Appeals for the Seventh Circuit. \n\nRegistration\n[Register Here] \n\nLive Broadcast | FBA Member: $0\nLive Broadcast | Nonmember: $95\nOn-Demand Broadcast | FBA Member: $50\nOn-Demand Broadcast | Nonmember: $95\n\nFor questions regarding this program\, please contact MyLaw CLE by email: registration@mylawcle.com or phone: 877-406-8636.\n\n(!) Please note: CLE for this webinar has not been pre-approved.\nMyLaw and the FBA will seek 1.0 General CLE credit hours in 60-minute states\, and 1.2 General CLE credit hours in 50-minute states. \nPosted credit hours are estimated and subject to respective state approval and rounding rules. CLE qualifications vary by state/jurisdiction. \nFor questions regarding this program\, please contact MyLaw CLE by email: registration@mylawcle.com or phone: 877-406-8636.
URL:https://www.fedbar.org/event/webinar-betting-on-yourself-attorneys-under-40-making-big-moves/
CATEGORIES:Federal Litigation Section,Younger Lawyers Division
END:VEVENT
END:VCALENDAR