BEGIN:VCALENDAR
VERSION:2.0
PRODID:-//Federal Bar Association - ECPv6.15.15//NONSGML v1.0//EN
CALSCALE:GREGORIAN
METHOD:PUBLISH
X-ORIGINAL-URL:https://www.fedbar.org
X-WR-CALDESC:Events for Federal Bar Association
REFRESH-INTERVAL;VALUE=DURATION:PT1H
X-Robots-Tag:noindex
X-PUBLISHED-TTL:PT1H
BEGIN:VTIMEZONE
TZID:America/New_York
BEGIN:DAYLIGHT
TZOFFSETFROM:-0500
TZOFFSETTO:-0400
TZNAME:EDT
DTSTART:20230312T070000
END:DAYLIGHT
BEGIN:STANDARD
TZOFFSETFROM:-0400
TZOFFSETTO:-0500
TZNAME:EST
DTSTART:20231105T060000
END:STANDARD
BEGIN:DAYLIGHT
TZOFFSETFROM:-0500
TZOFFSETTO:-0400
TZNAME:EDT
DTSTART:20240310T070000
END:DAYLIGHT
BEGIN:STANDARD
TZOFFSETFROM:-0400
TZOFFSETTO:-0500
TZNAME:EST
DTSTART:20241103T060000
END:STANDARD
BEGIN:DAYLIGHT
TZOFFSETFROM:-0500
TZOFFSETTO:-0400
TZNAME:EDT
DTSTART:20250309T070000
END:DAYLIGHT
BEGIN:STANDARD
TZOFFSETFROM:-0400
TZOFFSETTO:-0500
TZNAME:EST
DTSTART:20251102T060000
END:STANDARD
END:VTIMEZONE
BEGIN:VTIMEZONE
TZID:America/Los_Angeles
BEGIN:DAYLIGHT
TZOFFSETFROM:-0800
TZOFFSETTO:-0700
TZNAME:PDT
DTSTART:20230312T100000
END:DAYLIGHT
BEGIN:STANDARD
TZOFFSETFROM:-0700
TZOFFSETTO:-0800
TZNAME:PST
DTSTART:20231105T090000
END:STANDARD
BEGIN:DAYLIGHT
TZOFFSETFROM:-0800
TZOFFSETTO:-0700
TZNAME:PDT
DTSTART:20240310T100000
END:DAYLIGHT
BEGIN:STANDARD
TZOFFSETFROM:-0700
TZOFFSETTO:-0800
TZNAME:PST
DTSTART:20241103T090000
END:STANDARD
BEGIN:DAYLIGHT
TZOFFSETFROM:-0800
TZOFFSETTO:-0700
TZNAME:PDT
DTSTART:20250309T100000
END:DAYLIGHT
BEGIN:STANDARD
TZOFFSETFROM:-0700
TZOFFSETTO:-0800
TZNAME:PST
DTSTART:20251102T090000
END:STANDARD
END:VTIMEZONE
BEGIN:VEVENT
DTSTART;TZID=America/New_York:20240228T110000
DTEND;TZID=America/New_York:20240228T120000
DTSTAMP:20260421T180758
CREATED:20240213T194647Z
LAST-MODIFIED:20240214T152220Z
UID:453296-1709118000-1709121600@www.fedbar.org
SUMMARY:Webinar: Advancing Inclusivity and Accessibility in the Legal Profession and the Federal Courts
DESCRIPTION:Federal Practitioners\, please join the Federal Bar Association Diversity and Inclusion Committee for a webinar where you will be able to learn more about how to make your professional association reflect the rich diversity of the legal community.  The Committee will discuss implementing plans for Diversity and Inclusion and the Chapter\, Section and Division levels that will work with all associations. The roadmap and tools to achieve diversity and inclusion can be scaled for larger bars and their events\, but also for use on a smaller scale such as law firms.   Learn from the work of the FBA D&I Communications Subcommittee on best practices for ensuring law related bar association events\, programs\, and communications are accessible to people with disabilities; and D&I resources available to bars ranging from specialty\, local\, state\, and nationwide. \nPresented by the Diversity and Inclusion Committee  \nFor questions regarding this program\, please contact MyLaw CLE by email: registration@mylawcle.com or phone: 877-406-8636. \n[Register Now]\n\nAbout the Presenters\nWilliam Goren\, Attorney\, William D. Goren JD LLM LLC\nWilliam D. Goren\, Esq.\, of William D. Goren\, J.D.\, LL.M. LLC in Decatur\, GA\, has been dealing with the ADA as an Attorney since 1990. His law and consulting practice\, https://www.understandingtheada.com/\, as well as his blog\, Understanding the ADA\, (a member of the ABA Top 100 for five consecutive years\, 2014-2018- there was no ABA 100 in 2019-2021)\, all focus on understanding the ADA so that the client understands what it means to comply with that law and related laws. In particular\, he provides consulting\, counseling\, representation\, and training services involving compliance with the Americans with Disabilities Act\, Rehabilitation Act of 1973\, and related laws- such as the Air Carrier Access Act and the Fair Housing Act\, among others. Mr. Goren also brings a deep\, personal understanding of what it means to have a disability\, equipping him with exceptional insight on how the ADA actually works. He is deaf with a congenital bilateral hearing loss of 65–90+ decibels\, but functions entirely in the hearing world thanks to hearing aids\, Bluetooth technology\, and lip-reading. For reasons independent of his deafness\, he also uses voice dictation technology to access his computer. He is also a frequent presenter\, a trained mediator\, a FINRA arbitrator (Chairperson eligible)\, and an arbitrator on the CPR employment panel. Finally\, he is the author of Understanding the ADA\, now in its 4th edition (ABA 2013)\, and numerous other articles on the rights of persons with disabilities. He is a member of various committees of the American Bar Association and is also a member of: the Federal Bar Association (FBA) Diversity and Inclusion committee; the FBA’s Civil Rights committee and its Governing Board; FBA’s Civil Rights Amicus committee; and the Chair of the FBA’s Working Group on Disability Best Practices\, which formulated an accessibility manual for the FBA and its chapters. He is also a member of the Deaf and Hard of Hearing Bar Association and its lead for its Amicus committee. He has an A.B. from Vassar College\, a J.D. from University of San Diego School of Law\, and was one of the first in the entire country to receive the LL.M. in health law\, in his case from DePaul University College of Law. Interesting fact: He trained his miniature poodle to be a hearing dog while he practices virtually. \n \nDora F. Kaufman\, Shareholder\, Liebler\, Gonzalez & Portuondo\nDora F. Kaufman is an AV-rated Shareholder in the law firm of Liebler\, Gonzalez & Portuondo\, where she practices primarily in the areas of complex commercial litigation\, banking law\, creditors’ rights\, bankruptcy\, and debtor and creditor workouts. Ms. Kaufman is admitted to practice before the Florida Bar (1988)\, the District of Columbia Bar\, the United States District and Bankruptcy Courts for the Southern\, Middle and Northern Districts of Florida and the United States Courts of Appeals for the Eleventh and Federal Circuits. She received her B.A. degree\, Summa Cum Laude\, and her J.D. degree from Georgetown University. \n Lisa Kpor\, Litigation Counsel\, United Airlines \nLisa M. Kpor is Litigation Counsel for United Airlines\, where she provides guidance to the global Fortune 500 company on numerous matters related to disputes and litigation. Lisa graduated from Oberlin College in 2011 with a Bachelor of Arts in German and Politics. She then attended the University of Illinois College of Law. \nAfter graduating from law school and passing the bar exam\, Lisa worked as a Litigation and Entertainment Associate at Holland & Knight\, LLP in Chicago\, Illinois for nearly nine years. Her litigation experience included a broad range of legal issues\, including shareholder oppression actions\, financial services litigation\, product liability disputes\, and complex breach of contract suits. With respect to her prior entertainment law practice\, Lisa represented Grammy Award-winning musicians\, best-selling authors\, Academy Award-nominated filmmakers\, and a host of other creative individuals in contract negotiations related to film\, television\, and publication deals. \nLisa currently serves on the Board of Directors for the Chicago Chapter of the Federal Bar Association (FBA)\, and she was previously the Chair of the FBA’s Diversity and Inclusion Committee. She is an accomplished attorney who has received several awards for her contributions to the legal profession\, including the Next Gen Emerging Millennial Leader Award from the Corporate Counsel Women of Color\, the Rising Star Award from the National Immigrant Justice Center\, and an Award for Excellence in Pro Bono Service from the U.S. District Court for the Northern District of Illinois. Lisa has also received recognition from The Best Lawyers in America\, Super Lawyers Magazine\, and The National Black Lawyers. Even with a robust practice\, Lisa continues to mentor students through the FBA’s Lift Up Leaders Mentorship Program\, the Leadership Council on Legal Diversity and The Posse Foundation\, where she serves on its Chicago Leadership Council. \nRafael Zahralddin-Aravena\, Partner\, Lewis Brisbois \nRafael X. Zahralddin-Aravena is a partner in the Wilmington office of Lewis Brisbois and a member of the Corporate\, Bankruptcy\, Complex Business & Commercial Litigation\, Digital Asset\, and Ukraine Conflict Response Practices. He is a skilled business lawyer and litigator with significant experience advising clients in corporate and commercial litigation\, insolvency\, distressed M&A\, compliance\, corporate law and entity formation\, corporate governance\, commercial transactions\, cyber law\, regulatory actions\, and cross-border issues. \nRafael represents clients in all aspects of bankruptcy and restructuring and has extensive experience in international commercial law issues\, including cross-border insolvency\, federal bankruptcy court matters\, assignments for the benefits of creditors\, and receiverships. Rafael’s international law experience\, particularly in international commercial transactions\, brings a unique and nuanced approach to business issues both inside and outside of distressed situations. \nHe has also worked for two decades with early-stage companies and venture capitalists and private venture funds as both a transactional lawyer and a corporate litigator. He has assisted businesses in starting\, selling\, or buying a business\, and dealing with employees and contracts\, among other operational issues. This experience has been critical in the representation of both debtors and creditors committees in chapter 11. Rafael is noted for his problem-solving abilities\, especially with varied constituencies on official and ad hoc committees\, including trade creditors\, bondholders\, labor unions\, and other key stakeholders in insolvency matters. \nHe is a fellow of the American Bar Foundation\, which is limited to less than 1% of lawyers licensed to practice in each jurisdiction and is a National Association of Corporate Directors (NACD) Governance Fellow\, the highest level of credentialing for corporate directors and corporate governance professionals. He has been recognized as a Philadelphia Inquirer Influencer of Law by an expert panel of judges who felt he shaped\, changed\, and transformed the legal industry. The Philadelphia Business Journal awarded him both “Best of the Bar” and “Top Minority Business Leader” in 2020. \nA Six Sigma Green Belt\, Rafael is an extensive writer and lecturer and has trained both in-house lawyers and outside law firms in legal project management\, lean practices\, and Six Sigma application to value-added provision of legal services. He is also the co-editor and author of several chapters in the American Bar Association’s Reorganizing Failing Businesses treatise and has written an extensive number of publications for bar journals\, periodicals\, law reviews and trade organizations. He has also been active as a lawyer and speaker\, in regard to privacy\, cybersecurity\, and legal issues surrounding digital assets. He successfully completed Cyber Enterprise Risk Management Cyber Security Training in 2015 with Axon Global Services and the Kogod School of Business Center for Cyber Governance. \nThe Delaware Bar Association’s Multi-cultural section awarded Rafael the Excellence in Community Service Award in 2016. \nHe has served in various leadership positions in law firms including co-founding a Delaware office\, as a Managing Shareholder of an office of a regional firm\, as a responsible partner\, and as a practice group chair. \nHis distinguished career also includes serving as general counsel to the Hispanic National Bar Association. Early in his career\, Rafael served as a judicial law clerk to the Hon. Samuel L. Bufford in U.S. Bankruptcy Court for the Central District of California. \nHe was a founding faculty member and Associate Professor at Chapman University School of Law in Orange\, California. Prior to becoming a tenure track professor\, Rafael was a senior writing fellow at Georgetown University Law Center. \nModerator\nKatherine Earle Yanes\, Partner\, Kynes Markman & Felman\, P.A \nKatherine Earle Yanes is a partner in the Tampa\, Florida law firm Kynes Markman & Felman\, P.A. She concentrates her practice in the areas of criminal defense\, appeals\, and postconviction relief and has successfully represented defendants at the trial\, appellate\, and postconviction phases of criminal litigation in federal and state courts\, as well as in government investigations. \n  \n  \n\nRegistration\n[Register Now!]\nRegistration for this event will close Wednesday\, February 28\, 2024\, at 11:00 AM EDT. \n\nLive Broadcast | FBA Member: $0\nLive Broadcast | Nonmember: $95\nOn-Demand Broadcast | FBA Member: $50\nOn-Demand Broadcast | Nonmember: $95\n\nFor questions regarding this program\, please contact MyLaw CLE by email: registration@mylawcle.com or phone: 877-406-8636.\n\n(!) Please note: CLE for this webinar has not been pre-approved.\nMyLaw and the FBA will seek 1.0 General CLE credit hours in 60-minute states\, and 1.2 General CLE credit hours in 50-minute states. \nPosted credit hours are estimated and subject to respective state approval and rounding rules. CLE qualifications vary by state/jurisdiction. \nFor questions regarding this program\, please contact MyLaw CLE by email: registration@mylawcle.com or phone: 877-406-8636.
URL:https://www.fedbar.org/event/webinar-advancing-inclusivity-and-accessibility-in-the-legal-profession-and-the-federal-courts/
END:VEVENT
BEGIN:VEVENT
DTSTART;TZID=America/Los_Angeles:20240228T170000
DTEND;TZID=America/Los_Angeles:20240228T183000
DTSTAMP:20260421T180758
CREATED:20240221T162720Z
LAST-MODIFIED:20240221T162815Z
UID:461820-1709139600-1709145000@www.fedbar.org
SUMMARY:Northern District of California Chapter: Anti-Asian Hate - Past and Present - With Hope for the Future: A Case Study of Law\, Politics and Practice - CLE
DESCRIPTION:This program will be a case study of law\, politics and practice regarding anti-asian hate. \nSpeakers\n\nGEORGE CHANG\, historian and Stanford professor\nQUYEN TA\, attorney and Alliance for Asian American Justice\nDAVID LEI\, historian and activist\nLORNA RANDLETT\, CEO/founder\, Leaders Forum\nVINCENT PAN\, founding leader\, Stop AAPI Hate Coalition\nMICHAEL OMI\, UC Emeritus Professor\n\nEvent Flyer \nFree for in person/virtual\, seeking 1.5 MCLE cost is $50.00
URL:https://www.fedbar.org/event/northern-district-of-california-chapter-anti-asian-hate-past-and-present-with-hope-for-the-future-a-case-study-of-law-politics-and-practice-cle/
LOCATION:UC School of Law\, 198 McAllister St\, San Francisco\, 94102\, United States
CATEGORIES:In Person Chapter CLE,Northern District of California Chapter
ATTACH;FMTTYPE=image/png:https://www.fedbar.org/wp-content/uploads/2024/02/Screenshot-2024-02-21-112557.png
ORGANIZER;CN="Alex Murray":MAILTO:admin@fbandca.org
GEO:37.7809761;-122.4151228
X-APPLE-STRUCTURED-LOCATION;VALUE=URI;X-ADDRESS=UC School of Law 198 McAllister St San Francisco 94102 United States;X-APPLE-RADIUS=500;X-TITLE=198 McAllister St:geo:-122.4151228,37.7809761
END:VEVENT
END:VCALENDAR