BEGIN:VCALENDAR
VERSION:2.0
PRODID:-//Federal Bar Association - ECPv6.15.15//NONSGML v1.0//EN
CALSCALE:GREGORIAN
METHOD:PUBLISH
X-ORIGINAL-URL:https://www.fedbar.org
X-WR-CALDESC:Events for Federal Bar Association
REFRESH-INTERVAL;VALUE=DURATION:PT1H
X-Robots-Tag:noindex
X-PUBLISHED-TTL:PT1H
BEGIN:VTIMEZONE
TZID:America/Chicago
BEGIN:DAYLIGHT
TZOFFSETFROM:-0600
TZOFFSETTO:-0500
TZNAME:CDT
DTSTART:20220313T080000
END:DAYLIGHT
BEGIN:STANDARD
TZOFFSETFROM:-0500
TZOFFSETTO:-0600
TZNAME:CST
DTSTART:20221106T070000
END:STANDARD
BEGIN:DAYLIGHT
TZOFFSETFROM:-0600
TZOFFSETTO:-0500
TZNAME:CDT
DTSTART:20230312T080000
END:DAYLIGHT
BEGIN:STANDARD
TZOFFSETFROM:-0500
TZOFFSETTO:-0600
TZNAME:CST
DTSTART:20231105T070000
END:STANDARD
BEGIN:DAYLIGHT
TZOFFSETFROM:-0600
TZOFFSETTO:-0500
TZNAME:CDT
DTSTART:20240310T080000
END:DAYLIGHT
BEGIN:STANDARD
TZOFFSETFROM:-0500
TZOFFSETTO:-0600
TZNAME:CST
DTSTART:20241103T070000
END:STANDARD
END:VTIMEZONE
BEGIN:VEVENT
DTSTART;TZID=America/Chicago:20231227T090000
DTEND;TZID=America/Chicago:20231227T150000
DTSTAMP:20260422T102856
CREATED:20231221T224005Z
LAST-MODIFIED:20231221T225906Z
UID:433382-1703667600-1703689200@www.fedbar.org
SUMMARY:Oklahoma City Chapter: 2023 10th Circuit Year in Review
DESCRIPTION:The 2023 Tenth Circuit Year in Review is an exciting online event that you don’t want to miss! Join us on Wednesday\, December 27th & Thursday\, December 28th at 9:00 AM (Central Standard Time) for a comprehensive review of the Tenth Circuit’s legal highlights from the past year. During this event\, we will delve into the most significant cases\, rulings\, and legal developments that have shaped the Tenth Circuit’s jurisprudence in 2023. Whether you are a legal professional\, a law student\, or simply interested in staying informed about the latest legal trends\, this event is perfect for you. Our expert panel of judges\, attorneys\, and legal scholars will provide insightful analysis and commentary on the key decisions made by the Tenth Circuit throughout the year. This is a fantastic opportunity to gain valuable insights\, expand your legal knowledge\, and engage in meaningful discussions with fellow legal enthusiasts. \nDon’t miss out on this unique opportunity to stay up-to-date with the latest legal developments in the Tenth Circuit! \n\nRobert Bacharach\, United States Circuit Judge\, Tenth Circuit Court of Appeals\nScott Butcher\, Crowe & Dunlevy\, P.C.\, Oklahoma City\, Oklahoma\nAlison Eid\, United States Circuit Judge\, Tenth Circuit Court of Appeals\nAmanda Finch\, Crowe & Dunlevy\, P.C.\, Oklahoma City\, Oklahoma\nStephen Galoob\, Professor of Law\, University of Tulsa College of Law\nAmanda Maxfield Green\, United States Magistrate Judge\, Western District of Oklahoma\nTaiawagi Helton\, Professor of Law\, University of Oklahoma College of Law\nMithun Mansinghani\, Lehotsky Keller Cohn\, Oklahoma City\, Oklahoma\nDavid McCrary\, Assistant United States Attorney\, Western District of Oklahoma\nRoss Plourde\, McAfee & Taft\, P.C.\, Oklahoma City\, Oklahoma\nRabindranath Ramana\, Esq.\, law clerk\, United States Court of Appeals for the Tenth Circuit\nVeronica Rossman\, United States Circuit Judge\, Tenth Circuit Court of Appeals\nMichael Salem\, Salem Law Offices\, Norman\, Oklahoma\nJoshua Snavely\, McAfee & Taft\, P.C.\, Oklahoma City\, Oklahoma\nChris Stephens\, Assistant United States Attorney\, Western District of Oklahoma\nKyle Wackenheim\, Assistant Federal Public Defender\, Western District of Oklahoma\nCourtney Warmington\, Fuller\, Tubb\, Bickford\, Warmington & Panach\, PLLC\, Oklahoma City\, Oklahoma\n\nClick Here for more information regarding this event’s agenda and registration form. \n\nRegistration\nRSVP Online by Tuesday\, December 26\nhttps://www.eventbrite.com/e/2023-tenth-circuit-year-in-review-tickets-752969501047?aff=oddtdtcreator \n\n$100 Ticket Price\n$50 – Discount applies to the following groups: law student\, government employee\, or member of the Federal Bar Association\, Faculty of Federal Advocates\, or Tenth Circuit Historical Society.\n\n\nCLE\nThe Oklahoma City Chapter is seeking 12 CLE Credits for this event\, including 2 hours of ethics. Attendees must fill out the attendance form\, linked on the online event page\, after the event is over to ensure that credits is reported. Thus far\, Wyoming has approved this program for CLE credit. Approval is pending for Oklahoma\, Colorado\, New Mexico\, Kansas\, and Utah. If you are barred in any other state you will need to submit the materials (available on the event page) to your state for approval/credit. \n\nQuestions regarding this event can be directed to Amanda Finch at OklahomaCityFBA@okcfedbar.com or 405-618-3232
URL:https://www.fedbar.org/event/oklahoma-city-chapter-2023-10th-circuit-year-in-review/
LOCATION:Online\, US
CATEGORIES:Oklahoma City Chapter
GEO:37.09024;-95.712891
END:VEVENT
END:VCALENDAR