BEGIN:VCALENDAR
VERSION:2.0
PRODID:-//Federal Bar Association - ECPv6.15.15//NONSGML v1.0//EN
CALSCALE:GREGORIAN
METHOD:PUBLISH
X-WR-CALNAME:Federal Bar Association
X-ORIGINAL-URL:https://www.fedbar.org
X-WR-CALDESC:Events for Federal Bar Association
REFRESH-INTERVAL;VALUE=DURATION:PT1H
X-Robots-Tag:noindex
X-PUBLISHED-TTL:PT1H
BEGIN:VTIMEZONE
TZID:America/New_York
BEGIN:DAYLIGHT
TZOFFSETFROM:-0500
TZOFFSETTO:-0400
TZNAME:EDT
DTSTART:20220313T070000
END:DAYLIGHT
BEGIN:STANDARD
TZOFFSETFROM:-0400
TZOFFSETTO:-0500
TZNAME:EST
DTSTART:20221106T060000
END:STANDARD
BEGIN:DAYLIGHT
TZOFFSETFROM:-0500
TZOFFSETTO:-0400
TZNAME:EDT
DTSTART:20230312T070000
END:DAYLIGHT
BEGIN:STANDARD
TZOFFSETFROM:-0400
TZOFFSETTO:-0500
TZNAME:EST
DTSTART:20231105T060000
END:STANDARD
BEGIN:DAYLIGHT
TZOFFSETFROM:-0500
TZOFFSETTO:-0400
TZNAME:EDT
DTSTART:20240310T070000
END:DAYLIGHT
BEGIN:STANDARD
TZOFFSETFROM:-0400
TZOFFSETTO:-0500
TZNAME:EST
DTSTART:20241103T060000
END:STANDARD
END:VTIMEZONE
BEGIN:VTIMEZONE
TZID:America/Los_Angeles
BEGIN:DAYLIGHT
TZOFFSETFROM:-0800
TZOFFSETTO:-0700
TZNAME:PDT
DTSTART:20220313T100000
END:DAYLIGHT
BEGIN:STANDARD
TZOFFSETFROM:-0700
TZOFFSETTO:-0800
TZNAME:PST
DTSTART:20221106T090000
END:STANDARD
BEGIN:DAYLIGHT
TZOFFSETFROM:-0800
TZOFFSETTO:-0700
TZNAME:PDT
DTSTART:20230312T100000
END:DAYLIGHT
BEGIN:STANDARD
TZOFFSETFROM:-0700
TZOFFSETTO:-0800
TZNAME:PST
DTSTART:20231105T090000
END:STANDARD
BEGIN:DAYLIGHT
TZOFFSETFROM:-0800
TZOFFSETTO:-0700
TZNAME:PDT
DTSTART:20240310T100000
END:DAYLIGHT
BEGIN:STANDARD
TZOFFSETFROM:-0700
TZOFFSETTO:-0800
TZNAME:PST
DTSTART:20241103T090000
END:STANDARD
END:VTIMEZONE
BEGIN:VEVENT
DTSTART;TZID=America/New_York:20231101T130000
DTEND;TZID=America/New_York:20231101T140000
DTSTAMP:20260422T095125
CREATED:20231012T194849Z
LAST-MODIFIED:20231031T181154Z
UID:408493-1698843600-1698847200@www.fedbar.org
SUMMARY:Webinar: The Federal Trade Commission’s Expanding Antitrust Enforcement Policies and Related Legal Challenges
DESCRIPTION:Join the Federal Bar Association’s Antitrust and Trade Regulation Section for a presentation on recent policy changes and related challenges to the FTC’s enforcement authority. The panel will provide an overview of major policy changes at the FTC during the last year that seek to expand the agency’s enforcement priorities. At the same time\, the FTC has faced several legal challenges curtailing its enforcement authority and other challenges are on the horizon. The panel will discuss this ongoing tension and related implications. \nPresented by the Antitrust & Trade Regulation Section. \n\nAbout the Presenters\nAdam M. Acosta\, Partner\, White & Case LLP\nAdam Acosta is a partner in White & Case LLP’s Global Antitrust and Competition practice.  Adam focuses on complex and high-stakes commercial disputes\, often involving antitrust\, consumer-protection\, and breach-of-contract claims.  He is recognized as a “Leading Litigator in America” (Lawdragon 500\, 2023) and “has a strong reputation for successfully handling government investigations and litigating cartel/conspiracy antitrust case” (Legal 500 US\, 2021). \nAsheesh Agarwal\, Advisor\, American Edge Project \nAsheesh Agarwal is an advisor to the American Edge Project and other tech companies\, trade associations\, and non-profits\, with a focus on competition law and policy. He has served in senior roles at the Federal Trade Commission and Department of Justice. An alumnus of Northwestern University and the University of Chicago Law School\, Asheesh lives in Indiana with his family. \n  \nAshley Baker\, Director of Public Policy\, Committee for Justice\nAshley Baker is the Director of Public Policy at the Committee for Justice. Her focus areas include the Supreme Court\, regulatory policy\, antitrust\, and judicial nominations. Her writing has frequently appeared in Fox News\, USA Today\, The Boston Globe\, Law360\, The American Spectator\, and many other publications. She has testified before the United States Senate Committee on the Judiciary on the topic of antitrust law.\nShe is also the founder of the Alliance on Antitrust. The Alliance on Antitrust is a coalition of more than two dozen conservative organizations and individuals defending the consumer welfare standard and the rule of law while fostering a greater understanding of the issues and arguments at the core of the antitrust debate. \nRyan Thomas\, Partner\, Jones Day\nRyan counsels clients on antitrust matters before U.S. and international enforcement agencies\, including cross-border M&A transactions and government investigations\, as well as antitrust litigation. He has represented clients before the Federal Trade Commission\, U.S. Department of Justice (DOJ)\, state\, and international antitrust enforcers. Ryan has extensive experience across industries\, including semiconductors\, aerospace\, pharmaceuticals\, consumer products\, and food and agriculture. \n  \n\nRegistration\nRegistration for this event is now closed. \nAttendees will receive the zoom streaming link in their confirmation email. Streaming information will also be circulated via email after registration closes the day prior to the webinar date. \n\nFBA Member: $0\nNonmember: $75\n\nAccessibility: Closed captioning and dial-in is available for all virtual webcasts. \nCancellation Policy: No refunds will be made for notices of cancellation received within seven (7) days of the webinar date. No-shows will be billed. Substitutions may be made up to one business day prior to the event except as the Association otherwise agrees in writing. Please contact meetings@fedbar.org with cancellation and/or substitution requests. \nInternet Requirements: Virtual programs require suitable internet strength to stream online panels. A minimum internet connection of 800 Kbps is recommended for an optimal attendee experience. Test your connection here.  \n\nCLE\n(!) Please note: CLE for this webinar has not been pre-approved. Applications and subsequent reporting will be filed post-event.\nThe FBA will seek 1.0 General CLE credit hours in 60-minute states\, and 1.2 General CLE credit hours in 50-minute states. \nPosted credit hours are estimated and subject to respective state approval and rounding rules. CLE qualifications vary by state/jurisdiction and the FBA takes every measure to collaborate with presenters to ensure approval. \nCredit will be processed/reported approximately 4-6 weeks after the event date and available for credit in states that allow credit for live webinar presentations. You must attend the live broadcast\, answer engagement polls\, and accurately enter your bar number in registrant forms to receive credit. Certificates and required documentation for self-reporting states will be issued via email\, upon state bar approval. Thank you in advance for your patience\, as state bars are experiencing significant delays with virtual program processing. \nAccess more information about CLE Attendance & Reporting. \n\nEmail Communication Policy: By registering for this event\, you agree to receive email communications from the Federal Bar Association and affiliated sponsors of the program concerning event details\, Continuing Legal Education certification\, programming changes\, upcoming events\, surveys\, and post-event communications. \nRecording Disclaimer: By registering for an FBA webinar\, you agree to the recording of audio and visual content presented during the live event and consent to subsequent use of the recording by the FBA. You agree that the recording is the sole property of the FBA and that the recording may be used by the FBA in any manner in its sole and absolute discretion. This recording may include questions and poll responses provided by you during the live event. If you do not consent to the recording and the FBA’s use of the same\, do not register for the event. \nIf you have any questions regarding this program\, please contact meetings@fedbar.org.
URL:https://www.fedbar.org/event/webinar-the-federal-trade-commissions-expanding-antitrust-enforcement-policies-and-related-legal-challenges/
CATEGORIES:Antitrust Trade Regulation Section
END:VEVENT
BEGIN:VEVENT
DTSTART;TZID=America/Los_Angeles:20231101T140000
DTEND;TZID=America/Los_Angeles:20231101T150000
DTSTAMP:20260422T095125
CREATED:20231018T154843Z
LAST-MODIFIED:20231018T154843Z
UID:410400-1698847200-1698850800@www.fedbar.org
SUMMARY:Northern District of California Chapter: Write to the Point- Getting the Most From Written Advocacy
DESCRIPTION:The Northern District of California Chapter invites you to to a virtual session to hear views of federal district and appellate judges on written advocacy. \n\nSenior Judge William Fletcher\, U.S. Court of Appeals for the Ninth Circuit\nSenior Judge William Alsup\, U.S. District Court for the Northern District of California\nHon. Trina Thompson\, U.S. District Court for the Northern District of California\n\n\nRegistration\nRSVP Online by November 1 (Noon PDT)\nhttps://Writetothepoint.eventbrite.com \n\n$25 FBA Members\n$40 Nonmembers\n\n\nQuestions regarding this event can be directed to Randy Sue Pollock at rsp@rspollocklaw.com or 510-703-3370
URL:https://www.fedbar.org/event/northern-district-of-california-chapter-write-to-the-point-getting-the-most-from-written-advocacy/
LOCATION:Online\, US
CATEGORIES:Northern District of California Chapter
GEO:37.09024;-95.712891
END:VEVENT
END:VCALENDAR