BEGIN:VCALENDAR
VERSION:2.0
PRODID:-//Federal Bar Association - ECPv6.15.15//NONSGML v1.0//EN
CALSCALE:GREGORIAN
METHOD:PUBLISH
X-ORIGINAL-URL:https://www.fedbar.org
X-WR-CALDESC:Events for Federal Bar Association
REFRESH-INTERVAL;VALUE=DURATION:PT1H
X-Robots-Tag:noindex
X-PUBLISHED-TTL:PT1H
BEGIN:VTIMEZONE
TZID:America/Los_Angeles
BEGIN:DAYLIGHT
TZOFFSETFROM:-0800
TZOFFSETTO:-0700
TZNAME:PDT
DTSTART:20220313T100000
END:DAYLIGHT
BEGIN:STANDARD
TZOFFSETFROM:-0700
TZOFFSETTO:-0800
TZNAME:PST
DTSTART:20221106T090000
END:STANDARD
BEGIN:DAYLIGHT
TZOFFSETFROM:-0800
TZOFFSETTO:-0700
TZNAME:PDT
DTSTART:20230312T100000
END:DAYLIGHT
BEGIN:STANDARD
TZOFFSETFROM:-0700
TZOFFSETTO:-0800
TZNAME:PST
DTSTART:20231105T090000
END:STANDARD
BEGIN:DAYLIGHT
TZOFFSETFROM:-0800
TZOFFSETTO:-0700
TZNAME:PDT
DTSTART:20240310T100000
END:DAYLIGHT
BEGIN:STANDARD
TZOFFSETFROM:-0700
TZOFFSETTO:-0800
TZNAME:PST
DTSTART:20241103T090000
END:STANDARD
END:VTIMEZONE
BEGIN:VEVENT
DTSTART;TZID=America/Los_Angeles:20231019T180000
DTEND;TZID=America/Los_Angeles:20231019T210000
DTSTAMP:20260423T043733
CREATED:20230911T133202Z
LAST-MODIFIED:20230911T133202Z
UID:397733-1697738400-1697749200@www.fedbar.org
SUMMARY:Orange County Chapter: Annual Judges' Night
DESCRIPTION:We invite you to our annual dinner honoring the judges of the Ninth Circuit and Central District. \n\nFeaturing the presentation of the Annual JUDGE ALICEMARIE H. STOTLER AWARD to KENNETH W. BABCOCK (Retired Executive Director\, Public Law Center)\nHon. Philip S. Gutierrez\, Chief Judge\, U.S. District Court\, Central District of California\, will discuss the state of the District and install the officers and directors.\n\n\nRegistration\n[Register Online] and prepay by October 12.\nhttps://www.fbaoc.com/#!event/2023/10/19/annual-judges-night \nIf paying by check\, email info@FBAOC.com and mail your check payment by above deadline to: FBA/OC\, P.O. Box 6130\, Newport Beach 92658 \n\nFBA/OC Member $150 • Non-Member $200\nGovernment Employee $60\nEvent Sponsor and Table of 10 $2000\nJudges and Judicial Staff are Complimentary\n\nUpon registration you will receive an automatic receipt and later\, as the event nears\, we’ll provide a detailed confirmation notice. If you don’t see these messages\, please check your junk mail folder. We ask you to consider whitelisting info@FBAOC.com to avoid missing any notices. \n\nQuestions regarding this chapter event should be directed to info@FBAOC.com or 949-608-9905
URL:https://www.fedbar.org/event/orange-county-chapter-annual-judges-night/
LOCATION:Renaissance Newport Beach\, 4500 MacArthur Boulevard\, Newport Beach\, CA
CATEGORIES:Orange County Chapter
GEO:33.6674812;-117.8627364
X-APPLE-STRUCTURED-LOCATION;VALUE=URI;X-ADDRESS=Renaissance Newport Beach 4500 MacArthur Boulevard Newport Beach CA;X-APPLE-RADIUS=500;X-TITLE=4500 MacArthur Boulevard:geo:-117.8627364,33.6674812
END:VEVENT
END:VCALENDAR