BEGIN:VCALENDAR
VERSION:2.0
PRODID:-//Federal Bar Association - ECPv6.15.15//NONSGML v1.0//EN
CALSCALE:GREGORIAN
METHOD:PUBLISH
X-ORIGINAL-URL:https://www.fedbar.org
X-WR-CALDESC:Events for Federal Bar Association
REFRESH-INTERVAL;VALUE=DURATION:PT1H
X-Robots-Tag:noindex
X-PUBLISHED-TTL:PT1H
BEGIN:VTIMEZONE
TZID:America/Chicago
BEGIN:DAYLIGHT
TZOFFSETFROM:-0600
TZOFFSETTO:-0500
TZNAME:CDT
DTSTART:20220313T080000
END:DAYLIGHT
BEGIN:STANDARD
TZOFFSETFROM:-0500
TZOFFSETTO:-0600
TZNAME:CST
DTSTART:20221106T070000
END:STANDARD
BEGIN:DAYLIGHT
TZOFFSETFROM:-0600
TZOFFSETTO:-0500
TZNAME:CDT
DTSTART:20230312T080000
END:DAYLIGHT
BEGIN:STANDARD
TZOFFSETFROM:-0500
TZOFFSETTO:-0600
TZNAME:CST
DTSTART:20231105T070000
END:STANDARD
BEGIN:DAYLIGHT
TZOFFSETFROM:-0600
TZOFFSETTO:-0500
TZNAME:CDT
DTSTART:20240310T080000
END:DAYLIGHT
BEGIN:STANDARD
TZOFFSETFROM:-0500
TZOFFSETTO:-0600
TZNAME:CST
DTSTART:20241103T070000
END:STANDARD
END:VTIMEZONE
BEGIN:VTIMEZONE
TZID:America/Los_Angeles
BEGIN:DAYLIGHT
TZOFFSETFROM:-0800
TZOFFSETTO:-0700
TZNAME:PDT
DTSTART:20220313T100000
END:DAYLIGHT
BEGIN:STANDARD
TZOFFSETFROM:-0700
TZOFFSETTO:-0800
TZNAME:PST
DTSTART:20221106T090000
END:STANDARD
BEGIN:DAYLIGHT
TZOFFSETFROM:-0800
TZOFFSETTO:-0700
TZNAME:PDT
DTSTART:20230312T100000
END:DAYLIGHT
BEGIN:STANDARD
TZOFFSETFROM:-0700
TZOFFSETTO:-0800
TZNAME:PST
DTSTART:20231105T090000
END:STANDARD
BEGIN:DAYLIGHT
TZOFFSETFROM:-0800
TZOFFSETTO:-0700
TZNAME:PDT
DTSTART:20240310T100000
END:DAYLIGHT
BEGIN:STANDARD
TZOFFSETFROM:-0700
TZOFFSETTO:-0800
TZNAME:PST
DTSTART:20241103T090000
END:STANDARD
END:VTIMEZONE
BEGIN:VEVENT
DTSTART;TZID=America/Chicago:20231005T170000
DTEND;TZID=America/Chicago:20231005T170000
DTSTAMP:20260421T095604
CREATED:20230929T170835Z
LAST-MODIFIED:20230929T171114Z
UID:404344-1696525200-1696525200@www.fedbar.org
SUMMARY:Mississippi Chapter: Law Clerk Reception
DESCRIPTION:Please join the Mississippi Chapter of the Federal Bar Association on Thursday\, October 5\, at 5:00 p.m.\, as we welcome the Southern District of Mississippi’s incoming class of federal law clerks. \nThe Mississippi Chapter and the Southern District are co-sponsoring this welcome reception at the Thad Cochran Federal Courthouse in Jackson\, Mississippi. All active members of the FBA’s Mississippi Chapter are invited to attend. Reception invitees also include federal judges and law clerks in the Southern District and federal courthouse personnel. Light refreshments and beverages will be served. \n\nRegistration\n[RSVP Online] no later than Wednesday\, October 4 \nReserved exclusively for Chapter Members \n\nQuestions regarding this event can be directed to Candace Gregory at Candace.Gregory@phelps.com or 601-965-4480
URL:https://www.fedbar.org/event/mississippi-chapter-law-clerk-reception/
LOCATION:Thad Cochran Federal Courthouse\, 501 E Court Street\, Jackson\, MS\, 39201
CATEGORIES:Mississippi Chapter
GEO:32.2948549;-90.1841902
X-APPLE-STRUCTURED-LOCATION;VALUE=URI;X-ADDRESS=Thad Cochran Federal Courthouse 501 E Court Street Jackson MS 39201;X-APPLE-RADIUS=500;X-TITLE=501 E Court Street:geo:-90.1841902,32.2948549
END:VEVENT
BEGIN:VEVENT
DTSTART;TZID=America/Los_Angeles:20231005T170000
DTEND;TZID=America/Los_Angeles:20231005T183000
DTSTAMP:20260421T095604
CREATED:20230920T143805Z
LAST-MODIFIED:20230920T144002Z
UID:400993-1696525200-1696530600@www.fedbar.org
SUMMARY:Northern District of California: Breaking the Glass Bar - Trailblazing Women of the Northern Disctrict
DESCRIPTION:A conversation with current and future female leaders in the Northern District. \n\nHon. Susan Illston\, Senior Judge\, U.S. District Court\, Northern District of California\nCatherine L. Fisk\, Barbara Nachtrieb Armstrong Distinguished Professor of Law\, UC Berkeley School of Law\nJodi Linker\, Federal Public Defender\, Northern District of California\nLouise Renne\, Public Law Group\, former San Francisco City Attorney 1986-2001\nQuyen Ta\, Partner\, King & Spalding\n\nPresented by the Ninth Judicial Circuit Historical Society (NJCHS) and Northern District Historical Society \nWith Sponsorship by the FBA Northern District of California \n\nRegistration\n[RSVP Online] by Tuesday\, October 3 \nThis program is FREE and open to FBA Members and Nonmembers.\nAttendees can request CLE (1.5 credits) for California for a $500 fee. \n\nCLE Credit\n1.5 Hours California (pending)\nAttendees must pay $50 for CLE accreditation. \n\nQuestions regarding this event can be directed to Alex Murray at amurray@ndhistoricalsociety.org or 916-849-8164
URL:https://www.fedbar.org/event/northern-district-of-california-breaking-the-glass-bar-trailblazing-women-of-the-northern-disctrict/
LOCATION:Thelton E. Henderson Ceremonial Courtroom (U.S. District Court)\, 450 Golden Gate Avenue\, 19th FL\, San Francisco\, CA\, 94102
CATEGORIES:Northern District of California Chapter
GEO:37.7819473;-122.4181453
X-APPLE-STRUCTURED-LOCATION;VALUE=URI;X-ADDRESS=Thelton E. Henderson Ceremonial Courtroom (U.S. District Court) 450 Golden Gate Avenue 19th FL San Francisco CA 94102;X-APPLE-RADIUS=500;X-TITLE=450 Golden Gate Avenue\, 19th FL:geo:-122.4181453,37.7819473
END:VEVENT
BEGIN:VEVENT
DTSTART;TZID=America/Chicago:20231005T173000
DTEND;TZID=America/Chicago:20231005T200000
DTSTAMP:20260421T095604
CREATED:20230918T210217Z
LAST-MODIFIED:20230918T210217Z
UID:400323-1696527000-1696536000@www.fedbar.org
SUMMARY:Oklahoma City Chapter: 16th Annual Holloway Lecture
DESCRIPTION:The 16th Annual Holloway Lecture is a highly anticipated event that you don’t want to miss! Join us on Thursday\, October 5th\, 2023 at 17:30 in the vibrant city of Oklahoma City\, OK. The lecture will take place at 800 Nazih Zuhdi Drive\, a fantastic venue that provides a comfortable and engaging atmosphere. This year’s lecture promises to be an incredible experience\, featuring Yale Professor\, Akhil Reed Amar. It’s an excellent opportunity to expand your knowledge and gain valuable insights from a renowned constitutional law scholar. In addition to a riveting speaker\, we will announce this year’s Holloway Scholars. To learn more about the Holloway Scholars Program and make a charitable contribution visit fedbar.org/oklahoma-city-chapter/oklahoma-city-chapter/holloway-scholars-program. So whether you’re a law student\, lawyer\, or judge\, you’ll have the chance to connect with like-minded individuals\, engage in stimulating discussions\, and broaden your horizons. Mark your calendars and make sure to register early to secure your spot. The 16th Annual Holloway Lecture is an event you won’t want to miss. We look forward to seeing you there! \n\nPresenter\nAkhil Reed Amar is Sterling Professor of Law and Political Science at Yale University\, where he teaches constitutional law in both Yale College and Yale Law School. His work has won awards from both the American Bar Association and the Federalist Society\, and he has been cited by Supreme Court justices across the spectrum in more than four dozen cases. \n\nRegistration\n[Register Online] no later than Friday\, September 29 \n$100 FBA Members\n$150 Nonmembers \n\n \nQuestions regarding this chapter event should be directed to Amanda Finch OklahomaCityFBA@okcfedbar.com or 405-234-3257
URL:https://www.fedbar.org/event/oklahoma-city-chapter-16th-annual-holloway-lecture/
LOCATION:Oklahoma History Center\, 800 Nazih Zuhdi Drive\, Oklahoma City\, OK\, OK 73105
CATEGORIES:Oklahoma City Chapter
GEO:35.4940988;-97.4999469
X-APPLE-STRUCTURED-LOCATION;VALUE=URI;X-ADDRESS=Oklahoma History Center 800 Nazih Zuhdi Drive Oklahoma City OK OK 73105;X-APPLE-RADIUS=500;X-TITLE=800 Nazih Zuhdi Drive:geo:-97.4999469,35.4940988
END:VEVENT
END:VCALENDAR