BEGIN:VCALENDAR
VERSION:2.0
PRODID:-//Federal Bar Association - ECPv6.15.15//NONSGML v1.0//EN
CALSCALE:GREGORIAN
METHOD:PUBLISH
X-WR-CALNAME:Federal Bar Association
X-ORIGINAL-URL:https://www.fedbar.org
X-WR-CALDESC:Events for Federal Bar Association
REFRESH-INTERVAL;VALUE=DURATION:PT1H
X-Robots-Tag:noindex
X-PUBLISHED-TTL:PT1H
BEGIN:VTIMEZONE
TZID:America/Chicago
BEGIN:DAYLIGHT
TZOFFSETFROM:-0600
TZOFFSETTO:-0500
TZNAME:CDT
DTSTART:20220313T080000
END:DAYLIGHT
BEGIN:STANDARD
TZOFFSETFROM:-0500
TZOFFSETTO:-0600
TZNAME:CST
DTSTART:20221106T070000
END:STANDARD
BEGIN:DAYLIGHT
TZOFFSETFROM:-0600
TZOFFSETTO:-0500
TZNAME:CDT
DTSTART:20230312T080000
END:DAYLIGHT
BEGIN:STANDARD
TZOFFSETFROM:-0500
TZOFFSETTO:-0600
TZNAME:CST
DTSTART:20231105T070000
END:STANDARD
BEGIN:DAYLIGHT
TZOFFSETFROM:-0600
TZOFFSETTO:-0500
TZNAME:CDT
DTSTART:20240310T080000
END:DAYLIGHT
BEGIN:STANDARD
TZOFFSETFROM:-0500
TZOFFSETTO:-0600
TZNAME:CST
DTSTART:20241103T070000
END:STANDARD
END:VTIMEZONE
BEGIN:VEVENT
DTSTART;TZID=America/Chicago:20230926T110000
DTEND;TZID=America/Chicago:20230926T120000
DTSTAMP:20260423T054804
CREATED:20230918T211655Z
LAST-MODIFIED:20230918T211725Z
UID:400339-1695726000-1695729600@www.fedbar.org
SUMMARY:Central District of Illinois Chapter: The Changing Dynamic of Intimate Partner Violence - Supporting and Providing Resources to Those at Risk
DESCRIPTION:Over the course of the seminar\, the speakers will provide an overview of intimate partner violence dynamics; understanding the cycle of violence; working with survivors of domestic violence challenges; the pro bono opportunities available in Illinois\, Indiana\, and Wisconsin to support survivors; and best practices in providing limited legal services. \nFor more information\, please visit – www.wiwd.uscourts.gov/Poweract2023 \n\nPresenters\n\nChief Judge Rebecca Pallmeyer\, U.S. District Court for Northern District of Illinois\nMonica A. Stump\, U.S. District Court for Southern District of Illinois\nHon. Rosemary Collins (Ret.)\, Presiding Judge of the Family Division and Presiding Judge of the Domestic Violence of the 17th Judicial Circuit of Illinois\nAmanda R.R. Mayer\,  Judicare Legal Aid\, Deputy Director\nShelby Rees\, Judicare Legal Aid\, Staff Attorney\nMagistrate Judge Nancy Joseph\, U.S. District Court for Eastern District of Wisconsin\n\n\nRegistration\n[RSVP Online] no later than Monday\, September 25 \nRegistration is free but advance RSVP notice via above hyperlinked form is required for zoom link circulation. \n\nCLE\n1.0 hour of CLE credit for Illinois\, Indiana\, and Wisconsin\, pending approval\, is provided by The Seventh Circuit Bar Association. \n\nQuestions regarding this chapter event should be directed to Melissa Schoenbein at Melissa_Schoenbein@ilcd.uscourts.gov or 309-573-0384
URL:https://www.fedbar.org/event/central-district-of-illinois-chapter-the-changing-dynamic-of-intimate-partner-violence/
LOCATION:ZOOM
CATEGORIES:Central District of Illinois Chapter
END:VEVENT
END:VCALENDAR