BEGIN:VCALENDAR
VERSION:2.0
PRODID:-//Federal Bar Association - ECPv6.15.15//NONSGML v1.0//EN
CALSCALE:GREGORIAN
METHOD:PUBLISH
X-WR-CALNAME:Federal Bar Association
X-ORIGINAL-URL:https://www.fedbar.org
X-WR-CALDESC:Events for Federal Bar Association
REFRESH-INTERVAL;VALUE=DURATION:PT1H
X-Robots-Tag:noindex
X-PUBLISHED-TTL:PT1H
BEGIN:VTIMEZONE
TZID:America/Chicago
BEGIN:DAYLIGHT
TZOFFSETFROM:-0600
TZOFFSETTO:-0500
TZNAME:CDT
DTSTART:20220313T080000
END:DAYLIGHT
BEGIN:STANDARD
TZOFFSETFROM:-0500
TZOFFSETTO:-0600
TZNAME:CST
DTSTART:20221106T070000
END:STANDARD
BEGIN:DAYLIGHT
TZOFFSETFROM:-0600
TZOFFSETTO:-0500
TZNAME:CDT
DTSTART:20230312T080000
END:DAYLIGHT
BEGIN:STANDARD
TZOFFSETFROM:-0500
TZOFFSETTO:-0600
TZNAME:CST
DTSTART:20231105T070000
END:STANDARD
BEGIN:DAYLIGHT
TZOFFSETFROM:-0600
TZOFFSETTO:-0500
TZNAME:CDT
DTSTART:20240310T080000
END:DAYLIGHT
BEGIN:STANDARD
TZOFFSETFROM:-0500
TZOFFSETTO:-0600
TZNAME:CST
DTSTART:20241103T070000
END:STANDARD
END:VTIMEZONE
BEGIN:VTIMEZONE
TZID:America/New_York
BEGIN:DAYLIGHT
TZOFFSETFROM:-0500
TZOFFSETTO:-0400
TZNAME:EDT
DTSTART:20220313T070000
END:DAYLIGHT
BEGIN:STANDARD
TZOFFSETFROM:-0400
TZOFFSETTO:-0500
TZNAME:EST
DTSTART:20221106T060000
END:STANDARD
BEGIN:DAYLIGHT
TZOFFSETFROM:-0500
TZOFFSETTO:-0400
TZNAME:EDT
DTSTART:20230312T070000
END:DAYLIGHT
BEGIN:STANDARD
TZOFFSETFROM:-0400
TZOFFSETTO:-0500
TZNAME:EST
DTSTART:20231105T060000
END:STANDARD
BEGIN:DAYLIGHT
TZOFFSETFROM:-0500
TZOFFSETTO:-0400
TZNAME:EDT
DTSTART:20240310T070000
END:DAYLIGHT
BEGIN:STANDARD
TZOFFSETFROM:-0400
TZOFFSETTO:-0500
TZNAME:EST
DTSTART:20241103T060000
END:STANDARD
END:VTIMEZONE
BEGIN:VEVENT
DTSTART;TZID=America/Chicago:20230919T113000
DTEND;TZID=America/Chicago:20230919T140000
DTSTAMP:20260423T100246
CREATED:20230809T165156Z
LAST-MODIFIED:20230809T165348Z
UID:386194-1695123000-1695132000@www.fedbar.org
SUMMARY:Mississippi Chapter: September CLE Luncheon
DESCRIPTION:Please join us for this in-person CLE opportunity featuring the Honorable Kristi H. Johnson\, United States District Judge. The buffet line opens at 11:30 a.m.\, and the program begins at noon. Please pre-register so that we can relay the anticipated attendance to the Capital Club. \n\nRegistration\n[RVSP Online] \n$25 – FBA Member\n$30 – Nonmember\nComplimentary – Judges \nAttendees may pay in advance via PayPal or at the door by cash or check. Checks can be made payable to Federal Bar Association\, Mississippi Chapter. \n\nCLE\nUp to 1.0 General CLE Credits will be available for this event. \n\nQuestions regarding this event can be directed to Candace Gregory at Candace.Gregory@phelps.com \n 
URL:https://www.fedbar.org/event/mississippi-chapter-september-cle-luncheon/
LOCATION:The Capital Club\, 125 South Congress Street\, Jackson\, MS\, 39215
CATEGORIES:Mississippi Chapter
GEO:32.2988372;-90.1833772
X-APPLE-STRUCTURED-LOCATION;VALUE=URI;X-ADDRESS=The Capital Club 125 South Congress Street Jackson MS 39215;X-APPLE-RADIUS=500;X-TITLE=125 South Congress Street:geo:-90.1833772,32.2988372
END:VEVENT
BEGIN:VEVENT
DTSTART;TZID=America/New_York:20230919T140000
DTEND;TZID=America/New_York:20230919T150000
DTSTAMP:20260423T100246
CREATED:20230825T214518Z
LAST-MODIFIED:20230918T180626Z
UID:391920-1695132000-1695135600@www.fedbar.org
SUMMARY:Webinar: Regulation of Crypto:  A Guide for the Practitioner
DESCRIPTION:This webinar will present an overview of the efforts to regulate crypto.  There are a number of basic principles behind the efforts at regulation.  There are also a number of players involved in the regulation of crypto.  The States and various agencies of the Federal Government have regulated and are considering further regulation of crypto.  There are also foreign efforts afoot by the Governments of other countries and international organizations. \nPresented by the International Law Section. \n\nAbout the Presenters\nModerator: David Wemhoff\, Founder and Principal Attorney\, Wemhoff Law\nDavid is the Chair of the International Trade and Customs Law Committee of the International Law Section\, and the incoming Vice Chair of the International Law Section of the Federal Bar Association. His practice is centered in South Bend\, Indiana where he practices primarily in Federal Courts.  Mr. Wemhoff taught undergraduate courses in Procedural Criminal Law\, Criminal Justice in America\, Business Law\, Employment Law\, and American Constitutional Government at two universities. \n  \nDr. Frank Emmert\, Professor of Law and Executive Director\, Center for International and Comparative Law\, Indiana University\nDr. Emmert is a John S. Grimes Professor of Law and the Executive Director of the Center for International and Comparative Law at Indiana University Robert H. McKinney School of Law\, as well as being a Fellow of the Chartered Institute of Arbitrators.   Dr. Emmert teaches a number of courses to include European Union Law\, International Business and Trade Law\, Comparative Law\, Public International Law\, International Protection of Human Rights\, and a number of Interdisciplinary Courses and Methodological Courses.  He has presented on a variety of private and public international law topics around the globe during the last thirty years to include a presentation on Blockchains and Smart Contracts; The Importance of High Quality Dispute Settlement Options for Business and Trade\, and the Contribution of ADR; Choice of Law and Choice of Forum in International Business Contracts and its Consequences; World Trade\, National Interests & International Governance; The Restatement of the Law Third – The U.S. Law of International Commercial Arbitration – an Introduction; The Past\, Present\, and Future of EU Enlargement; How and Why to Become an International Lawyer; The Long Arm of the SEC in the Regulation of Digital Currencies; Smart Money for the People – Using Financial Innovation and Technology to Promote ESG; Crypto-currencies:  the Impossible Domestic Law Regime?  Dr. Emmert has coached and mentored international mock trial teams\, and judged international mock trials.  He has earned a number of prestigious awards to include a Fulbright Scholarship and the John S. Grimes Research Fellowship.  He is the author of more than two dozen books and over sixty scholarly articles.  Dr. Emmert has advised a number of international corporations and foreign countries on the structuring of their laws and activities in the realm of international business. \n\nRegistration\nRegistration for this webinar is now closed. \nAttendees will receive the zoom streaming link in their confirmation email. Streaming information will also be circulated via email after registration closes the day prior to the webinar date. \n\nFBA Member: $0\nNonmember: $75\n\nAccessibility: Closed captioning and dial-in is available for all virtual webcasts. \nCancellation Policy: No refunds will be made for notices of cancellation received within seven (7) days of the webinar date. No-shows will be billed. Substitutions may be made up to one business day prior to the event except as the Association otherwise agrees in writing. Please contact meetings@fedbar.org with cancellation and/or substitution requests. \nInternet Requirements: Virtual programs require suitable internet strength to stream online panels. A minimum internet connection of 800 Kbps is recommended for an optimal attendee experience. Test your connection here.  \n\nCLE\n(!) Please note: CLE for this webinar has not been pre-approved. Applications and subsequent reporting will be filed post-event.\nThe FBA will seek 1.0 General CLE credit hours in 60-minute states\, and 1.2 General CLE credit hours in 50-minute states. \nPosted credit hours are estimated and subject to respective state approval and rounding rules. CLE qualifications vary by state/jurisdiction and the FBA takes every measure to collaborate with presenters to ensure approval. \nCredit will be processed/reported approximately 4-6 weeks after the event date and available for credit in states that allow credit for live webinar presentations. You must attend the live broadcast\, answer engagement polls\, and accurately enter your bar number in registrant forms to receive credit. Certificates and required documentation for self-reporting states will be issued via email\, upon state bar approval. Thank you in advance for your patience\, as state bars are experiencing significant delays with virtual program processing. \nAccess more information about CLE Attendance & Reporting. \n\nEmail Communication Policy: By registering for this event\, you agree to receive email communications from the Federal Bar Association and affiliated sponsors of the program concerning event details\, Continuing Legal Education certification\, programming changes\, upcoming events\, surveys\, and post-event communications. \nRecording Disclaimer: By registering for an FBA webinar\, you agree to the recording of audio and visual content presented during the live event and consent to subsequent use of the recording by the FBA. You agree that the recording is the sole property of the FBA and that the recording may be used by the FBA in any manner in its sole and absolute discretion. This recording may include questions and poll responses provided by you during the live event. If you do not consent to the recording and the FBA’s use of the same\, do not register for the event. \nIf you have any questions regarding this program\, please contact meetings@fedbar.org.
URL:https://www.fedbar.org/event/webinar-regulation-of-crypto-a-guide-for-the-practitioner/
END:VEVENT
END:VCALENDAR