BEGIN:VCALENDAR
VERSION:2.0
PRODID:-//Federal Bar Association - ECPv6.15.15//NONSGML v1.0//EN
CALSCALE:GREGORIAN
METHOD:PUBLISH
X-WR-CALNAME:Federal Bar Association
X-ORIGINAL-URL:https://www.fedbar.org
X-WR-CALDESC:Events for Federal Bar Association
REFRESH-INTERVAL;VALUE=DURATION:PT1H
X-Robots-Tag:noindex
X-PUBLISHED-TTL:PT1H
BEGIN:VTIMEZONE
TZID:America/Chicago
BEGIN:DAYLIGHT
TZOFFSETFROM:-0600
TZOFFSETTO:-0500
TZNAME:CDT
DTSTART:20220313T080000
END:DAYLIGHT
BEGIN:STANDARD
TZOFFSETFROM:-0500
TZOFFSETTO:-0600
TZNAME:CST
DTSTART:20221106T070000
END:STANDARD
BEGIN:DAYLIGHT
TZOFFSETFROM:-0600
TZOFFSETTO:-0500
TZNAME:CDT
DTSTART:20230312T080000
END:DAYLIGHT
BEGIN:STANDARD
TZOFFSETFROM:-0500
TZOFFSETTO:-0600
TZNAME:CST
DTSTART:20231105T070000
END:STANDARD
BEGIN:DAYLIGHT
TZOFFSETFROM:-0600
TZOFFSETTO:-0500
TZNAME:CDT
DTSTART:20240310T080000
END:DAYLIGHT
BEGIN:STANDARD
TZOFFSETFROM:-0500
TZOFFSETTO:-0600
TZNAME:CST
DTSTART:20241103T070000
END:STANDARD
END:VTIMEZONE
BEGIN:VTIMEZONE
TZID:America/New_York
BEGIN:DAYLIGHT
TZOFFSETFROM:-0500
TZOFFSETTO:-0400
TZNAME:EDT
DTSTART:20220313T070000
END:DAYLIGHT
BEGIN:STANDARD
TZOFFSETFROM:-0400
TZOFFSETTO:-0500
TZNAME:EST
DTSTART:20221106T060000
END:STANDARD
BEGIN:DAYLIGHT
TZOFFSETFROM:-0500
TZOFFSETTO:-0400
TZNAME:EDT
DTSTART:20230312T070000
END:DAYLIGHT
BEGIN:STANDARD
TZOFFSETFROM:-0400
TZOFFSETTO:-0500
TZNAME:EST
DTSTART:20231105T060000
END:STANDARD
BEGIN:DAYLIGHT
TZOFFSETFROM:-0500
TZOFFSETTO:-0400
TZNAME:EDT
DTSTART:20240310T070000
END:DAYLIGHT
BEGIN:STANDARD
TZOFFSETFROM:-0400
TZOFFSETTO:-0500
TZNAME:EST
DTSTART:20241103T060000
END:STANDARD
END:VTIMEZONE
BEGIN:VEVENT
DTSTART;TZID=America/Chicago:20230914T083000
DTEND;TZID=America/Chicago:20230914T100000
DTSTAMP:20260422T212217
CREATED:20230830T213810Z
LAST-MODIFIED:20230831T142029Z
UID:393583-1694680200-1694685600@www.fedbar.org
SUMMARY:Northern/Eastern Oklahoma Chapter: Breakfast with the Bench
DESCRIPTION:Please join us for a casual morning of conversation and coffee with our Eastern District judges! \nAttendance is free and open to all attorneys\, FBA members and non-members alike\, but pre-registration no later than September 13 (and preferably earlier for catering purposes). \nSpecial offer for non-members:  Register for the event and receive a discount code for 30% off your first year’s membership! \n\nRegister\n[Click Here] to RSVP online by September 13 \n\nQuestions regarding this event should be directed to neokfba@gmail.com
URL:https://www.fedbar.org/event/northern-eastern-oklahoma-chapter-breakfast-with-the-bench-2/
LOCATION:Ed Edmondson U.S. Courthouse\, 101 N 5th Street\, Muskogee\, OK\, 74401
CATEGORIES:NorthernEastern Oklahoma Chapter
GEO:35.7502583;-95.3744486
X-APPLE-STRUCTURED-LOCATION;VALUE=URI;X-ADDRESS=Ed Edmondson U.S. Courthouse 101 N 5th Street Muskogee OK 74401;X-APPLE-RADIUS=500;X-TITLE=101 N 5th Street:geo:-95.3744486,35.7502583
END:VEVENT
BEGIN:VEVENT
DTSTART;TZID=America/New_York:20230914T120000
DTEND;TZID=America/New_York:20230914T163000
DTSTAMP:20260422T212217
CREATED:20230824T150328Z
LAST-MODIFIED:20230914T163656Z
UID:391341-1694692800-1694709000@www.fedbar.org
SUMMARY:Admiralty Law Section & South Florida Chapter: “Disaster in Paradise – When Good Times Go Bad!”
DESCRIPTION:This Maritime Law CLE will have three panels exploring an array of legal issues related to the Small Passenger Vessel Act\, marine insurance and potential personal injury\, property damage and environmental claims arising from a small multi-purpose vessel casualty. \nPresented by: Admiralty Law Section & South Florida Chapter \nRegistration is Closed \n\nAgenda\nStart time is Thursday\, September 14\, 2023\, Starting Promptly at 1200 hours with post-program cocktail reception starting at 1630. \nIntroductory Remarks and Casualty Description: 12:00 p.m. – 12:30 p.m. \nPanel 1: Applicability of the Small Passenger Vessel Liability Fairness Act: Robert L.  Gardana\, Owner – Robert L. Gardana\, PA; Daniel T. Gauer – Wilson Elser; Chase Alexandra Jansson – Campbell Johnston Clark; and Carlos Felipe Llinas Negret – Nelson & Fraenkel [12:35 p.m. – 1:35 p.m.] \nPanel 2: Marine Insurance Issues: David K. Smith – The Moeller Firm; Aaron  Dmiszewicki – Davant Law; and Krista Fowler Acuna – Hamilton\, Miller & Birthisel  [1:50 p.m. – 2:50 p.m.] \nPanel 3: Management of Personal Injury\, Property Damage and Environmental Claims: Matthew A. Moeller – The Moeller Firm; Allison Kelly – U.S. Maritime  Consultants\, Inc.; Oscar Delatorre – DetekTed; and Ryon Little – De Leo\, Kuylenstierna & Little [3:05 p.m. – 4:05 p.m.] \nAccess Speaker Bios Here. \nQuestions about this event should be directed to Admiralty Law Section Program Chair Matthew Moeller at matthew@moellerfirm.com. \n\nRegistration Rates\nRegistration Fees\nRegistration for this event will close September 13th. \n\nFBA Member: $0\nNonmember: $90\n\n\n\n\n\n\n\n\n\nRegistration is Closed \n\n\nCancellation Policy\nNo refunds will be made for cancellations received after the close of business on September 7th. Please contact sections@fedbar.org with cancellation and/or substitution requests. \n\n\n\n\n\n\n\n\n\n\n\n\n\n\n\n\nCLE\nThis Maritime Law program is approved for 3.5 general credit hours of CLE and 1.0 technology credits in Florida.
URL:https://www.fedbar.org/event/admiralty-law-section-south-florida-chapter-disaster-in-paradise-when-good-times-go-bad/
LOCATION:Benjamin L. Crump College of Law St. Thomas University\, 16401 NW 37th Ave\, Miami Gardens\, FL\, 33054\, United States
CATEGORIES:Admiralty Law Section,South Florida Chapter
GEO:25.9420377;-80.2456045
X-APPLE-STRUCTURED-LOCATION;VALUE=URI;X-ADDRESS=Benjamin L. Crump College of Law St. Thomas University 16401 NW 37th Ave Miami Gardens FL 33054 United States;X-APPLE-RADIUS=500;X-TITLE=16401 NW 37th Ave:geo:-80.2456045,25.9420377
END:VEVENT
END:VCALENDAR