BEGIN:VCALENDAR
VERSION:2.0
PRODID:-//Federal Bar Association - ECPv6.15.15//NONSGML v1.0//EN
CALSCALE:GREGORIAN
METHOD:PUBLISH
X-ORIGINAL-URL:https://www.fedbar.org
X-WR-CALDESC:Events for Federal Bar Association
REFRESH-INTERVAL;VALUE=DURATION:PT1H
X-Robots-Tag:noindex
X-PUBLISHED-TTL:PT1H
BEGIN:VTIMEZONE
TZID:America/New_York
BEGIN:DAYLIGHT
TZOFFSETFROM:-0500
TZOFFSETTO:-0400
TZNAME:EDT
DTSTART:20220313T070000
END:DAYLIGHT
BEGIN:STANDARD
TZOFFSETFROM:-0400
TZOFFSETTO:-0500
TZNAME:EST
DTSTART:20221106T060000
END:STANDARD
BEGIN:DAYLIGHT
TZOFFSETFROM:-0500
TZOFFSETTO:-0400
TZNAME:EDT
DTSTART:20230312T070000
END:DAYLIGHT
BEGIN:STANDARD
TZOFFSETFROM:-0400
TZOFFSETTO:-0500
TZNAME:EST
DTSTART:20231105T060000
END:STANDARD
BEGIN:DAYLIGHT
TZOFFSETFROM:-0500
TZOFFSETTO:-0400
TZNAME:EDT
DTSTART:20240310T070000
END:DAYLIGHT
BEGIN:STANDARD
TZOFFSETFROM:-0400
TZOFFSETTO:-0500
TZNAME:EST
DTSTART:20241103T060000
END:STANDARD
END:VTIMEZONE
BEGIN:VEVENT
DTSTART;TZID=America/New_York:20230913T120000
DTEND;TZID=America/New_York:20230913T133000
DTSTAMP:20260422T205612
CREATED:20230807T193257Z
LAST-MODIFIED:20230809T135725Z
UID:385458-1694606400-1694611800@www.fedbar.org
SUMMARY:Qui Tam Section: [VIRTUAL] Healthcare Referral Arrangements Under the AKS - Updates from Government Attorneys
DESCRIPTION:**Program hosted in (ET) time zone** \nSince the 1980s\, there has been a proliferation of new types of arrangements between healthcare providers and referring physicians. During this same period\, there has also been a proliferation in government “guidance documents” which purport to describe arrangements that the government believes may be particularly prone to waste\, fraud\, and abuse. This panel will explore some of the recent litigated cases against the new forms of remuneration arrangements with the government attorneys who were responsible for those cases. \n[Register Online] \n\nAbout the Presenters\nChristopher Terranova\, U.S. Department of Justice \n  \n  \n  \n  \n  \n  \nDavid Finkelstein\, U.S. Department of Justice \n  \n  \n  \n  \n  \n  \nDiana Cieslak\, U.S. Department of Justice \n  \n  \n  \n  \nKaren S. Glassman\, Office of Counsel to the Inspector General\, Department of Health and Human \n\nRegistration\n[Register Online] \n\nFBA Members: $0\nNon-Members: $0\n\n\nCLE\nPlease note that CLE credit is not offered for this webinar. \n\nEmail Communication Policy \nBy registering for this event\, you agree to receive email communications from the Federal Bar Association and affiliated sponsors of the program concerning event details\, Continuing Legal Education certification\, programming changes\, upcoming events\, surveys\, and post-event communications. \nRecording Disclaimer \nBy registering for an FBA webinar\, you agree to the recording of audio and visual content presented during the live event and consent to subsequent use of the recording by the FBA. You agree that the recording is the sole property of the FBA and that the recording may be used by the FBA in any manner in its sole and absolute discretion. This recording may include questions and poll responses provided by you during the live event. If you do not consent to the recording and the FBA’s use of the same\, do not register for the event. \nIf you have any questions regarding this program\, please contact sections@fedbar.org.
URL:https://www.fedbar.org/event/anti-kickback/
CATEGORIES:Qui Tam Section
END:VEVENT
END:VCALENDAR