BEGIN:VCALENDAR
VERSION:2.0
PRODID:-//Federal Bar Association - ECPv6.15.15//NONSGML v1.0//EN
CALSCALE:GREGORIAN
METHOD:PUBLISH
X-ORIGINAL-URL:https://www.fedbar.org
X-WR-CALDESC:Events for Federal Bar Association
REFRESH-INTERVAL;VALUE=DURATION:PT1H
X-Robots-Tag:noindex
X-PUBLISHED-TTL:PT1H
BEGIN:VTIMEZONE
TZID:America/New_York
BEGIN:DAYLIGHT
TZOFFSETFROM:-0500
TZOFFSETTO:-0400
TZNAME:EDT
DTSTART:20220313T070000
END:DAYLIGHT
BEGIN:STANDARD
TZOFFSETFROM:-0400
TZOFFSETTO:-0500
TZNAME:EST
DTSTART:20221106T060000
END:STANDARD
BEGIN:DAYLIGHT
TZOFFSETFROM:-0500
TZOFFSETTO:-0400
TZNAME:EDT
DTSTART:20230312T070000
END:DAYLIGHT
BEGIN:STANDARD
TZOFFSETFROM:-0400
TZOFFSETTO:-0500
TZNAME:EST
DTSTART:20231105T060000
END:STANDARD
BEGIN:DAYLIGHT
TZOFFSETFROM:-0500
TZOFFSETTO:-0400
TZNAME:EDT
DTSTART:20240310T070000
END:DAYLIGHT
BEGIN:STANDARD
TZOFFSETFROM:-0400
TZOFFSETTO:-0500
TZNAME:EST
DTSTART:20241103T060000
END:STANDARD
END:VTIMEZONE
BEGIN:VEVENT
DTSTART;TZID=America/New_York:20230824T140000
DTEND;TZID=America/New_York:20230824T183000
DTSTAMP:20260423T060537
CREATED:20230720T173641Z
LAST-MODIFIED:20230720T173641Z
UID:379008-1692885600-1692901800@www.fedbar.org
SUMMARY:Tampa Bay Chapter: Staying in the Game: Practicing with Purpose
DESCRIPTION:Staying in the Game is an annual event hosted by the Tampa Bay Chapter of the Federal Bar Association that promotes the retention of female and diverse attorneys in the legal profession. The theme of this year’s event is “Practicing with Purpose\,” and will feature an afternoon coffee and CLE program\, followed by a networking happy hour with refreshments and hors d’oeuvres. Please join us for the 2023 Staying in the Game event on Thursday\, August 24\, from 2pm to 6:30pm at the Tampa Garden Club. \nWe have a dynamic group of speakers\, including Circuit Court Judge Anne-Leigh Gaylord Moe\, Tampa Mayor Jane Castor\, U.S. Court of Appeals Judge Barbara Lagoa\, Elena Kohn\, in house counsel at Advent Health\, DOJ Trial Attorney Reggie Cuyler\, Simone Marstiller\, of counsel at Gunster\, and Ben Odom\, Vice President of Business and Legal Affairs at NASCAR. \n[CLICK HERE FOR MORE INFORMATION] \n\nRegister\n[Register Online] \nDeadline to RSVP is August 22\, 2023. \n\n$50 – FBA Members & Government Employees\n$75 – Nonmembers\nFree – Judges (Must Register)\n\n\nQuestions regarding this event should be directed to the Tampa Bay Chapter\n> Michelle Moretz-Smith (Michelle_MoretzSmith@ca11.uscourts.gov)
URL:https://www.fedbar.org/event/tampa-bay-chapter-staying-in-the-game-practicing-with-purpose/
LOCATION:Tampa Garden Club\, 2629 Bayshore Blvd\, Tampa\, Florida\, 33629
CATEGORIES:Tampa Bay Chapter
GEO:27.921611;-82.4887825
X-APPLE-STRUCTURED-LOCATION;VALUE=URI;X-ADDRESS=Tampa Garden Club 2629 Bayshore Blvd Tampa Florida 33629;X-APPLE-RADIUS=500;X-TITLE=2629 Bayshore Blvd:geo:-82.4887825,27.921611
END:VEVENT
END:VCALENDAR