BEGIN:VCALENDAR
VERSION:2.0
PRODID:-//Federal Bar Association - ECPv6.15.15//NONSGML v1.0//EN
CALSCALE:GREGORIAN
METHOD:PUBLISH
X-WR-CALNAME:Federal Bar Association
X-ORIGINAL-URL:https://www.fedbar.org
X-WR-CALDESC:Events for Federal Bar Association
REFRESH-INTERVAL;VALUE=DURATION:PT1H
X-Robots-Tag:noindex
X-PUBLISHED-TTL:PT1H
BEGIN:VTIMEZONE
TZID:America/Chicago
BEGIN:DAYLIGHT
TZOFFSETFROM:-0600
TZOFFSETTO:-0500
TZNAME:CDT
DTSTART:20220313T080000
END:DAYLIGHT
BEGIN:STANDARD
TZOFFSETFROM:-0500
TZOFFSETTO:-0600
TZNAME:CST
DTSTART:20221106T070000
END:STANDARD
BEGIN:DAYLIGHT
TZOFFSETFROM:-0600
TZOFFSETTO:-0500
TZNAME:CDT
DTSTART:20230312T080000
END:DAYLIGHT
BEGIN:STANDARD
TZOFFSETFROM:-0500
TZOFFSETTO:-0600
TZNAME:CST
DTSTART:20231105T070000
END:STANDARD
BEGIN:DAYLIGHT
TZOFFSETFROM:-0600
TZOFFSETTO:-0500
TZNAME:CDT
DTSTART:20240310T080000
END:DAYLIGHT
BEGIN:STANDARD
TZOFFSETFROM:-0500
TZOFFSETTO:-0600
TZNAME:CST
DTSTART:20241103T070000
END:STANDARD
END:VTIMEZONE
BEGIN:VEVENT
DTSTART;TZID=America/Chicago:20230714T080000
DTEND;TZID=America/Chicago:20230714T130000
DTSTAMP:20260422T230831
CREATED:20230419T193903Z
LAST-MODIFIED:20230425T202330Z
UID:346470-1689321600-1689339600@www.fedbar.org
SUMMARY:Northern/Eastern Oklahoma Chapter: July Summer Courthouse Tour
DESCRIPTION:Join the Northern/Eastern Oklahoma Chapter of the Federal Bar Association for an insiders’ tour of the Northern District of Oklahoma courthouse. Students will visit the U.S. Marshals Service and the U.S. Probation Office\, learn from the court clerk’s office\, and hear from District and Magistrate Judges. A group lunch with judges and judicial law clerks concludes the event. \nWe are pleased to offer two opportunities for the tour this summer to accommodate both first-half and second-half programs. Please select the appropriate day during registration. \nRegistration is open to student interns along with one accompanying recruitment committee member or mentor per organization. \n[Event Flyer] \nRegistration\nRegistration Deadline is May 31\,2023\nSpace is Limited. Register Here! \nRegistration Fee: \n\nFBA Member & Non Member\nPrivate practice entities: $40/person\nPublic service entities: $15/person\n\nIf you have any questions regarding this program\, please contact NEOK FBA at neokfba@gmail.com. \n 
URL:https://www.fedbar.org/event/northern-eastern-oklahoma-chater-july-summer-courthouse-tour/
LOCATION:Page Belcher Federal Building\, 333 West 4th Street\, Tulsa\, OK\, 74103\, United States
CATEGORIES:NorthernEastern Oklahoma Chapter
ORGANIZER;CN="NEOK FBA":MAILTO:neokfba@gmail.com
GEO:36.1533483;-95.9927355
X-APPLE-STRUCTURED-LOCATION;VALUE=URI;X-ADDRESS=Page Belcher Federal Building 333 West 4th Street Tulsa OK 74103 United States;X-APPLE-RADIUS=500;X-TITLE=333 West 4th Street:geo:-95.9927355,36.1533483
END:VEVENT
END:VCALENDAR