BEGIN:VCALENDAR
VERSION:2.0
PRODID:-//Federal Bar Association - ECPv6.15.15//NONSGML v1.0//EN
CALSCALE:GREGORIAN
METHOD:PUBLISH
X-ORIGINAL-URL:https://www.fedbar.org
X-WR-CALDESC:Events for Federal Bar Association
REFRESH-INTERVAL;VALUE=DURATION:PT1H
X-Robots-Tag:noindex
X-PUBLISHED-TTL:PT1H
BEGIN:VTIMEZONE
TZID:America/New_York
BEGIN:DAYLIGHT
TZOFFSETFROM:-0500
TZOFFSETTO:-0400
TZNAME:EDT
DTSTART:20220313T070000
END:DAYLIGHT
BEGIN:STANDARD
TZOFFSETFROM:-0400
TZOFFSETTO:-0500
TZNAME:EST
DTSTART:20221106T060000
END:STANDARD
BEGIN:DAYLIGHT
TZOFFSETFROM:-0500
TZOFFSETTO:-0400
TZNAME:EDT
DTSTART:20230312T070000
END:DAYLIGHT
BEGIN:STANDARD
TZOFFSETFROM:-0400
TZOFFSETTO:-0500
TZNAME:EST
DTSTART:20231105T060000
END:STANDARD
BEGIN:DAYLIGHT
TZOFFSETFROM:-0500
TZOFFSETTO:-0400
TZNAME:EDT
DTSTART:20240310T070000
END:DAYLIGHT
BEGIN:STANDARD
TZOFFSETFROM:-0400
TZOFFSETTO:-0500
TZNAME:EST
DTSTART:20241103T060000
END:STANDARD
END:VTIMEZONE
BEGIN:VEVENT
DTSTART;TZID=America/New_York:20230621T120000
DTEND;TZID=America/New_York:20230621T133000
DTSTAMP:20260423T004612
CREATED:20230516T153204Z
LAST-MODIFIED:20230516T163107Z
UID:356038-1687348800-1687354200@www.fedbar.org
SUMMARY:Qui Tam Section: [VIRTUAL] The Significance of SuperValu
DESCRIPTION:**Program hosted in (ET) time zone** \nOn April 18\, 2023\, the United States Supreme Court heard oral argument in U.S. ex rel. Schutte v. Supervalu\, Inc.\, 9 F.4th 455 (7th Cir. 2021). Circuit courts disagree over how the FCA’s scienter requirement works in cases in which the defendant’s claims are false because the defendant violated an ambiguous legal requirement. This roundtable will explore the current standard for knowledge under the FCA\, and whether and how Supervalu may change that standard. It will discuss the arguments presented to the Supreme Court\, in both the briefing and during oral argument. Should a decision be reached prior to this roundtable\, the roundtable will provide an in-depth analysis of Supervalu. \n[Register Online] \n\nAbout the Presenters\nSara Vann\, Medicaid Fraud Division\, Office of the Georgia Attorney General \n  \n  \n  \n  \n  \nJohn P. Elwood\, Arnold & Porter \n  \n  \n  \n  \nJennifer Verkamp\, Morgan Verkamp \n  \n  \n  \n  \nJamie Yavelberg\, Civil Fraud Section\, U.S. Department of Justice \n  \n  \n  \n  \n  \n\nRegistration\n[Register Online] \n\nFBA Members: $0\nNon-Members: $0\n\n\nCLE\nPlease note that CLE credit is not offered for this webinar. \n\nEmail Communication Policy \nBy registering for this event\, you agree to receive email communications from the Federal Bar Association and affiliated sponsors of the program concerning event details\, Continuing Legal Education certification\, programming changes\, upcoming events\, surveys\, and post-event communications. \nRecording Disclaimer \nBy registering for an FBA webinar\, you agree to the recording of audio and visual content presented during the live event and consent to subsequent use of the recording by the FBA. You agree that the recording is the sole property of the FBA and that the recording may be used by the FBA in any manner in its sole and absolute discretion. This recording may include questions and poll responses provided by you during the live event. If you do not consent to the recording and the FBA’s use of the same\, do not register for the event. \nIf you have any questions regarding this program\, please contact sections@fedbar.org.
URL:https://www.fedbar.org/event/supervalu/
CATEGORIES:Qui Tam Section
END:VEVENT
END:VCALENDAR