BEGIN:VCALENDAR
VERSION:2.0
PRODID:-//Federal Bar Association - ECPv6.15.15//NONSGML v1.0//EN
CALSCALE:GREGORIAN
METHOD:PUBLISH
X-ORIGINAL-URL:https://www.fedbar.org
X-WR-CALDESC:Events for Federal Bar Association
REFRESH-INTERVAL;VALUE=DURATION:PT1H
X-Robots-Tag:noindex
X-PUBLISHED-TTL:PT1H
BEGIN:VTIMEZONE
TZID:America/Chicago
BEGIN:DAYLIGHT
TZOFFSETFROM:-0600
TZOFFSETTO:-0500
TZNAME:CDT
DTSTART:20220313T080000
END:DAYLIGHT
BEGIN:STANDARD
TZOFFSETFROM:-0500
TZOFFSETTO:-0600
TZNAME:CST
DTSTART:20221106T070000
END:STANDARD
BEGIN:DAYLIGHT
TZOFFSETFROM:-0600
TZOFFSETTO:-0500
TZNAME:CDT
DTSTART:20230312T080000
END:DAYLIGHT
BEGIN:STANDARD
TZOFFSETFROM:-0500
TZOFFSETTO:-0600
TZNAME:CST
DTSTART:20231105T070000
END:STANDARD
BEGIN:DAYLIGHT
TZOFFSETFROM:-0600
TZOFFSETTO:-0500
TZNAME:CDT
DTSTART:20240310T080000
END:DAYLIGHT
BEGIN:STANDARD
TZOFFSETFROM:-0500
TZOFFSETTO:-0600
TZNAME:CST
DTSTART:20241103T070000
END:STANDARD
END:VTIMEZONE
BEGIN:VEVENT
DTSTART;TZID=America/Chicago:20230620T113000
DTEND;TZID=America/Chicago:20230620T130000
DTSTAMP:20260423T011436
CREATED:20230601T143251Z
LAST-MODIFIED:20230601T193610Z
UID:361727-1687260600-1687266000@www.fedbar.org
SUMMARY:Mississippi Chapter: June CLE Luncheon
DESCRIPTION:Please join us for this in-person CLE opportunity featuring the magistrate judges from the Northern District of Mississippi: the Honorable David Sanders\, Jane Virden\, and Roy Percy. \nThe buffet line opens at 11:30 a.m.\, and the program begins at noon. \nPlease pre-register so that we can relay the anticipated attendance to the Capital Club. \nSpeakers\nMagistrate judges from the Northern District of Mississippi: the Honorable David Sanders\, Jane Virden\, and Roy Percy. \nRegistration\nDeadline to register is June 20\, 2023 \nAttendees may pay in advance via PayPal or at the door by cash or check. Checks can be made payable to Federal Bar Association\, MS Chapter. Regardless of payment method\, all attendees are encouraged to RSVP.\nRSVP HERE! \nRegistration Fee: \n\n$25.00 – FBA Member\n$30 – Non Member\nJudge – Free\n\nCLE\n1.0 CLE is Anticipated for this event. \nIf you have any questions regarding this program\, please contact Candace Gregory at Candace.Gregory@phelps.com.
URL:https://www.fedbar.org/event/mississippi-chapter-june-cle-luncheon/
LOCATION:Capital Club\, 125 S. Congress Street\, Jackson\, MS\, 39201\, United States
CATEGORIES:Mississippi Chapter
ORGANIZER;CN="Candace Gregory":MAILTO:candace.gregory@phelps.com
GEO:32.2988372;-90.1833772
X-APPLE-STRUCTURED-LOCATION;VALUE=URI;X-ADDRESS=Capital Club 125 S. Congress Street Jackson MS 39201 United States;X-APPLE-RADIUS=500;X-TITLE=125 S. Congress Street:geo:-90.1833772,32.2988372
END:VEVENT
END:VCALENDAR