BEGIN:VCALENDAR
VERSION:2.0
PRODID:-//Federal Bar Association - ECPv6.15.15//NONSGML v1.0//EN
CALSCALE:GREGORIAN
METHOD:PUBLISH
X-WR-CALNAME:Federal Bar Association
X-ORIGINAL-URL:https://www.fedbar.org
X-WR-CALDESC:Events for Federal Bar Association
REFRESH-INTERVAL;VALUE=DURATION:PT1H
X-Robots-Tag:noindex
X-PUBLISHED-TTL:PT1H
BEGIN:VTIMEZONE
TZID:America/New_York
BEGIN:DAYLIGHT
TZOFFSETFROM:-0500
TZOFFSETTO:-0400
TZNAME:EDT
DTSTART:20210314T070000
END:DAYLIGHT
BEGIN:STANDARD
TZOFFSETFROM:-0400
TZOFFSETTO:-0500
TZNAME:EST
DTSTART:20211107T060000
END:STANDARD
BEGIN:DAYLIGHT
TZOFFSETFROM:-0500
TZOFFSETTO:-0400
TZNAME:EDT
DTSTART:20220313T070000
END:DAYLIGHT
BEGIN:STANDARD
TZOFFSETFROM:-0400
TZOFFSETTO:-0500
TZNAME:EST
DTSTART:20221106T060000
END:STANDARD
BEGIN:DAYLIGHT
TZOFFSETFROM:-0500
TZOFFSETTO:-0400
TZNAME:EDT
DTSTART:20230312T070000
END:DAYLIGHT
BEGIN:STANDARD
TZOFFSETFROM:-0400
TZOFFSETTO:-0500
TZNAME:EST
DTSTART:20231105T060000
END:STANDARD
END:VTIMEZONE
BEGIN:VTIMEZONE
TZID:America/Chicago
BEGIN:DAYLIGHT
TZOFFSETFROM:-0600
TZOFFSETTO:-0500
TZNAME:CDT
DTSTART:20210314T080000
END:DAYLIGHT
BEGIN:STANDARD
TZOFFSETFROM:-0500
TZOFFSETTO:-0600
TZNAME:CST
DTSTART:20211107T070000
END:STANDARD
BEGIN:DAYLIGHT
TZOFFSETFROM:-0600
TZOFFSETTO:-0500
TZNAME:CDT
DTSTART:20220313T080000
END:DAYLIGHT
BEGIN:STANDARD
TZOFFSETFROM:-0500
TZOFFSETTO:-0600
TZNAME:CST
DTSTART:20221106T070000
END:STANDARD
BEGIN:DAYLIGHT
TZOFFSETFROM:-0600
TZOFFSETTO:-0500
TZNAME:CDT
DTSTART:20230312T080000
END:DAYLIGHT
BEGIN:STANDARD
TZOFFSETFROM:-0500
TZOFFSETTO:-0600
TZNAME:CST
DTSTART:20231105T070000
END:STANDARD
END:VTIMEZONE
BEGIN:VEVENT
DTSTART;TZID=America/New_York:20220526T120000
DTEND;TZID=America/New_York:20220526T130000
DTSTAMP:20260422T045553
CREATED:20220422T200601Z
LAST-MODIFIED:20220422T200601Z
UID:229928-1653566400-1653570000@www.fedbar.org
SUMMARY:Eastern District of Michigan Chapter: Book Club Spring 2022 Meeting - Redeeming Justice
DESCRIPTION:Join our Book Club Spring 2022 Meeting: Redeeming Justice. Jarrett Adams was just seventeen when an all-white jury sentenced him to prison for a crime he didn’t commit. Now a pioneering lawyer\, he recalls the journey that led to his exoneration—and inspired him to devote his life to fighting the many injustices in our legal system. All are invited to discuss the book called “A moving and beautifully crafted memoir\, ” by SCOTT TUROW \n\nRegistration\n\nDan Gustafson\, Partner\, Gustafson Gluek (Moderator)\nJudge Donovan Frank\nHolley Horrell\, Partner\, Greene Espel P.L.L.P.\nChristine Kain\, Partner\, Faegre Drinker Biddle & Reath LLP\, Stacey Slaughter Partner. Robins Kaplan LLP.\n\n\nRegistration\n[Register Online]  \nRegistration Rates\nDeadline to register will be May 25 \n\nFBA Members: $0\nNon-Members/Guest: $8\n\n\n\n\n\n\n\n\n\n\n\n\n\n\n\n\n\n\n\n\n\n\n\n\n\n\nCLE\n\n\n\n\n\n\n\n\n1.0 CLE Credit approval pending. \n\nEmail Communication Policy \nBy registering for this event\, you agree to receive email communications from the Federal Bar Association and affiliated sponsors of the program concerning event details\, Continuing Legal Education certification\, programming changes\, upcoming events\, surveys\, and post-event communications. \n\nIf you have any questions regarding this program\, please contact fbamich@fbamich.org
URL:https://www.fedbar.org/event/eastern-district-of-michigan-chapter-book-club-spring-2022-meeting-redeeming-justice/
CATEGORIES:Eastern District of Michigan Chapter
END:VEVENT
BEGIN:VEVENT
DTSTART;TZID=America/Chicago:20220526T123000
DTEND;TZID=America/Chicago:20220526T133000
DTSTAMP:20260422T045553
CREATED:20220511T171600Z
LAST-MODIFIED:20220511T171725Z
UID:239991-1653568200-1653571800@www.fedbar.org
SUMMARY:Northern/Eastern Oklahoma Chapter: Luncheon with Sixth Circuit Chief Judge Sutton
DESCRIPTION:The University of Tulsa College of Law and the Northern/Eastern Oklahoma Federal Bar Association are pleased to host the Honorable Jeffrey S. Sutton\, Chief Judge of the Sixth Circuit Court of Appeals\, for a luncheon on Thursday\, May 26 at 12:30 in the Price Turpen Courtroom. The luncheon is free and open to the public. \n\nSpeakers\nJeffrey S. Sutton\, Chief Judge of the Sixth Circuit Court of Appeals \nChief Judge Sutton assumed the position of Chief Judge of the Sixth Circuit on May 1\, 2021. He was nominated to the court by President George Walker Bush and confirmed by the United States Senate in April 2003. He earned his law degree from The Ohio State University College of Law in 1990 and subsequently clerked for the Honorable Thomas Meskill of the United States Court of Appeals for the Second Circuit\, as well as two Supreme Court Justices — the Honorable Lewis F. Powell\, Jr.\, and the Honorable Antonin Scalia. Chief Judge Sutton was in private practice in Columbus from 1992 to 1995 and 1998 to 2003\, and served as Solicitor General of Ohio from 1995 to 1998. He has also served as an adjunct professor of law at the Ohio State University College of Law and as a visiting lecturer at Harvard Law School. \nChief Judge Sutton has authored numerous books and articles on a wide variety of topics including state constitutional law and federalism. His recently published book is “Who Decides? States as Laboratories of Constitutional Experimentation.” Before his confirmation to the court\, he argued twelve cases in the United States Supreme Court and numerous cases in the state supreme courts and the federal courts of appeal. He served as the Chair of the Judicial Conference of the United States Committee on Rules of Practice and Procedure from 2012 to 2016\, and served as the Chair of the Advisory Committee on Appellate Rules. In 2006\, Judge Sutton was elected to the American Law Institute\, and in 2017 he was elected to its Council. \n\nRegistration\nRSVP to Rebecca-Charbonneau@utulsa.edu by Monday May 23rd.  \nRegistration Rates \n\nComplimentary for FBA Members & Non-Members\n\n\n\n\n\n\n\n\n\n\n\n\n\n\n\n\n\n\n\n\n\n\n\n\n\nCLE\nPlease note CLE will not be offered for this event.  \n\n\n\n\n\n\n\n\nEmail Communication Policy \nBy registering for this event\, you agree to receive email communications from the Federal Bar Association and affiliated sponsors of the program concerning event details\, Continuing Legal Education certification\, programming changes\, upcoming events\, surveys\, and post-event communications.
URL:https://www.fedbar.org/event/northern-eastern-oklahoma-chapter-luncheon-with-sixth-circuit-chief-judge-sutton/
LOCATION:TU Law School\, Price Turpen Courtroom\, 3120 E 4th Pl\, Tulsa\, Tulsa\, OK\, 74104\, United States
CATEGORIES:NorthernEastern Oklahoma Chapter
ATTACH;FMTTYPE=application/pdf:https://www.fedbar.org/wp-content/uploads/2022/05/Chief-Judge-Sutton-Invite.pdf
ORGANIZER;CN="Rebecca Charbonneau":MAILTO:Rebecca-charbonnau@utulsa.edu
GEO:36.1543922;-95.9442234
X-APPLE-STRUCTURED-LOCATION;VALUE=URI;X-ADDRESS=TU Law School Price Turpen Courtroom 3120 E 4th Pl Tulsa Tulsa OK 74104 United States;X-APPLE-RADIUS=500;X-TITLE=3120 E 4th Pl\, Tulsa:geo:-95.9442234,36.1543922
END:VEVENT
END:VCALENDAR