BEGIN:VCALENDAR
VERSION:2.0
PRODID:-//Federal Bar Association - ECPv6.15.15//NONSGML v1.0//EN
CALSCALE:GREGORIAN
METHOD:PUBLISH
X-WR-CALNAME:Federal Bar Association
X-ORIGINAL-URL:https://www.fedbar.org
X-WR-CALDESC:Events for Federal Bar Association
REFRESH-INTERVAL;VALUE=DURATION:PT1H
X-Robots-Tag:noindex
X-PUBLISHED-TTL:PT1H
BEGIN:VTIMEZONE
TZID:America/New_York
BEGIN:DAYLIGHT
TZOFFSETFROM:-0500
TZOFFSETTO:-0400
TZNAME:EDT
DTSTART:20210314T070000
END:DAYLIGHT
BEGIN:STANDARD
TZOFFSETFROM:-0400
TZOFFSETTO:-0500
TZNAME:EST
DTSTART:20211107T060000
END:STANDARD
BEGIN:DAYLIGHT
TZOFFSETFROM:-0500
TZOFFSETTO:-0400
TZNAME:EDT
DTSTART:20220313T070000
END:DAYLIGHT
BEGIN:STANDARD
TZOFFSETFROM:-0400
TZOFFSETTO:-0500
TZNAME:EST
DTSTART:20221106T060000
END:STANDARD
BEGIN:DAYLIGHT
TZOFFSETFROM:-0500
TZOFFSETTO:-0400
TZNAME:EDT
DTSTART:20230312T070000
END:DAYLIGHT
BEGIN:STANDARD
TZOFFSETFROM:-0400
TZOFFSETTO:-0500
TZNAME:EST
DTSTART:20231105T060000
END:STANDARD
END:VTIMEZONE
BEGIN:VEVENT
DTSTART;TZID=America/New_York:20220524T140000
DTEND;TZID=America/New_York:20220524T150000
DTSTAMP:20260422T112809
CREATED:20220318T171730Z
LAST-MODIFIED:20220523T162243Z
UID:218236-1653400800-1653404400@www.fedbar.org
SUMMARY:Webinar: What Social Media Really Knows About You (Reschedule to Later Date)
DESCRIPTION:To Be Rescheduled to a Later Date\nYou probably know that websites track how you are using them\, but do you know how they keep track of you? \nData privacy is a growing concern in this booming digital age where nearly everyone accesses powerhouse networks\, like Google and Facebook. Due to existing security settings\, most of us may be unaware of the extent of information that’s being captured online. Do you know if you are being monitored offline and unintentionally sharing personal information? How can you opt-out and practice better digital hygiene? \nJoin this webinar to learn the answers to those questions and more!  Ovie Carroll\, Director of the Department of Justice’s Cybercrime Lab\, will give you valuable steps you can take to protect your privacy online. \nPresented by the Professional Development Task Force as part of member appreciation month. \n\nAbout the Speaker\nOvie Carroll\, Director\, Cybercrime Lab\, U.S. Department of Justice\nOvie (Wan Kenobi) Carroll is not actually a Jedi Master as his name suggests\, rather he is the Director and Chief Uber Geek of the Department of Justice Cybercrime Lab.  Ovie has over 36 years of law enforcement experience and only through the miracles of plastic surgery does he look 26 years old.  Ovie spends a majority of his days trying to find the equipoise between over and under caffeinated. \nOvie’s life is a fascinating journey of a small boy who grew to be a big kid while accidentally spending 4 years in Special Operations. He went on to “do a lot of drugs” (as a special agent working gangs and narcotics in Southern California and Florida). After a long nuisance legal battle he initiated alleging the DOJ did not have a representative number of short bald Irishmen\, Ovie was ultimately was hired in 2006 by the DOJ to establish a cybercrime lab to support over 10\,000 needy and often unappreciated prosecutors across the DOJ. \nOvie is an internationally known speakers\, having just returned from SE Asia training judges and prosecutors in digital evidence. Ovie is requested as a speaker not necessarily because of his expertise in the field\, but rather because he is frequently mistaken as Brad Pitt or Chris Hemsworth. In fact\, for those who have not seen the movie Marvel EndGame\, Ovie was the inspiration for and the body stunt double for Thor. \nPolicy dictates we tell you that the opinions given in his presentation are his and not necessarily shared by his reasonable-minded benevolent government overlords. Please forgive the training organizers for the following presentation. \n\nRegistration\nRegistration will re-open once rescheduled date is confirmed. \nRegistration Fees \n\nFBA Member: $0\nNonmember: $75\n\nLive Captioning: Closed captioning is available for all virtual webcasts. \nCancellation Policy: No refunds will be made for cancellations received after the close of business on May 20\, 2022. No-shows will be billed. Substitutions may be made at any time upon notification. Please contact meetings@fedbar.org with cancellation and/or substitution requests. \nInternet Requirements: Virtual programs require suitable internet strength to stream online panels. A minimum internet connection of 800 Kbps is recommended for an optimal attendee experience. Test your connection here.  \n\nCLE\nThis session is not available for CLE credit. \n\nEmail Communication Policy: By registering for this event\, you agree to receive email communications from the Federal Bar Association and affiliated sponsors of the program concerning event details\, Continuing Legal Education certification\, programming changes\, upcoming events\, surveys\, and post-event communications. \nRecording Disclaimer: By registering for an FBA webinar\, you agree to the recording of audio and visual content presented during the live event and consent to subsequent use of the recording by the FBA. You agree that the recording is the sole property of the FBA and that the recording may be used by the FBA in any manner in its sole and absolute discretion. This recording may include questions and poll responses provided by you during the live event. If you do not consent to the recording and the FBA’s use of the same\, do not register for the event. \nIf you have any questions regarding this program\, please contact Caitlin Rider\, Sr. Conference Manager (crider@fedbar.org).
URL:https://www.fedbar.org/event/webinar-what-social-media-knows-about-you/
LOCATION:Online\, US
GEO:37.09024;-95.712891
END:VEVENT
END:VCALENDAR