BEGIN:VCALENDAR
VERSION:2.0
PRODID:-//Federal Bar Association - ECPv6.15.15//NONSGML v1.0//EN
CALSCALE:GREGORIAN
METHOD:PUBLISH
X-ORIGINAL-URL:https://www.fedbar.org
X-WR-CALDESC:Events for Federal Bar Association
REFRESH-INTERVAL;VALUE=DURATION:PT1H
X-Robots-Tag:noindex
X-PUBLISHED-TTL:PT1H
BEGIN:VTIMEZONE
TZID:America/New_York
BEGIN:DAYLIGHT
TZOFFSETFROM:-0500
TZOFFSETTO:-0400
TZNAME:EDT
DTSTART:20210314T070000
END:DAYLIGHT
BEGIN:STANDARD
TZOFFSETFROM:-0400
TZOFFSETTO:-0500
TZNAME:EST
DTSTART:20211107T060000
END:STANDARD
BEGIN:DAYLIGHT
TZOFFSETFROM:-0500
TZOFFSETTO:-0400
TZNAME:EDT
DTSTART:20220313T070000
END:DAYLIGHT
BEGIN:STANDARD
TZOFFSETFROM:-0400
TZOFFSETTO:-0500
TZNAME:EST
DTSTART:20221106T060000
END:STANDARD
BEGIN:DAYLIGHT
TZOFFSETFROM:-0500
TZOFFSETTO:-0400
TZNAME:EDT
DTSTART:20230312T070000
END:DAYLIGHT
BEGIN:STANDARD
TZOFFSETFROM:-0400
TZOFFSETTO:-0500
TZNAME:EST
DTSTART:20231105T060000
END:STANDARD
END:VTIMEZONE
BEGIN:VEVENT
DTSTART;VALUE=DATE:20220519
DTEND;VALUE=DATE:20220520
DTSTAMP:20260420T170546
CREATED:20220513T152018Z
LAST-MODIFIED:20220514T125500Z
UID:240642-1652918400-1653004799@www.fedbar.org
SUMMARY:Younger Lawyers Division: Bar Trivia Tournament Networking Event (Round 2)
DESCRIPTION:[May 19th | 6:30 PM ET & 6:30 PM PT] \nThe FBA YLD is proud to sponsor the first annual Bar Trivia Tournament Networking Event. All FBA Sections\, Divisions\, and Chapters\, as well as individuals and their friends and colleagues\, are encouraged to sponsor teams to compete for cash prizes and even more valuable bragging rights. Round 1 took place on Thursday\, May 5th and Round 2 will take place on Thursday\, May 19th. For the first two rounds\, there will be an East Coast and West Coast session\, which will begin at 6:30 pm ET and PT\, respectively. The top 10 combined points totals from Rounds 1 and 2 will be eligible to compete for the grand prize in the Final Round on Thursday\, June 5th. There will also be smaller prizes for the top scoring team for each preliminary session. Entry fee is $10 per team. \nPresented by: Younger Lawyers Division \n\nRegistration\n[Register Online] \nFBA Members & Nonmembers – $10 \nRegistrants will receive Zoom login details closer to the event date. \nCancellation Policy \nNo refunds will be made for cancellations received after the close of business on May 2\, 2022. No-shows will be billed. Substitutions may be made at any time upon notification. Please contact Daniel Hamilton at dhamilton@fedbar.org with cancellation and/or substitution requests. \n\nEmail Communication Policy \nBy registering for this event\, you agree to receive email communications from the Federal Bar Association and affiliated sponsors of the program concerning event details\, Continuing Legal Education certification\, programming changes\, upcoming events\, surveys\, and post-event communications.. \nIf you have any questions regarding this program\, please contact sections@fedbar.org.
URL:https://www.fedbar.org/event/younger-lawyers-division-bar-trivia-tournament-networking-event-round-2/
CATEGORIES:Younger Lawyers Division
END:VEVENT
BEGIN:VEVENT
DTSTART;TZID=America/New_York:20220519T170000
DTEND;TZID=America/New_York:20220519T190000
DTSTAMP:20260420T170546
CREATED:20220511T165303Z
LAST-MODIFIED:20220511T172336Z
UID:239990-1652979600-1652986800@www.fedbar.org
SUMMARY:Northern/Eastern Oklahoma Chapter: Bench and Bar Happy Hour
DESCRIPTION:Join Judge John Heil and other members of the bench & bar for a happy hour at Mother Road Market in Tulsa. First round of drinks courtesy of the FBA. Food available for purchase \n\nRegistration\n[Register Online] \nRegistration Rates\nDeadline to register will be May 19\, 2022 \n\nComplimentary for FBA Members & Non-Members\n\n\n\n\n\n\n\n\n\n\n\n\n\n\n\n\n\nEmail Communication Policy \nBy registering for this event\, you agree to receive email communications from the Federal Bar Association and affiliated sponsors of the program concerning event details\, Continuing Legal Education certification\, programming changes\, upcoming events\, surveys\, and post-event communications. \n\nIf you have any questions regarding this program\, please contact neokfba@gmail.com
URL:https://www.fedbar.org/event/northern-eastern-oklahoma-chapter-bench-and-bar-happy-hour/
LOCATION:Mother Road Market\, 1124 S Lewis Ave\, Tulsa\, OK\, 74104\, United States
CATEGORIES:NorthernEastern Oklahoma Chapter
ATTACH;FMTTYPE=image/png:https://www.fedbar.org/wp-content/uploads/2022/05/Oklahoma-Capture.png
GEO:36.14705;-95.9587245
X-APPLE-STRUCTURED-LOCATION;VALUE=URI;X-ADDRESS=Mother Road Market 1124 S Lewis Ave Tulsa OK 74104 United States;X-APPLE-RADIUS=500;X-TITLE=1124 S Lewis Ave:geo:-95.9587245,36.14705
END:VEVENT
END:VCALENDAR