BEGIN:VCALENDAR
VERSION:2.0
PRODID:-//Federal Bar Association - ECPv6.15.15//NONSGML v1.0//EN
CALSCALE:GREGORIAN
METHOD:PUBLISH
X-ORIGINAL-URL:https://www.fedbar.org
X-WR-CALDESC:Events for Federal Bar Association
REFRESH-INTERVAL;VALUE=DURATION:PT1H
X-Robots-Tag:noindex
X-PUBLISHED-TTL:PT1H
BEGIN:VTIMEZONE
TZID:America/New_York
BEGIN:DAYLIGHT
TZOFFSETFROM:-0500
TZOFFSETTO:-0400
TZNAME:EDT
DTSTART:20210314T070000
END:DAYLIGHT
BEGIN:STANDARD
TZOFFSETFROM:-0400
TZOFFSETTO:-0500
TZNAME:EST
DTSTART:20211107T060000
END:STANDARD
BEGIN:DAYLIGHT
TZOFFSETFROM:-0500
TZOFFSETTO:-0400
TZNAME:EDT
DTSTART:20220313T070000
END:DAYLIGHT
BEGIN:STANDARD
TZOFFSETFROM:-0400
TZOFFSETTO:-0500
TZNAME:EST
DTSTART:20221106T060000
END:STANDARD
BEGIN:DAYLIGHT
TZOFFSETFROM:-0500
TZOFFSETTO:-0400
TZNAME:EDT
DTSTART:20230312T070000
END:DAYLIGHT
BEGIN:STANDARD
TZOFFSETFROM:-0400
TZOFFSETTO:-0500
TZNAME:EST
DTSTART:20231105T060000
END:STANDARD
END:VTIMEZONE
BEGIN:VEVENT
DTSTART;TZID=America/New_York:20220510T120000
DTEND;TZID=America/New_York:20220510T130000
DTSTAMP:20260421T095621
CREATED:20220504T183401Z
LAST-MODIFIED:20220504T183602Z
UID:234436-1652184000-1652187600@www.fedbar.org
SUMMARY:Northern/Eastern Oklahoma Chapter: Brown Bag Lunch with Judge Robertson and Judge Thomas
DESCRIPTION:Join us for an informal lunchtime event with Eastern District Magistrate Judge Jason A. Robertson\, sworn in March 21\, 2022\, and Eastern District Bankruptcy Judge Paul R. Thomas\, sworn in April 8\, 2022. \n\nSpeakers\nThe Hon. Jason A. Robertson\nThe Hon. Paul R. Thomas \n\nRegistration\n[Register Online]  \nRegistration Rates\nDeadline to register will be May 9\, 2022 \n\nFBA Members: $0\nNon-Members: $10\n\n\n\n\n\n\n\n\n\n\n\n\n\n\n\n\n\n\n\n\n\n\n\n\n\nCLE\nPlease note CLE will not be offered for this event.  \n\n\n\n\n\n\n\n\nEmail Communication Policy \nBy registering for this event\, you agree to receive email communications from the Federal Bar Association and affiliated sponsors of the program concerning event details\, Continuing Legal Education certification\, programming changes\, upcoming events\, surveys\, and post-event communications. \n\nIf you have any questions regarding this program\, please contact neokfba@gmail.com
URL:https://www.fedbar.org/event/northern-eastern-oklahoma-chapter-brown-bag-lunch-with-judge-robertson-and-judge-thomas/
CATEGORIES:NorthernEastern Oklahoma Chapter
ATTACH;FMTTYPE=image/png:https://www.fedbar.org/wp-content/uploads/2022/05/Event-Flyer.png
END:VEVENT
END:VCALENDAR