BEGIN:VCALENDAR
VERSION:2.0
PRODID:-//Federal Bar Association - ECPv6.15.15//NONSGML v1.0//EN
CALSCALE:GREGORIAN
METHOD:PUBLISH
X-ORIGINAL-URL:https://www.fedbar.org
X-WR-CALDESC:Events for Federal Bar Association
REFRESH-INTERVAL;VALUE=DURATION:PT1H
X-Robots-Tag:noindex
X-PUBLISHED-TTL:PT1H
BEGIN:VTIMEZONE
TZID:America/New_York
BEGIN:DAYLIGHT
TZOFFSETFROM:-0500
TZOFFSETTO:-0400
TZNAME:EDT
DTSTART:20210314T070000
END:DAYLIGHT
BEGIN:STANDARD
TZOFFSETFROM:-0400
TZOFFSETTO:-0500
TZNAME:EST
DTSTART:20211107T060000
END:STANDARD
BEGIN:DAYLIGHT
TZOFFSETFROM:-0500
TZOFFSETTO:-0400
TZNAME:EDT
DTSTART:20220313T070000
END:DAYLIGHT
BEGIN:STANDARD
TZOFFSETFROM:-0400
TZOFFSETTO:-0500
TZNAME:EST
DTSTART:20221106T060000
END:STANDARD
BEGIN:DAYLIGHT
TZOFFSETFROM:-0500
TZOFFSETTO:-0400
TZNAME:EDT
DTSTART:20230312T070000
END:DAYLIGHT
BEGIN:STANDARD
TZOFFSETFROM:-0400
TZOFFSETTO:-0500
TZNAME:EST
DTSTART:20231105T060000
END:STANDARD
END:VTIMEZONE
BEGIN:VEVENT
DTSTART;VALUE=DATE:20220225
DTEND;VALUE=DATE:20220227
DTSTAMP:20260422T085411
CREATED:20220208T150912Z
LAST-MODIFIED:20220208T154446Z
UID:204843-1645747200-1645919999@www.fedbar.org
SUMMARY:Immigration Law Section: 2022 Asylum & Immigration Law Conference
DESCRIPTION:We are excited to announce that the seventh annual New York Asylum & Immigration Law Conference will convene on Friday\, February 25th\, and Saturday\, February 26th via Zoom. \nThe conference will continue to offer a Beginner and Advanced track on Friday\, February 25th. Saturday’s sessions will focus primarily on current policy issues and practice tips for those who work directly with Afghans. \nThe full agenda of events for both dates can be found on the Eventbrite page\, in addition to information about CLE credits for practicing attorneys. Co-presented with the New York Law School Asylum and Safe Passage Project and Immigrant ARC. \nFor any questions about the conference\, please email immigration.cle@nyls.edu \nLearn More and Register
URL:https://www.fedbar.org/event/immigration-law-section-2022-asylum-immigration-law-conference/
CATEGORIES:Immigration Law Section
END:VEVENT
END:VCALENDAR