BEGIN:VCALENDAR
VERSION:2.0
PRODID:-//Federal Bar Association - ECPv6.15.15//NONSGML v1.0//EN
CALSCALE:GREGORIAN
METHOD:PUBLISH
X-WR-CALNAME:Federal Bar Association
X-ORIGINAL-URL:https://www.fedbar.org
X-WR-CALDESC:Events for Federal Bar Association
REFRESH-INTERVAL;VALUE=DURATION:PT1H
X-Robots-Tag:noindex
X-PUBLISHED-TTL:PT1H
BEGIN:VTIMEZONE
TZID:America/New_York
BEGIN:DAYLIGHT
TZOFFSETFROM:-0500
TZOFFSETTO:-0400
TZNAME:EDT
DTSTART:20210314T070000
END:DAYLIGHT
BEGIN:STANDARD
TZOFFSETFROM:-0400
TZOFFSETTO:-0500
TZNAME:EST
DTSTART:20211107T060000
END:STANDARD
BEGIN:DAYLIGHT
TZOFFSETFROM:-0500
TZOFFSETTO:-0400
TZNAME:EDT
DTSTART:20220313T070000
END:DAYLIGHT
BEGIN:STANDARD
TZOFFSETFROM:-0400
TZOFFSETTO:-0500
TZNAME:EST
DTSTART:20221106T060000
END:STANDARD
BEGIN:DAYLIGHT
TZOFFSETFROM:-0500
TZOFFSETTO:-0400
TZNAME:EDT
DTSTART:20230312T070000
END:DAYLIGHT
BEGIN:STANDARD
TZOFFSETFROM:-0400
TZOFFSETTO:-0500
TZNAME:EST
DTSTART:20231105T060000
END:STANDARD
END:VTIMEZONE
BEGIN:VEVENT
DTSTART;TZID=America/New_York:20220125T083000
DTEND;TZID=America/New_York:20220126T130000
DTSTAMP:20260422T180939
CREATED:20211208T211948Z
LAST-MODIFIED:20211210T153831Z
UID:195667-1643099400-1643202000@www.fedbar.org
SUMMARY:Eastern District of Michigan Chapter: New Lawyers' Seminar
DESCRIPTION:The Federal Bar Association Easter District of Michigan Chapter is pleased to present the 46th Annual/2nd Virtual \nNew Lawyers’ Seminar\nNavigating Your Way in State & Federal Court\nTuesday\, January 25 – Wednesday\, January 26\, 2022 | 8:30 AM – 1:00 PM ET.\nThis is a VIRTUAL Seminar for New Lawyers: Navigating Your Way in State & Federal Court and this iteration is our 46th Annual event where new lawyers will receive practice tips and real-world advice about law\, procedure and strategy from Michigan’s top lawyers and judges. This is a TWO DAY Event! There is no option to register for one day only. Information will be sent out after registration on how to register for the mass swearing-in. \n\nRegistration\nRegister Online: https://fbamich.org/event/2022-new-lawyers-seminar/ \n\nFBA Members & Nonmembers – $85\n\n\nEmail Communication Policy \nBy registering for this event\, you agree to receive email communications from the Federal Bar Association and affiliated sponsors of the program concerning event details\, Continuing Legal Education certification\, programming changes\, upcoming events\, surveys\, and post-event communications. \n\nIf you have any questions regarding this program\, please contact Mindy Herrmann fbamich@fbamich.org.
URL:https://www.fedbar.org/event/eastern-district-of-michigan-chapter-new-lawyers-seminar/
LOCATION:Online\, US
CATEGORIES:Eastern District of Michigan Chapter
GEO:37.09024;-95.712891
END:VEVENT
END:VCALENDAR