BEGIN:VCALENDAR
VERSION:2.0
PRODID:-//Federal Bar Association - ECPv6.15.15//NONSGML v1.0//EN
CALSCALE:GREGORIAN
METHOD:PUBLISH
X-WR-CALNAME:Federal Bar Association
X-ORIGINAL-URL:https://www.fedbar.org
X-WR-CALDESC:Events for Federal Bar Association
REFRESH-INTERVAL;VALUE=DURATION:PT1H
X-Robots-Tag:noindex
X-PUBLISHED-TTL:PT1H
BEGIN:VTIMEZONE
TZID:America/New_York
BEGIN:DAYLIGHT
TZOFFSETFROM:-0500
TZOFFSETTO:-0400
TZNAME:EDT
DTSTART:20210314T070000
END:DAYLIGHT
BEGIN:STANDARD
TZOFFSETFROM:-0400
TZOFFSETTO:-0500
TZNAME:EST
DTSTART:20211107T060000
END:STANDARD
BEGIN:DAYLIGHT
TZOFFSETFROM:-0500
TZOFFSETTO:-0400
TZNAME:EDT
DTSTART:20220313T070000
END:DAYLIGHT
BEGIN:STANDARD
TZOFFSETFROM:-0400
TZOFFSETTO:-0500
TZNAME:EST
DTSTART:20221106T060000
END:STANDARD
BEGIN:DAYLIGHT
TZOFFSETFROM:-0500
TZOFFSETTO:-0400
TZNAME:EDT
DTSTART:20230312T070000
END:DAYLIGHT
BEGIN:STANDARD
TZOFFSETFROM:-0400
TZOFFSETTO:-0500
TZNAME:EST
DTSTART:20231105T060000
END:STANDARD
END:VTIMEZONE
BEGIN:VEVENT
DTSTART;TZID=America/New_York:20220120T173000
DTEND;TZID=America/New_York:20220120T190000
DTSTAMP:20260422T181000
CREATED:20220106T154839Z
LAST-MODIFIED:20220106T154935Z
UID:196762-1642699800-1642705200@www.fedbar.org
SUMMARY:Southern District of New York Chapter: Grab Them by the Workplace - Understanding Sexual Harassment in the #MeToo Era
DESCRIPTION:The Federal Bar Association\, SDNY Chapter along with co-sponsors the Weschester Black Bar Association\, Westchester County Bar Association\, the Westchester Women’s Bar Association and the White Plains Bar Association present a CLE program on sexual harassment in the workplace and a review of the governing federal and New York State laws. \nThe panel includes attorneys from federal and state agencies\, in-house counsel and employer and employee representatives. The program will be moderated by the Hon. Judith C. McCarthy\, Magistrate Judge (SDNY). \n\nRegistration\n\nComplimentary Registration\n\n\n\n\n\n\n\n\nRegister Online: https://www.eventbrite.com/e/grab-them-by-the-workplace-understanding-sexual-harassment-in-metoo-era-tickets-225597196287 \n\n\n\n\n\n\n\n\n\n\n\n\n\n\n\n\n\nCLE\n1.5 CLE Credits in Professional Practice and /or Diversity pending approval in accordance with the requirements of the NYS Continuing Legal Education Board. \n\n\n\n\n\n\n\n\nEmail Communication Policy \nBy registering for this event\, you agree to receive email communications from the Federal Bar Association and affiliated sponsors of the program concerning event details\, Continuing Legal Education certification\, programming changes\, upcoming events\, surveys\, and post-event communications. \n\nIf you have any questions regarding this program\, please contact Nancy Morisseau
URL:https://www.fedbar.org/event/southern-district-of-new-york-chapter-grab-them-by-the-workplace/
LOCATION:Online\, US
CATEGORIES:Southern District of New York Chapter
ATTACH;FMTTYPE=image/png:https://www.fedbar.org/wp-content/uploads/2022/01/SDNY-Flyer.png
GEO:37.09024;-95.712891
END:VEVENT
END:VCALENDAR