BEGIN:VCALENDAR
VERSION:2.0
PRODID:-//Federal Bar Association - ECPv6.15.15//NONSGML v1.0//EN
CALSCALE:GREGORIAN
METHOD:PUBLISH
X-WR-CALNAME:Federal Bar Association
X-ORIGINAL-URL:https://www.fedbar.org
X-WR-CALDESC:Events for Federal Bar Association
REFRESH-INTERVAL;VALUE=DURATION:PT1H
X-Robots-Tag:noindex
X-PUBLISHED-TTL:PT1H
BEGIN:VTIMEZONE
TZID:America/Chicago
BEGIN:DAYLIGHT
TZOFFSETFROM:-0600
TZOFFSETTO:-0500
TZNAME:CDT
DTSTART:20200308T080000
END:DAYLIGHT
BEGIN:STANDARD
TZOFFSETFROM:-0500
TZOFFSETTO:-0600
TZNAME:CST
DTSTART:20201101T070000
END:STANDARD
BEGIN:DAYLIGHT
TZOFFSETFROM:-0600
TZOFFSETTO:-0500
TZNAME:CDT
DTSTART:20210314T080000
END:DAYLIGHT
BEGIN:STANDARD
TZOFFSETFROM:-0500
TZOFFSETTO:-0600
TZNAME:CST
DTSTART:20211107T070000
END:STANDARD
BEGIN:DAYLIGHT
TZOFFSETFROM:-0600
TZOFFSETTO:-0500
TZNAME:CDT
DTSTART:20220313T080000
END:DAYLIGHT
BEGIN:STANDARD
TZOFFSETFROM:-0500
TZOFFSETTO:-0600
TZNAME:CST
DTSTART:20221106T070000
END:STANDARD
END:VTIMEZONE
BEGIN:VEVENT
DTSTART;TZID=America/Chicago:20211216T132000
DTEND;TZID=America/Chicago:20211216T180000
DTSTAMP:20260423T065226
CREATED:20211208T205949Z
LAST-MODIFIED:20211209T185358Z
UID:195664-1639660800-1639677600@www.fedbar.org
SUMMARY:Lafayette-Acadiana Chapter: 18th Annual Judge John M. Shaw “Country Gentleman” Civility & Ethics Seminar
DESCRIPTION:18th Annual Judge John M. Shaw “Country Gentleman” Civility & Ethics Seminar\nThursday\, December 16\, 2021 | 1:20 PM – 5:00 PM CST \nThis year’s Seminar will be offered both virtually and live. Due to courthouse precautions\, in-person attendance will be limited to the first 20 registrants who indicate they will attend in person.\nThe live Seminar will be held at the Western District Courthouse in Lafayette\, LA in Courtroom 2\n(Fourth Floor). A reception will be held afterward for those in attendance. \nPROGRAM AGENDA \n\n1:20 – 1:30 PM Opening Remarks\n1:30 – 2:30 PM Views From the Bench on Professionalism\n\n(1 hr – Prof.) The Honorable David C. Joseph\, United States District Judge for the Western District of Louisiana\n\n\n2:30 – 3:00 PM Lafayette‐Acadiana Chapter General Meeting; Election and Swearing in of 2022 Chapter Board\n3:00 – 4:00 PM Recent Developments in Legal Ethics: A survey of recent\n\n(1 hr – Ethics) amendments to the Rules of Professional Conduct\, advisory opinions interpreting the rules\, and case law concerning lawyer discipline.\nProfessor Dane Ciolino\, Loyola University New Orleans College of Law\, and Clare Roubion\, Louisiana Legal Ethics\, LLC\n\n\n4:00 – 5:00 PM Civil ‘Fraud’ Prosecutions: Federal False Claims Act and Qui Tam Actions Missy Theriot\, Assistant United States Attorney\, Western District of Louisiana\n5:00 – 5:10 PM Final Remarks\n5:10 – 6:00 PM Reception catered by iMonelli\n\nThird Floor\n\n\n\n\nCLE\nApplication pending for 3.0 hour of CLE credit in Louisiana and Texas. \n\nRegistration\nRegistration Fees \n\nChapter Members – Complimentary Registration\nNonmembers – $25\n\nRegister Online: https://form.123formbuilder.com/6047471/ \n\nFor questions\, contact Chapter President at federalbar.acadiana@gmail.com
URL:https://www.fedbar.org/event/lafayette-acadiana-chapter-18th-annual-judge-john-m-shaw-country-gentleman-civility-ethics-seminar/
LOCATION:Online\, US
CATEGORIES:LafayetteAcadiana Chapter
GEO:37.09024;-95.712891
END:VEVENT
END:VCALENDAR