BEGIN:VCALENDAR
VERSION:2.0
PRODID:-//Federal Bar Association - ECPv6.15.15//NONSGML v1.0//EN
CALSCALE:GREGORIAN
METHOD:PUBLISH
X-ORIGINAL-URL:https://www.fedbar.org
X-WR-CALDESC:Events for Federal Bar Association
REFRESH-INTERVAL;VALUE=DURATION:PT1H
X-Robots-Tag:noindex
X-PUBLISHED-TTL:PT1H
BEGIN:VTIMEZONE
TZID:America/Chicago
BEGIN:DAYLIGHT
TZOFFSETFROM:-0600
TZOFFSETTO:-0500
TZNAME:CDT
DTSTART:20200308T080000
END:DAYLIGHT
BEGIN:STANDARD
TZOFFSETFROM:-0500
TZOFFSETTO:-0600
TZNAME:CST
DTSTART:20201101T070000
END:STANDARD
BEGIN:DAYLIGHT
TZOFFSETFROM:-0600
TZOFFSETTO:-0500
TZNAME:CDT
DTSTART:20210314T080000
END:DAYLIGHT
BEGIN:STANDARD
TZOFFSETFROM:-0500
TZOFFSETTO:-0600
TZNAME:CST
DTSTART:20211107T070000
END:STANDARD
BEGIN:DAYLIGHT
TZOFFSETFROM:-0600
TZOFFSETTO:-0500
TZNAME:CDT
DTSTART:20220313T080000
END:DAYLIGHT
BEGIN:STANDARD
TZOFFSETFROM:-0500
TZOFFSETTO:-0600
TZNAME:CST
DTSTART:20221106T070000
END:STANDARD
END:VTIMEZONE
BEGIN:VTIMEZONE
TZID:America/New_York
BEGIN:DAYLIGHT
TZOFFSETFROM:-0500
TZOFFSETTO:-0400
TZNAME:EDT
DTSTART:20200308T070000
END:DAYLIGHT
BEGIN:STANDARD
TZOFFSETFROM:-0400
TZOFFSETTO:-0500
TZNAME:EST
DTSTART:20201101T060000
END:STANDARD
BEGIN:DAYLIGHT
TZOFFSETFROM:-0500
TZOFFSETTO:-0400
TZNAME:EDT
DTSTART:20210314T070000
END:DAYLIGHT
BEGIN:STANDARD
TZOFFSETFROM:-0400
TZOFFSETTO:-0500
TZNAME:EST
DTSTART:20211107T060000
END:STANDARD
BEGIN:DAYLIGHT
TZOFFSETFROM:-0500
TZOFFSETTO:-0400
TZNAME:EDT
DTSTART:20220313T070000
END:DAYLIGHT
BEGIN:STANDARD
TZOFFSETFROM:-0400
TZOFFSETTO:-0500
TZNAME:EST
DTSTART:20221106T060000
END:STANDARD
END:VTIMEZONE
BEGIN:VTIMEZONE
TZID:America/North_Dakota/New_Salem
BEGIN:DAYLIGHT
TZOFFSETFROM:-0600
TZOFFSETTO:-0500
TZNAME:CDT
DTSTART:20200308T080000
END:DAYLIGHT
BEGIN:STANDARD
TZOFFSETFROM:-0500
TZOFFSETTO:-0600
TZNAME:CST
DTSTART:20201101T070000
END:STANDARD
BEGIN:DAYLIGHT
TZOFFSETFROM:-0600
TZOFFSETTO:-0500
TZNAME:CDT
DTSTART:20210314T080000
END:DAYLIGHT
BEGIN:STANDARD
TZOFFSETFROM:-0500
TZOFFSETTO:-0600
TZNAME:CST
DTSTART:20211107T070000
END:STANDARD
BEGIN:DAYLIGHT
TZOFFSETFROM:-0600
TZOFFSETTO:-0500
TZNAME:CDT
DTSTART:20220313T080000
END:DAYLIGHT
BEGIN:STANDARD
TZOFFSETFROM:-0500
TZOFFSETTO:-0600
TZNAME:CST
DTSTART:20221106T070000
END:STANDARD
END:VTIMEZONE
BEGIN:VEVENT
DTSTART;TZID=America/Chicago:20211118T090000
DTEND;TZID=America/Chicago:20211118T170000
DTSTAMP:20260423T130127
CREATED:20211109T191122Z
LAST-MODIFIED:20211109T191356Z
UID:191028-1637226000-1637254800@www.fedbar.org
SUMMARY:Minnesota Chapter: 46th Annual Federal Practice Seminar
DESCRIPTION:November 18\, 2021 | 9:00 a.m. – 5:00 p.m. CT  \n\n\n\n\nThe Federal Practice Seminar is the Minnesota Chapter’s annual day-long event featuring topics of interest to every federal practitioner. We have assembled a slate of outstanding presenters\, including judges and experts in a variety of fields\, who will speak on vital issues facing civil and criminal practice today\, including: \n\nQualified Immunity\nFederal Clemency in the Biden Era\nRule 30(b)(6) Depositions\nVoting Rights\nNeuroscience and the Law\nIn the Dark Podcast and Investigative Journalism\nCivil Access to Justice and the Pro Se Project\nSupreme Court Update\n\nIn addition\, our keynote speaker this year is Professor Christopher Lehman\, a professor of ethnic studies at St. Cloud State University. Professor Lehman’s keynote address is titled “How Free is Free” and will discuss Southern slave owners’ contributions to Minnesota’s growth through the end of the Civil War and Minnesota’s complicit role in the history of slavery. Professor Lehman is the author of Slavery in the Upper Mississippi Valley\, 1787-1865 and Slavery’s Reach: Southern Slaveholders in the North Star State\, which won the 2020 Minnesota Book Award for Minnesota Nonfiction. \nPlease see http://www.fedbarmn.org for a detailed agenda and to view the slate of outstanding speakers presenting. \n\nCLE\n6.25 Hours of CLE Credit Approved \n\n\n5 hours of standard credits \n\n\n1.25 hours of elimination-of-bias credits for keynote speaker \n\n\n\nRegistration\nRegistration for this event will close on November 18\, 2021. \nRegister Online: FBA Virtual Events (fedbarmn.org) \n\nIf you have any questions regarding this program\, please contact Aaron Knoll.
URL:https://www.fedbar.org/event/minnesota-chapter-46th-annual-federal-practice-seminar/
LOCATION:Online\, US
CATEGORIES:Minnesota Chapter
GEO:37.09024;-95.712891
END:VEVENT
BEGIN:VEVENT
DTSTART;TZID=America/New_York:20211118T120000
DTEND;TZID=America/New_York:20211119T153000
DTSTAMP:20260423T130127
CREATED:20211015T142615Z
LAST-MODIFIED:20211118T175943Z
UID:172563-1637236800-1637335800@www.fedbar.org
SUMMARY:[Virtual] 2021 D.C. Indian Law Conference
DESCRIPTION:In 2021\, tribal nations have continued to work through the unprecedented challenges presented by the global coronavirus pandemic while addressing a number of other key legal issues that could have implications for Indian country for generations to come\, ranging from new and recurring questions about the breadth of tribal jurisdiction to approaches for expanding economic development opportunities\, and well beyond. Please join us for the Virtual D.C. Indian Law Conference on November 18-19\, 2021 as we hear from leading experts exploring some of these issues. Panel topics will include Equal Protection and Other Constitutional Attacks\, Indian Country’s COVID-19 Response\, Exercising Criminal Jurisdiction in the Wake of McGirt\, and IGRA\, Sports Betting and the Internet. \nRegistration for this event is now closed. \n\n\nAgenda\nAll Times Below are in Eastern Standard Time (EST) \n\nThursday\, November 18\, 2021\n12:00 – 1:30 p.m. ET | Exercising Criminal Jurisdiction in the Wake of McGirt \nThis panel reviews McGirt v. Oklahoma\, 140 S. Ct. 2452 (2020)\, where the U.S. Supreme Court affirmed the continued existence of the Muscogee (Creek) Nation Reservation boundaries. Tribal\, Federal\, and State jurisdictional implications of the decision will be discussed\, as well as how Oklahoma Tribes and our federal partners are responding to ensure tribal lands and surrounding communities remain safe for everyone. \n\nRobin Lash\, General Counsel\, Miami Tribe of Oklahoma (moderator)\nSara Hill\, Attorney General\, Cherokee Nation\nTracy Toulou\, Director\, Office of Tribal Justice\, U.S. Department of Justice\nO. Joseph Williams\, Attorney\, Reservation Legal Solutions\, PLLC\n\n2:00 – 3:30 p.m. ET | IGRA\, Sports Betting\, and the Internet \nThis panel will discuss the landscape of Indian gaming and the Internet. For years\, Tribal governments engaged in gaming have strategized about how best to participate in online and mobile event wagering. The challenges have been political\, legal\, and economic. The ongoing pandemic accelerated this process in some manners and has provided early glimpses about what Indian gaming may look like in tomorrow’s technological era. Please join us for this important discussion.” \n\nDerrick Beetso\, Director\, Indian Gaming and Tribal Self-Governance Programs\, Arizona State University College of Law\nJoseph Webster\, Partner\, Hobbs\, Straus\, Dean & Walker\, LLP\nScott Crowell\, Crowell Law Office – Tribal Advocacy Group\nMike Hoenig\, General Counsel\, National Indian Gaming Commission\n\nFriday\, November 19\, 2021\n12:00 – 1:30 p.m. ET | Equal Protection and other Constitutional Attacks on Indian Law \nThose who seek to undermine Indian Tribes and the unique place they occupy in the constitutional structure frequently use Equal Protection as their vehicle for doing so.  Sometimes they claim that Indians are the beneficiaries of “special rights” unconstitutionally denied to non-Indians\, other times that Indians are denied full access to the rights to which they are entitled as U.S. citizens; and sometimes\, as in the Brackeen litigation\, they argue both at the same time.  This panel will discuss the many ways in which parties use Equal Protection to attack Indian Law\, in contexts as diverse as the Indian Child Welfare Act\, the Indian Gaming Regulatory Act\, and attempts to overturn the Supreme Court’s McGirt decision.  It also will situate these Equal Protection challenges within the broader framework of constitutional challenges to Indian Law.  Finally\, it will give practitioners the tools they need to push back against these arguments. \n\nGregory A. Smith\, Partner\, Hobbs\, Straus\, Dean & Walker\, LLP (moderator)\nIan Heath Gershengorn\, Partner\, Jenner & Block\nRiyaz Kanji\, Kanji & Katzen\, PPLC\nWenona Singel\, Associate Professor\, Michigan State University College of Law\n\nSession sponsored by: Hobbs\, Straus\, Dean & Walker LLP \n2:00 – 3:30 p.m. ET | Indian Country’s COVID-19 Response\n \nThe Covid-19 pandemic has had significant impacts on businesses and communities\, and Indian Country is no exception.  This panel will discuss a number of the business and economic challenges—and opportunities—encountered by tribes as a result of the pandemic.  Topics include accessing FRF and ARPA funds\, insurance claims for the business interruption losses suffered by tribal businesses\, SSBCI and other federal benefits provided to tribes for COVID relief\, and considerations for tribal employers\, such as the OSHA vaccine and testing mandate. \n\nJennifer Hughes\, Partner\, Hobbs\, Straus\, Dean & Walker\, LLP\nTae Phillips\, Shareholder\, Ogletree\, Deakins\, Nash\, Smoak & Stewart\, P.C.\nSusannah Carr\, Partner\, Gordon Tilden Thomas Cordell LLP\nMaranda Compton\, Partner\, Van Ness Feldman LLP\n\n\n\n\n\n\n\n\n\n\n\nRegistration\nRegistration for this event is now closed. \n\n\n\nCancellation Policy: No refunds will be made for cancellations received after the close of business on November 10\, 2021. No-shows will be billed. Substitutions may be made at any time upon notification. Please contact Ariel White at awhite@fedbar.org with cancellation and/or substitution requests. \nLive Captioning: Closed captioning is available for all virtual webcasts. \nInternet Requirements: Virtual programs require suitable internet strength to stream online panels. A minimum internet connection of 800 Kbps is recommended for an optimal attendee experience. Test your connection here.  \n\n\n\n\n\n\n\n\n\nCLE\nAttendees can receive up to 6 CLE credits (7.2 credits for 50-min states) including 1.5 Ethics credits (1.8 credits for 50-min states). \nCLE Credit will be processed/reported approximately 4-6 weeks after the event date and available for credit in states that allow credit for live webinar presentations. You must attend the live broadcast\, answer engagement polls\, and accurately enter your bar number in our database to receive credit. Certificates and required documentation for self-reporting states will be issued via email\, upon state bar approval. Thank you in advance for your patience\, as state bars are experiencing significant delays with virtual program processing. \nClick Here for more information on CLE Attendance and Reporting. \n\nSponsors\nSession Sponsor \n \nInterested in sponsoring this event? View our Sponsorship Prospectus and contact sponsor@fedbar.org for more information. \n\nFrequently Asked Questions\nQ: What type of educational credit will be offered in the virtual format?\nA: Attendees can receive up to 6 CLE credits (7.2 credits for 50-min states). Please check with your respective state(s) for distance learning CLE requirements. \nQ: How do I obtain CLE Credit?\nA: All registrants will be prompted to submit state bar information prior to the virtual series to ensure accurate CLE reporting. Credits will be processed/reported within 4-6 weeks of the webinar event date and available for credit in states that allow credit for live webinar presentations. Your bar number must be accurate in our database to receive credit. We will share detailed instructions with registrants for CLE reporting. \nQ: How do I access the virtual panels?\nA: Virtual panels will each have a unique link to watch the live broadcast. Registered attendees will receive login instructions via a welcome email and calendar invitations the week of the conference. \nQ: Will recordings of the sessions be available after the event?\nA: Sessions will be available for registrants to view live and on-demand following the conference. Please note that CLE credit will only be submitted for attendees that watch the live broadcast. \nQ: Who do I contact for more information?\nA: Please contact meetings@fedbar.org for any other questions. \n\nEmail Communication Policy \nBy registering for this event\, you agree to receive email communications from the Federal Bar Association and affiliated sponsors of the program concerning event details\, Continuing Legal Education certification\, programming changes\, upcoming events\, surveys\, and post-event communications. \nRecording Disclaimer \nBy registering for an online FBA program\, you agree to the recording of audio and visual content presented during the live event and consent to subsequent use of the recording by the FBA. You agree that the recording is the sole property of the FBA and that the recording may be used by the FBA in any manner in its sole and absolute discretion. This recording may include questions and poll responses provided by you during the live event. If you do not consent to the recording and the FBA’s use of the same\, do not register for the event. \nIf you have any questions regarding this program\, please contact meetings@fedbar.org.
URL:https://www.fedbar.org/event/dcil21/
LOCATION:Online\, US
CATEGORIES:Indian Law Section
ATTACH;FMTTYPE=image/jpeg:https://www.fedbar.org/wp-content/uploads/2021/10/iStock_000017234244_Full-scaled-1.jpg
GEO:37.09024;-95.712891
END:VEVENT
BEGIN:VEVENT
DTSTART;TZID=America/North_Dakota/New_Salem:20211118T173000
DTEND;TZID=America/North_Dakota/New_Salem:20211118T193000
DTSTAMP:20260423T130127
CREATED:20211029T192737Z
LAST-MODIFIED:20211029T193014Z
UID:179183-1637256600-1637263800@www.fedbar.org
SUMMARY:Oklahoma City Chapter: 2021 Judicial Reception and Fireside Chat
DESCRIPTION:November 18\, 2021 | 5:30-7:30 p.m. CT  \n\n\n\n\nJoin the Oklahoma City Chapter of the Federal Bar Association for a judicial reception and fireside chat featuring Judge Patrick W. Wyrick. Judge Scott L. Palk will host the fireside chat. \nFeatured Panelists: \n\nJudge Patrick W. Wyrick\nJudge Scott L. Palk\n\n\nCLE\n1.0 CLE Credit \n\nRegistration\nRegistration for this event will close on November 11\, 2021. \nRegistration Fees \n\n$20 – FBA Student Members/Govt. Employees\n$30 – FBA Members\n$50 – Nonmembers\n\nHow to Register \nRegister Online: https://www.paypal.com/paypalme/fbaokcchapter  \n\nIf you have any questions regarding this program\, please contact Jake Krattiger
URL:https://www.fedbar.org/event/oklahoma-city-chapter-2021-judicial-reception-and-fireside-chat/
LOCATION:Sheraton Oklahoma City Downtown Hotel
CATEGORIES:Oklahoma City Chapter
END:VEVENT
END:VCALENDAR