BEGIN:VCALENDAR
VERSION:2.0
PRODID:-//Federal Bar Association - ECPv6.15.15//NONSGML v1.0//EN
CALSCALE:GREGORIAN
METHOD:PUBLISH
X-WR-CALNAME:Federal Bar Association
X-ORIGINAL-URL:https://www.fedbar.org
X-WR-CALDESC:Events for Federal Bar Association
REFRESH-INTERVAL;VALUE=DURATION:PT1H
X-Robots-Tag:noindex
X-PUBLISHED-TTL:PT1H
BEGIN:VTIMEZONE
TZID:America/New_York
BEGIN:DAYLIGHT
TZOFFSETFROM:-0500
TZOFFSETTO:-0400
TZNAME:EDT
DTSTART:20200308T070000
END:DAYLIGHT
BEGIN:STANDARD
TZOFFSETFROM:-0400
TZOFFSETTO:-0500
TZNAME:EST
DTSTART:20201101T060000
END:STANDARD
BEGIN:DAYLIGHT
TZOFFSETFROM:-0500
TZOFFSETTO:-0400
TZNAME:EDT
DTSTART:20210314T070000
END:DAYLIGHT
BEGIN:STANDARD
TZOFFSETFROM:-0400
TZOFFSETTO:-0500
TZNAME:EST
DTSTART:20211107T060000
END:STANDARD
BEGIN:DAYLIGHT
TZOFFSETFROM:-0500
TZOFFSETTO:-0400
TZNAME:EDT
DTSTART:20220313T070000
END:DAYLIGHT
BEGIN:STANDARD
TZOFFSETFROM:-0400
TZOFFSETTO:-0500
TZNAME:EST
DTSTART:20221106T060000
END:STANDARD
END:VTIMEZONE
BEGIN:VEVENT
DTSTART;TZID=America/New_York:20211115T130000
DTEND;TZID=America/New_York:20211115T140000
DTSTAMP:20260423T103534
CREATED:20211101T162618Z
LAST-MODIFIED:20211115T163009Z
UID:187046-1636981200-1636984800@www.fedbar.org
SUMMARY:Admiralty Law Section: Finders Keepers - Developments in Marine Salvage Law
DESCRIPTION:Please join us for another interactive session between two respected maritime lawyers with years of experience in salvage law. Our discussion will center on contract salvage and SALCON 89. Topics will include the ability of SALCON 89 to supersede the Blackwall factors\, US Coast Guard involvement in contract salvage and attorneys fees. \nRegistration is Closed \n\nAbout the Speakers\nCharles S. Davant\, Shareholder\, Davant Law P.A. (Moderator) \nAaron Greenbaum\, Attorney\, Pusateri Johnston Guillot & Greenbaum LLC  \nAaron Greenbaum is a founding member of Pusateri\, Johnston\, Guillot & Greenbaum\, LLC located in New Orleans\, LA. Aaron is a Proctor in Admiralty\, a member of the Federal Bar Association\, and he recently served as Chair of the Admiralty and Maritime Committee for the American Bar Association’s Tort Trial & Insurance Practice Section. His practice covers a wide range of brown and blue water maritime matters\, including Jones Act defense\, insurance coverage\, attachment and arrest\, collisions and casualties\, towage\, and salvage disputes. \nJohn Fulweiler\, Attorney\, Fulweiler LLC \nJohn K. Fulweiler\, Jr. is an experienced maritime attorney and is recognized as a Proctor-In-Admiralty by the Maritime Law Association of the United States.  He has the helm of his own maritime law firm with its office in Newport\, Rhode Island and which represents individuals and claimants on the East and Gulf Coasts.  John possesses significant experience in successfully prosecuting claims for salvage\, maritime personal injury and wrongful death.  In addition\, John has pursued class action status in maritime product liability matters.  Licensed to practice law in numerous jurisdictions including Rhode Island\, New York and Florida\, John excels in the courtroom blending his legal skills with his practical maritime experience as a licensed United States Coast Guard mariner.  He is often in the media writing regularly for various maritime publications and as an expert in maritime legal matters on television\, radio and the internet. \n\nRegistration\nRegistration is Closed \nRegistration for this event will close Monday\, November 15 at 11 AM ET.  \n\nAdmiralty Law Section Member – Complimentary \nFBA Member – $25\nNonmember – Join the FBA to access this roundtable discussion!\n\n\nGround Rules for Roundtable Meeting: \n\nStatements made by government employees are made in their personal capacity and may not be relied upon as an authorized statement of any government agency.\nNo recording devices allowed.
URL:https://www.fedbar.org/event/admiralty-law-section-finders-keepers-developments-in-marine-salvage-law/
END:VEVENT
END:VCALENDAR